BEGIN:VCALENDAR
VERSION:2.0
PRODID:-//https://techplay.jp//JP
CALSCALE:GREGORIAN
METHOD:PUBLISH
X-WR-CALDESC:無料共催ウェビナーのお知らせ「広告・診断
 コンテンツ×ナーチャリングで成功！ BtoBのリード獲得
 ・育成のワンストップ戦略」
X-WR-CALNAME:無料共催ウェビナーのお知らせ「広告・診断
 コンテンツ×ナーチャリングで成功！ BtoBのリード獲得
 ・育成のワンストップ戦略」
X-WR-TIMEZONE:Asia/Tokyo
BEGIN:VTIMEZONE
TZID:Asia/Tokyo
BEGIN:STANDARD
DTSTART:19700101T000000
TZOFFSETFROM:+0900
TZOFFSETTO:+0900
TZNAME:JST
END:STANDARD
END:VTIMEZONE
BEGIN:VEVENT
UID:945089@techplay.jp
SUMMARY:無料共催ウェビナーのお知らせ「広告・診断コン
 テンツ×ナーチャリングで成功！ BtoBのリード獲得・育
 成のワンストップ戦略」
DTSTART;TZID=Asia/Tokyo:20240523T120000
DTEND;TZID=Asia/Tokyo:20240523T130000
DTSTAMP:20260420T154341Z
CREATED:20240515T101147Z
DESCRIPTION:イベント詳細はこちら\nhttps://techplay.jp/event/94508
 9?utm_medium=referral&utm_source=ics&utm_campaign=ics\n\n▼お申込み
 フォームhttps://event.neo-m.jp/20240523webinar/\n\nイベント概要
 ※TECH PLAYでのお申込みでは登録完了となりません。記
 載されているURLにてお手続きのほどよろしくお願いい
 たします。※同業他社様のお申込み、個人でのお申込
 みはお断りしております。あらかじめご了承ください
 。\n【概要】BtoB市場では、単にリードを獲得するだけ
 では不十分であり効率的に育成し、意義のある商談を
 組む必要があります。本ウェビナーでは、リードを獲
 得し質の高い商談へ繋げるための、広告運用・診断コ
 ンテンツ・リードナーチャリングを解説いたします。
 具体的な施策からナーチャリングの仕組み化までワン
 ストップで学べるのでぜひご参加ください。\n第一部
 ：プライムナンバーズ株式会社「BtoBビジネスで受注ベ
 ースのリードを効率的に獲得する広告運用とは」第二
 部：株式会社ピクルス「取りこぼしリードを問い合わ
 せに繋げる診断コンテンツマーケティング」第三部：
 株式会社ネオマーケティング「コロナ禍でも売上2倍を
 実現した「HubSpotを活用したリードナーチャリング」の
 事例公開」\n【このような方は必見です！】・BtoBにお
 けるリード獲得施策やナーチャリングに悩んでいる方
 ・広告施策で成果が上がらない方、もしくはこれから
 広告施策を導入する方・診断ルールの活用を検討して
 いる方・リードナーチャリングの事例を知りたい方\n
 【ウェビナーで学べること】・リード獲得から顧客化
 までやるべきマーケ施策のポイント・広告運用で見込
 みが高いCV獲得ポイントがわかる・ユーザーを行動変
 容させるコンテンツ施策について理解できる・BtoB企業
 のナーチャリング事例を知ることができる\n※セッシ
 ョン内容は予告なく変更することがございますので、
 ご了承ください。\nお申し込みは以下のURLからお願い
 いたします。https://event.neo-m.jp/20240523webinar/※TECH PLAYで
 のお申込みでは登録完了となりません。上記のURLにて
 お手続きのほどよろしくお願いいたします。\n【登壇
 者】小林 大輔 (Daisuke Kobayashi) 氏プライムナンバーズ株
 式会社代表取締役大学を卒業後、某大手代理店のWeb広
 告部門に入社。4年間営業職を勤めたのち広告運用部門
 に異動し、問題を抱えた広告アカウントの建て直しを
 中心にコンサルティングを行う。2012年に退職し、独立
 。プライムナンバーズ株式会社を設立。会社としては
 、「顧客の業種・業態に応じて運用状況を分析し、そ
 の結果をもとに目標達成に向けた戦略的な改善策を提
 案する」という方針を徹底し、大手企業から中堅・中
 小企業までさまざまな業種のアカウントを運用し、成
 果を伸ばすことに注力している。\n小笠原 健太 (Kenta Og
 asawara) 氏株式会社ピクルスヨミトル事業部 アカウント
 コンサルタントクリエイティブ系人材でセールスを経
 験後、2022年ピクルスに入社。SNSキャンペーンツール「
 キャンつく」でX（前Twitter）をはじめ、Instagramなどを
 活用したSNSマーケティングを支援。現在は、「診断ク
 ラウド ヨミトル」セールス＆アカウントコンサルトと
 して従事。集客〜リード獲得〜CVR向上と企業のマーケ
 ティングフェーズに合わせた、効果的な施策を提案を
 している。\n加藤 賢大株式会社ネオマーケティング新
 規事業開発室 責任者マーケティングリサーチャ―とし
 てキャリアをスタートし、BtoB、BtoCかかわらず戦略立
 案や施策実行を支援。自社マーケティングにおいても
 、戦略提案や業務提携、ウェビナー登壇やコラム執筆
 などを担当。その後、自社D2Cのブランドマネージャー
 を経て、現在は新規事業開発室の責任者としてクライ
 アントのBtoBマーケに伴走。\n【開催概要】開催日時：2
 024年5月23日 (木)　12:00～13:00参加料：無料視聴方法：Zoo
 m配信参加人数：200名お申込みURL：https://event.neo-m.jp/2024
 0523webinar/\n【当日の参加URLについて】登録後、自動で (
 no-reply@zoom.us) から送信されます。参加URLのご案内が届
 かない方はお手数ですが (toiawase@neo-m.jp) までご連絡く
 ださい。ご注意：Wi-Fi環境など高速通信が可能な電波
 の良い所でご視聴ください。
LOCATION:
URL:https://techplay.jp/event/945089?utm_medium=referral&utm_source=ics&utm
 _campaign=ics
END:VEVENT
END:VCALENDAR
