BEGIN:VCALENDAR
VERSION:2.0
PRODID:-//https://techplay.jp//JP
CALSCALE:GREGORIAN
METHOD:PUBLISH
X-WR-CALDESC:AIとの共存による営業組織の再設計 – AIが営
 業に及ぼす影響と現状の最適解 –
X-WR-CALNAME:AIとの共存による営業組織の再設計 – AIが営
 業に及ぼす影響と現状の最適解 –
X-WR-TIMEZONE:Asia/Tokyo
BEGIN:VTIMEZONE
TZID:Asia/Tokyo
BEGIN:STANDARD
DTSTART:19700101T000000
TZOFFSETFROM:+0900
TZOFFSETTO:+0900
TZNAME:JST
END:STANDARD
END:VTIMEZONE
BEGIN:VEVENT
UID:945141@techplay.jp
SUMMARY:AIとの共存による営業組織の再設計 – AIが営業に
 及ぼす影響と現状の最適解 –
DTSTART;TZID=Asia/Tokyo:20240530T103000
DTEND;TZID=Asia/Tokyo:20240530T120000
DTSTAMP:20260420T110411Z
CREATED:20240516T012258Z
DESCRIPTION:イベント詳細はこちら\nhttps://techplay.jp/event/94514
 1?utm_medium=referral&utm_source=ics&utm_campaign=ics\n\nAIとの共存
 による営業組織の再設計 – AIが営業に及ぼす影響と現
 状の最適解 –\n― AI時代の新たな競争力の源泉「人とA
 I 協調の最適解」\nAI 技術の急速な進化により、営業領
 域で大きな変革が訪れようとしています。2040年までに
 主要な営業業務の AI 実用化が進むとも言われており、
 AI は単なる業務効率化だけでなく、顧客対応スタイル
 、データ活用の仕方、組織のあり方など、営業そのも
 のの概念を一新する可能性を秘めています。\nこのよ
 うな AI 活用をめぐる機運が高まる中で、以下のような
 背景から AI に対する適切な対応に苦慮している企業は
 多いのではないでしょうか。\n\nAIツールの選定や導入
 に失敗し、期待した効果が出ない\n人間の業務を AI に
 置き換えることに対する不安がある\nAI データ活用に
 おける個人情報保護やセキュリティ面に不安がある\n\n
 本ウェビナーでは、弊社 代表取締役CEO 村尾をモデレ
 ーターに、製品開発責任者の土肥をはじめとする製品
 開発陣から、AI が営業領域に及ぼす影響を解説すると
 ともに、人と AI の共存に関する現状の最適解をご紹介
 します。\nAI に関する正しい理解と生産性の高い営業
 組織づくりにご関心のある方は、是非この機会をお見
 逃しなく、ご参加くださいませ。\nこのような方にお
 すすめ\n\nAI を活用して営業オペレーションを変革し、
 営業生産性を高めたい\n営業活動に AI 技術を具体的に
 どう活用できるのか知りたい\n最新の営業における AI 
 活用の事例に関心がある\n\n概要\n\n\n\n\n\n\n\n\n\n対象\n
 経営層 / 事業責任者 / 営業責任者 / 営業企画 / DX推進\n
 \n\n日時\n2024年5月30日（木） 10:30-12:00\n\n\n内容\nモデレ
 ーターを務める弊社の代表取締役CEO 村尾と、製品開発
 責任者の土肥、プロダクトマネージャーの佐藤、Digital
  Ops 部門の越後谷によるディスカッション形式での講
 演です。●テーマ・営業領域における AI 活用のトレン
 ド・AI と人間の役割分担（AI が代替すること、人間が
 担うべきこと）・AI を活用した競争力の高い営業組織
 を作るためのポイント・Magic Moment が提案する「人とAI 
 協調の最適解」とは\n\n\n会場\nオンライン（Zoom）\n\n\n
 費用\n無料\n\n\n参加方法\nお申し込みフォームからご登
 録後、ウェビナー開催前日・当日に視聴用URLをご案内
 させていただきます。\n\n\nご不明点・ご質問\n弊社ホ
 ームページよりお問い合わせください。\n\n\n注意事項\
 n＊同業他社様のご参加はご遠慮いただいております。
 ＊弊社からのメールを配信を解除されている方は、お
 手数ですが、申込時に表示される再配信設定にて再登
 録をよろしくお願いいたします。当日の Zoom URL を送付
 させていただきます。【プライバシーポリシーについ
 て】今回ご提供いただく個人情報は、プライバシーポ
 リシーに基づき厳重に管理いたします。株式会社Magic M
 oment 個人情報保護方針\n\n\n
LOCATION:
URL:https://techplay.jp/event/945141?utm_medium=referral&utm_source=ics&utm
 _campaign=ics
END:VEVENT
END:VCALENDAR
