BEGIN:VCALENDAR
VERSION:2.0
PRODID:-//https://techplay.jp//JP
CALSCALE:GREGORIAN
METHOD:PUBLISH
X-WR-CALDESC:新しいCDPでデータ活用の課題解決をしよう！
 【ランチタイムの勉強会｜無料ウェビナー】
X-WR-CALNAME:新しいCDPでデータ活用の課題解決をしよう！
 【ランチタイムの勉強会｜無料ウェビナー】
X-WR-TIMEZONE:Asia/Tokyo
BEGIN:VTIMEZONE
TZID:Asia/Tokyo
BEGIN:STANDARD
DTSTART:19700101T000000
TZOFFSETFROM:+0900
TZOFFSETTO:+0900
TZNAME:JST
END:STANDARD
END:VTIMEZONE
BEGIN:VEVENT
UID:945611@techplay.jp
SUMMARY:新しいCDPでデータ活用の課題解決をしよう！【ラ
 ンチタイムの勉強会｜無料ウェビナー】
DTSTART;TZID=Asia/Tokyo:20240612T123000
DTEND;TZID=Asia/Tokyo:20240612T130000
DTSTAMP:20260424T100409Z
CREATED:20240520T064539Z
DESCRIPTION:イベント詳細はこちら\nhttps://techplay.jp/event/94561
 1?utm_medium=referral&utm_source=ics&utm_campaign=ics\n\n新しいCDPで
 データ活用の課題解決をしよう！【ランチタイムの勉
 強会｜無料ウェビナー】\n開催背景\n貴社では、CDP（カ
 スタマーデータプラットフォーム）を活用しています
 か？\nCDPとは、顧客一人一人のデータを収集・管理・
 分析を行うデータプラットフォームのことを指します
 。現代のマーケティング活動では、顧客一人ひとりに
 合わせた施策を行うために重要なプラットフォームで
 す。\nデータ収集から管理、分析まで便利に使えるCDP
 ですが、活用する中で以下のような課題が出ていると
 いう声を耳にすることが増えてきました。\n・CDPの中
 に不要なデータも入ってしまいうまく整理が出来ない
 ・データが増えて運用コストが高くなってきた・他のM
 Aツールとの連携が難しい・そもそもうまく使いこなせ
 ない・・・　など\nそこで、上記の課題解決を手助け
 する新しいCDPが注目を集めています。それが『コンポ
 ーザブルCDP』です。従来のCDPよりシンプルに必要なデ
 ータだけを連携することができるため、近年グローバ
 ルでも関心度が高まっています。\n\n今回の勉強会では
 、『新しいCDP』をテーマに、マーケティング活動にCDP
 がどのように役立っているのか、また既存のCDP活用に
 おける悩みに対して新しいCDPがどのような手助けをし
 てくれるのか解説していきます。\nこの勉強会を通し
 て、他の企業よりワンランク上の施策を展開してみま
 せんか？\nこんな人におすすめ\n・自社データは溜まっ
 ているのに使い方が分からない方・マーケティング活
 動の中でデータがうまく使えていないと感じている方
 ・自社の顧客データ管理・分析を見直している方\n開
 催概要\n日程：2024年6月12日（水）時間：12:30～13:00会場
 ：オンライン​（zoomウェビナー）参加：無料​※同業
 者・競合する方、個人（フリーランスや学生など）の
 方からのお申込みはお断りさせていただきます。※ご
 登録情報から所属先が不明な方（フリーアドレスなど
 ）は、主催者都合によりお申込をお断りする場合がご
 ざいますのでご了承ください。※参加者の方へは、後
 日視聴URLをメールにてお送りいたします。\n講演内容\n
 ・CDPが重要とされている背景、現状・そもそもCDPはど
 のような種類があるのか・その中での企業の悩み・解
 決法として、新しいCDPの登場・新しいCDP『コンポーザ
 ブルCDP』とは？※スケジュールは予告なく変更される
 場合がございます。\n登壇者\n\n小林 佑樹\nグロースマ
 ーケティング部 セールスユニット チーフセールスエ
 ンジニア @株式会社DearOne2021年にDearOne参画。参画後は
 経営企画から始まりグロースマーケティング部のソリ
 ューションコンサルティング部門などを経験。これま
 でに大手通信会社へAmplitudeをはじめとした、海外MarTech
 ツールの導入プロジェクトなどを推進。現在は海外最
 新ツールの日本市場導入に向けた調査からセールスエ
 ンジニアリングまでを担当。モダンデータスタック領
 域で主にCDPツールを担当。\n参加者対象\n・プロダクト
 マネージャー・IT戦略担当者・データ基盤担当者・デ
 ジタルマーケティング担当者・DX推進担当者・EC、アプ
 リ運営担当者\n注意事項\n※ご視聴には、事前にzoom5.0
 以上（無料アプリ・最新版）が必要です。事前に動作
 確認をお願い致します。※ビジネスセミナーにつき、
 ご登録は会社のメールアドレスにてお願い致します。
 ※同業者・競合する方、個人（フリーランスや学生な
 ど）の方からのお申込みはお断りさせていただきます
 。※ご登録情報から所属先が不明な方は、主催者都合
 によりお申込をお断りする場合がございますのでご了
 承ください。※必ずご参加者ご自身でのお申し込みを
 お願いいたします。\n主催\n株式会社DearOne　（代表取
 締役社長　河野 恭久／〒105-0001 東京都港区虎ノ門 3-8-8
  NTT虎ノ門ビル 4F）\n事務局\nwebinar@dearone.io\nセミナーお
 申込時の個⼈情報の取り扱いについて\nセミナーお申
 込時の個人情報の取扱いについて、以下のリンク先を
 ご確認いただき、内容に同意した上でお申し込みくだ
 さい。\n株式会社DearOne セミナーお申し込み時の個人情
 報の取り扱いについてhttps://growth-marketing.jp/webinar_privacy
LOCATION:
URL:https://techplay.jp/event/945611?utm_medium=referral&utm_source=ics&utm
 _campaign=ics
END:VEVENT
END:VCALENDAR
