BEGIN:VCALENDAR
VERSION:2.0
PRODID:-//https://techplay.jp//JP
CALSCALE:GREGORIAN
METHOD:PUBLISH
X-WR-CALDESC:予測が困難な時代に立ち向かう仲間のための
 企業変革ラウンドテーブル「SOCIUS 2024」
X-WR-CALNAME:予測が困難な時代に立ち向かう仲間のための
 企業変革ラウンドテーブル「SOCIUS 2024」
X-WR-TIMEZONE:Asia/Tokyo
BEGIN:VTIMEZONE
TZID:Asia/Tokyo
BEGIN:STANDARD
DTSTART:19700101T000000
TZOFFSETFROM:+0900
TZOFFSETTO:+0900
TZNAME:JST
END:STANDARD
END:VTIMEZONE
BEGIN:VEVENT
UID:945629@techplay.jp
SUMMARY:予測が困難な時代に立ち向かう仲間のための企業
 変革ラウンドテーブル「SOCIUS 2024」
DTSTART;TZID=Asia/Tokyo:20240529T180000
DTEND;TZID=Asia/Tokyo:20240529T200000
DTSTAMP:20260420T081937Z
CREATED:20240520T100830Z
DESCRIPTION:イベント詳細はこちら\nhttps://techplay.jp/event/94562
 9?utm_medium=referral&utm_source=ics&utm_campaign=ics\n\n予測が困難
 な時代に立ち向かう仲間のための企業変革ラウンドテ
 ーブル「SOCIUS2024」\n概要\nVision：仲間をつくろう、未
 来をつくろう\n企業変革ラウンドテーブルのねらい✦
 企業変革に関連するテーマを業界・業種が異なる多様
 な人が相互に意見を出し合い議論することでより学び
 を深める✦企業変革に携わる/挑む変革者仲間を作る✦
 ライセンスフリーのアウトプットを各社に持ち帰り、
 自社変革活動に活用する\n現代の企業は取り巻く環境
 の変化により、既存の価値観やビジネスモデルなどの
 変革が求められています。その変化のスピードは確実
 に速まっており、取り組むべき課題も多岐に渡り複雑
 化しています。\n例えば、\n・　GX（グリーントランス
 フォーメーション）や地方創生などの社会課題への対
 応・　リスキリングなどの人的資本経営の実践・　生
 成AIやサーバーセキュリティなどのデジタル環境変化
 への対応\n個々の課題が重要なのは当然ですが、それ
 以上に取り組む人たちの知識、スキル、そして熱意が
 変革の成否を握っています。直面しているのは、自ら
 の業務や会社、業界、地域や国を超えて広がる課題。
 この高い壁に立ち向かう人たちには、つながり、学び
 を深め、助け合う、そのような場が必要です。\n『企
 業変革ラウンドテーブル』は、同じ志をもった人たち
 が仲間となり、未来について考え、議論し、創り上げ
 ていく場所です。\nウルシステムズは、企業を強化す
 ることで日本社会に貢献することを目指しており、幅
 広い業種の知見と課題解決に導くスキルで皆様の活動
 をサポートいたします。\nスケジュール\n\n\n\n\n日程\n
 時間\n\n\n\n\nキックオフ\n2024年 5月29日（水）\n18:00-20:00\
 n\n\n中間報告会\n2024年10月16日（水）\n17:00-20:00\n\n\n最終
 報告会\n2025年 3月12日（水）\n17:00-20:00\n\n\n\n※中間・最
 終報告会は予定となります。日程が確定次第、ご連絡
 いたします。※キックオフ、中間・最終報告会後には
 懇親会を予定しています。\n\n参加対象\n\n企業変革に
 本気で挑戦し、積極的に取り組もうという意欲溢れる
 方※2023年度は若手メンバーから管理職までご参加いた
 だきました※若手の他流試合経験としての参加も大歓
 迎ですエンジニア\n\n参加費\n無料\n注意事項\n\nリクル
 ーティング、勧誘など、採用目的でのイベント参加は
 お断りしております。\nキャンセル待ち・補欠・落選
 の方はご参加いただくことが出来ませんのでご了承く
 ださい。\n欠席される場合は、お手数ですが速やかに
 キャンセル処理をお願い致します。\n無断キャンセル
 や欠席が続く場合、次回以降の参加をお断りさせてい
 ただく場合がございます。\n
LOCATION:晴海トリトンスクエアタワー 〒104-6014 東京都中
 央区晴海 1-8-10 トリトンスクエア タワーX 14階
URL:https://techplay.jp/event/945629?utm_medium=referral&utm_source=ics&utm
 _campaign=ics
END:VEVENT
END:VCALENDAR
