BEGIN:VCALENDAR
VERSION:2.0
PRODID:-//https://techplay.jp//JP
CALSCALE:GREGORIAN
METHOD:PUBLISH
X-WR-CALDESC:6/12（水）AWSではじめる、CAD環境導入支援セミ
 ナー開催のお知らせ
X-WR-CALNAME:6/12（水）AWSではじめる、CAD環境導入支援セミ
 ナー開催のお知らせ
X-WR-TIMEZONE:Asia/Tokyo
BEGIN:VTIMEZONE
TZID:Asia/Tokyo
BEGIN:STANDARD
DTSTART:19700101T000000
TZOFFSETFROM:+0900
TZOFFSETTO:+0900
TZNAME:JST
END:STANDARD
END:VTIMEZONE
BEGIN:VEVENT
UID:945881@techplay.jp
SUMMARY:6/12（水）AWSではじめる、CAD環境導入支援セミナー
 開催のお知らせ
DTSTART;TZID=Asia/Tokyo:20240612T150000
DTEND;TZID=Asia/Tokyo:20240612T160000
DTSTAMP:20260423T202207Z
CREATED:20240522T081637Z
DESCRIPTION:イベント詳細はこちら\nhttps://techplay.jp/event/94588
 1?utm_medium=referral&utm_source=ics&utm_campaign=ics\n\n6/12（水）AWS
 ではじめる、CAD環境導入支援セミナー\n概要\n株式会社
 TOKAIコミュニケーションズは、2024年6月12日（水）に、A
 WSで実現できるCAD環境導入支援セミナーを開催します
 。※本セミナーは、2024年1月に実施したウェビナーの
 アーカイブ配信となります。\nCAD環境を準備するには
 、高スペックなコンピュータの導入や専用アプリケー
 ションの契約など、コストと時間がかかります。また
 導入後も、一定の期間が経つとコンピュータのスペッ
 ク増強が課題になるかと思います。そのうえ、高スペ
 ックな環境はそう簡単に持ち運ぶこともできず、作業
 場所が限定されてしまいがちというお悩みを持つ方も
 いるのではないでしょうか。\n今回は、AWSを利用したCA
 D環境の構築方法のポイント、利用するAWSサービスの紹
 介、Amazon WorkSpacesでの構築例・コスト試算例などをご
 説明します。講演では、事例やサンプルケースを交え
 ながら、実際の利用イメージが持てる内容をご紹介し
 ます。現在CADを利用中の方、運用負荷やコストをおさ
 えたい方に、是非ご参加いただきたいセミナーです。\
 n\n\nこんな方にオススメです\n・CADコンピューターを利
 用したいが、費用に課題を感じている・CAD環境を、外
 出先や好きな場所から利用できるようにしたい・AWSでC
 ADを利用する基礎知識を知りたい・CAD導入時の初期費
 用や運用の手間を無くしたい・サンプルケースや事例
 から、利用イメージをもちたい\nセミナー名称\nいまは
 CADもクラウドで動かす時代！AWS CADの構成・試算・事例
 ・サービス比較を教えます！\nタイムスケジュール\n\n\
 n\n時間\n内容\n\n\n\n\n14:45～15:00\n受付開始\n\n\n15:00～15:05
 \n講演開始のご案内\n\n\n15:05～15:20\n製造業の設計開発
 でのDX化講師：アマゾン ウェブ サービス ジャパン 合
 同会社\n\n\n15:20～15:30\nCAD利用におけるAWS EUC講師：アマ
 ゾン ウェブ サービス ジャパン 合同会社\n\n\n15:30～15:4
 5\n導入時のつまづきやすいポイントを徹底解説講師：
 株式会社TOKAIコミュニケーションズ\n\n\n15:45～15:50\n講
 演終了のご案内\n\n\n\n参加費\n無料\n参加方法\n申込ペ
 ージからお申込みをお願いします。※お申込み期限　
 開催日当日の14:30までZoomウェビナーを使用し、開催し
 ます。事前にZoomウェビナーにアクセスできるブラウザ
 環境（Google Chrome、MozillFirefox）を準備いただき、環境
 チェックをお願いします。（環境チェックURL　 https://z
 oom.us/test）\n※同業他社の方のお申込み/ご参加はお断
 りしております。\n共催\n株式会社TOKAIコミュニケーシ
 ョンズアマゾン ウェブ サービス ジャパン 合同会社\n
 注意事項\n\nリクルーティング、勧誘など、採用目的で
 のイベント参加はお断りしております。\nキャンセル
 待ち・補欠・落選の方はご参加いただくことが出来ま
 せんのでご了承ください。\n欠席される場合は、お手
 数ですが速やかにキャンセル処理をお願い致します。\
 n無断キャンセルや欠席が続く場合、次回以降の参加を
 お断りさせていただく場合がございます。\n申込時ア
 ンケートを正確に回答頂けていない場合、個別にご連
 絡させていただく場合がございます。\n
LOCATION:
URL:https://techplay.jp/event/945881?utm_medium=referral&utm_source=ics&utm
 _campaign=ics
END:VEVENT
END:VCALENDAR
