BEGIN:VCALENDAR
VERSION:2.0
PRODID:-//https://techplay.jp//JP
CALSCALE:GREGORIAN
METHOD:PUBLISH
X-WR-CALDESC:【脆弱性診断のプロがひも解く】誰にも聞け
 なかった正しい脆弱性診断の進め方～診断ガイド解説
 付～
X-WR-CALNAME:【脆弱性診断のプロがひも解く】誰にも聞け
 なかった正しい脆弱性診断の進め方～診断ガイド解説
 付～
X-WR-TIMEZONE:Asia/Tokyo
BEGIN:VTIMEZONE
TZID:Asia/Tokyo
BEGIN:STANDARD
DTSTART:19700101T000000
TZOFFSETFROM:+0900
TZOFFSETTO:+0900
TZNAME:JST
END:STANDARD
END:VTIMEZONE
BEGIN:VEVENT
UID:946021@techplay.jp
SUMMARY:【脆弱性診断のプロがひも解く】誰にも聞けなか
 った正しい脆弱性診断の進め方～診断ガイド解説付～
DTSTART;TZID=Asia/Tokyo:20240619T130000
DTEND;TZID=Asia/Tokyo:20240619T180000
DTSTAMP:20260424T035519Z
CREATED:20240524T012604Z
DESCRIPTION:イベント詳細はこちら\nhttps://techplay.jp/event/94602
 1?utm_medium=referral&utm_source=ics&utm_campaign=ics\n\n開催日\n※
 内容は各回共通です①2024年5月23日(木)　13:00～14:00（開
 催終了）②2024年5月23日(木)　17:00～18:00（開催終了）③
 2024年6月19日(水)　13:00～14:00④2024年6月19日(水)　17:00～1
 8:00\nセミナー概要\n「脆弱性診断をいつ実施したらよ
 いかわからない」「必要性は理解しているが、いつ、
 なにを、どのように準備すればよいのかわからない」
 「社内でどのように脆弱性診断を検討すればよいかわ
 からない」といった声を度々お聞きします。\n本セミ
 ナーは、脆弱性診断の疑問にお答えするセミナーです
 。\nサイバー攻撃の巧妙化や新しい技術開発にともな
 う新しい脆弱性の発見などを背景に、セキュリティ対
 策の向上に向けた脆弱性診断の実施が求められていま
 す。しかし、現場では、脆弱性診断をどのように進め
 たらよいのかわからないというご相談をいただくこと
 が多いのが実態です。弊社では、このような疑問にお
 答えするために、脆弱性診断の基本的な情報をまとめ
 た「脆弱性診断ガイド」（※）を作成しました。\n本
 セミナーでは、この「脆弱性診断ガイド」にもとづき
 、脆弱性診断の「実施タイミング」「実施計画の立て
 方」「実施準備」「実施の流れ」など、診断を進める
 にあたって必要な情報を具体的に専門家が解説します
 。実際の企業での取り組み事例を交えながらリアルな
 情報提供をさせていただきます。\n※脆弱性診断ガイ
 ドとは脆弱性診断の進め方や検討方法など、脆弱性診
 断に関する基本的な情報や組織内で決めておくべき事
 項についての情報提供を目的に弊社が作成した資料で
 す。脆弱性診断の規定文書の雛形としても活用いただ
 くことができます。脆弱性診断ガイドは以下よりダウ
 ンロード可能です。https://service.shiftinc.jp/resources/9731/ 
 ＜こんな方におすすめ＞\n\n脆弱性診断実施に向けて情
 報収集をされている方\n過去脆弱性診断を実施したが
 、今後どのよう実施すべきか迷っている方\n脆弱性診
 断の重要性を社内で共通認識とし、定着化させていき
 たい方\n\n※競合各社様からのご参加はお断りさせてい
 ただきます。\nお申込み先\nお申込みはこちら\n※動画
 視聴方法につきましては、お申し込みいただいた方へ
 のみご案内させていただきます。※当イベントは弊社
 が提供するオンラインセミナーシステム上で開催しま
 す。※同業他社・競合他社様、個人様のお申し込みは
 お断りする場合がございます。※Gmailなどのフリーメ
 ールアドレスはご参加登録いただけません。\n登壇者\n
 株式会社マスラボ／株式会社 SHIFT SECURITYテクニカルコ
 ンサルタント中村 雄大\n■経歴■国内パッケージソフ
 トウェアベンダーを経て、株式会社SHIFT、SHIFT SECURITYに
 参画。脆弱性診断における導入支援や年間計画の策定
 、診断の実施からフォローまで幅広く、多くの企業に
 寄り添うコンサルタントとして従事。社内での脆弱性
 診断の重要性や定着化に向けた支援を中心に、お客様
 のセキュリティ課題解決を担う。\n※講師および講演
 内容は一部変更になる場合がございます\n開催概要\n開
 催日：　※内容は各回共通です①2024年5月23日(木)　13:0
 0～14:00（開催終了）②2024年5月23日(木)　17:00～18:00（開
 催終了）③2024年6月19日(水)　13:00～14:00④2024年6月19日(
 水)　17:00～18:00\n参加料：無料視聴方法：オンラインセ
 ミナーシステムにて開催お申込みはこちら※動画視聴
 方法につきましては、お申し込みいただいた方へのみ
 ご案内させていただきます。※当イベントは弊社が提
 供するオンラインセミナーシステム上で開催します。
 ※同業他社・競合他社様、個人様のお申し込みはお断
 りする場合がございます。※Gmailなどのフリーメール
 アドレスはご参加登録いただけません。\n■個人情報
 保護方針について当社は、ご入力いただいた個人情報
 を、以下の目的でSHIFTグループ企業と共同で利用する
 ことがあります。・本セミナーの運営・お問合せへの
 対応・製品・サービス、セミナーに関するご案内個人
 情報の取り扱いについてはこちらをご参照いただき、
 同意の上お申し込みください。株式会社SHIFTプライバ
 シーポリシー：https://www.shiftinc.jp/privacy/\nハッシュタグ
 \n#techplayjp
LOCATION:
URL:https://techplay.jp/event/946021?utm_medium=referral&utm_source=ics&utm
 _campaign=ics
END:VEVENT
END:VCALENDAR
