BEGIN:VCALENDAR
VERSION:2.0
PRODID:-//https://techplay.jp//JP
CALSCALE:GREGORIAN
METHOD:PUBLISH
X-WR-CALDESC:生成AIで社内データを活用するために必要なこ
 ととは？
X-WR-CALNAME:生成AIで社内データを活用するために必要なこ
 ととは？
X-WR-TIMEZONE:Asia/Tokyo
BEGIN:VTIMEZONE
TZID:Asia/Tokyo
BEGIN:STANDARD
DTSTART:19700101T000000
TZOFFSETFROM:+0900
TZOFFSETTO:+0900
TZNAME:JST
END:STANDARD
END:VTIMEZONE
BEGIN:VEVENT
UID:946230@techplay.jp
SUMMARY:生成AIで社内データを活用するために必要なこと
 とは？
DTSTART;TZID=Asia/Tokyo:20240620T110000
DTEND;TZID=Asia/Tokyo:20240620T113000
DTSTAMP:20260421T183930Z
CREATED:20240528T061553Z
DESCRIPTION:イベント詳細はこちら\nhttps://techplay.jp/event/94623
 0?utm_medium=referral&utm_source=ics&utm_campaign=ics\n\n概要\n生成AI
 の普及によって、多くの企業が業務に生成AIを取り入
 れようとしている昨今、セキュリティやハルシネーシ
 ョン等の問題により業務への導入にお悩みの方が増え
 ているのではないでしょうか。\n・業務で生成AIを使う
 ためにはどのような工夫が必要か？・社内で生成AI環
 境を持つことのメリットとはなにか？\n実際に「Azure Op
 enAI Service」を使って生成AI環境の構築を進めたエンジ
 ニア3人によるトークセッションを行います。\nこのよ
 うな事が分かります\n\n生成AIを業務活用するための仕
 組み\n「Azure OpenAI Service」を使ったChatGPT/LLMシステム構
 築、RAGを使った社内データ活用事例\n\nスケジュール\n\
 n\nはじめに\n\n\nAzure OpenAI Serviceとは\n\n\n社内向けChatGPT
 システム\n\n\nプロンプトエンジニアリング\n\n\nRAGを用
 いた社内データ活用\n\n\n※内容は予告なく変更となる
 可能性がございます。\n参加対象\n\n生成AIで安全に社
 内データを扱いたい方\n企業や業務固有の生成AIを構築
 して専門領域で活用したい方\n生成AIと業務システムを
 連携させて新たな活用方法を模索したい方\n\n参加費\n
 無料\n注意事項\n\n本ウェビナーはビデオ会議システム
 「Zoom」を利用いたします。お申し込みいただいたお客
 様に、開催前日までにURLをご連絡いたします。※Zoomは
 Zoom Video Communications\, Inc.の米国およびその他の国にお
 ける登録商標または商標です。\n内容・時間などは告
 知なく変更する場合がございます。\nリクルーティン
 グ、勧誘など、採用目的でのイベント参加はお断りし
 ております。\nキャンセル待ち・補欠・落選の方はご
 参加いただくことが出来ませんのでご了承ください。\
 n欠席される場合は、お手数ですが速やかにキャンセル
 処理をお願い致します。\n無断キャンセルや欠席が続
 く場合、次回以降の参加をお断りさせていただく場合
 がございます。\n競合製品を取り扱っている会社のご
 担当者の方のイベント参加はお断りしております。\n
LOCATION:
URL:https://techplay.jp/event/946230?utm_medium=referral&utm_source=ics&utm
 _campaign=ics
END:VEVENT
END:VCALENDAR
