BEGIN:VCALENDAR
VERSION:2.0
PRODID:-//https://techplay.jp//JP
CALSCALE:GREGORIAN
METHOD:PUBLISH
X-WR-CALDESC:Qlik Cloud データ統合 しっかり学ぶ勉強会 #2 - 
 データパイプラインの作成
X-WR-CALNAME:Qlik Cloud データ統合 しっかり学ぶ勉強会 #2 - 
 データパイプラインの作成
X-WR-TIMEZONE:Asia/Tokyo
BEGIN:VTIMEZONE
TZID:Asia/Tokyo
BEGIN:STANDARD
DTSTART:19700101T000000
TZOFFSETFROM:+0900
TZOFFSETTO:+0900
TZNAME:JST
END:STANDARD
END:VTIMEZONE
BEGIN:VEVENT
UID:946257@techplay.jp
SUMMARY:Qlik Cloud データ統合 しっかり学ぶ勉強会 #2 - デー
 タパイプラインの作成
DTSTART;TZID=Asia/Tokyo:20240611T140000
DTEND;TZID=Asia/Tokyo:20240611T150000
DTSTAMP:20260423T164359Z
CREATED:20240529T003111Z
DESCRIPTION:イベント詳細はこちら\nhttps://techplay.jp/event/94625
 7?utm_medium=referral&utm_source=ics&utm_campaign=ics\n\nQlik Cloud デ
 ータ統合 しっかり学ぶ勉強会 #2 - データパイプライン
 の作成\n概要\nQlik Cloud データ統合は、組織のデータを
 リアルタイムで統合・変換し、あらゆる分析・機械学
 習・デジタルトランスフォーメーションのためのデー
 タパイプラインを構築します。エージェントレスでデ
 ータソースへの負荷や影響を最小限に抑えつつ、高速
 にデータ転送を行ったり、クラウドデータウェアハウ
 スを構築したりすることができます。\n第2回目のウェ
 ブセミナーでは、データパイプライン作成の基本動作
 、データのオンボーディング、データモデルの作成お
 よびデータマートと系列・影響分析について説明しま
 す。\n\n\nタイムスケジュール\n\n\n\n時間\n内容\n\n\n\n\n14
 :00 〜 14:30\nデータパイプライン作成の基本動作\n\n\n14:3
 0 ～ 15:00\nデータマートの作成簡単なデータの変換・管
 理リネージ・インパクト分析\n\n\n\n※ 当日予告なく時
 間配分・内容が変更になる可能性がございます。\n登
 壇者\n\n川畑　英貴\nクリックテックジャパン株式会社
 ソリューション技術部プリセールスチームリード\n\n中
 嶋　翔クリックテック・ジャパン株式会社ソリューシ
 ョン技術部 シニアソリューションアーキテクト\n参加
 対象\nデータ統合、データ移行、データ分析にご興味
 がある方、Qlik製品をお取り扱い頂いているパートナー
 様など、どなたでもご参加いただけます。お気軽にご
 参加ください。\n事前準備\nZoom（Web会議ツール）を使
 用します。あらかじめご利用のPCやタブレット、スマ
 ートフォンにインストールをお願いします。当セミナ
 ーのURLはお申込みいただいた方に、セミナー開催日前
 日までにお知らせいたします。
LOCATION:
URL:https://techplay.jp/event/946257?utm_medium=referral&utm_source=ics&utm
 _campaign=ics
END:VEVENT
END:VCALENDAR
