BEGIN:VCALENDAR
VERSION:2.0
PRODID:-//https://techplay.jp//JP
CALSCALE:GREGORIAN
METHOD:PUBLISH
X-WR-CALDESC:インディペンデント・ディレクター杉浦幹男
 氏が聞く、アート・コンテンツと地域振興シリーズ　v
 ol.2 デザイナーたちの挑戦　～新潟・hickory03travelersの
 取り組み～
X-WR-CALNAME:インディペンデント・ディレクター杉浦幹男
 氏が聞く、アート・コンテンツと地域振興シリーズ　v
 ol.2 デザイナーたちの挑戦　～新潟・hickory03travelersの
 取り組み～
X-WR-TIMEZONE:Asia/Tokyo
BEGIN:VTIMEZONE
TZID:Asia/Tokyo
BEGIN:STANDARD
DTSTART:19700101T000000
TZOFFSETFROM:+0900
TZOFFSETTO:+0900
TZNAME:JST
END:STANDARD
END:VTIMEZONE
BEGIN:VEVENT
UID:946317@techplay.jp
SUMMARY:インディペンデント・ディレクター杉浦幹男氏が
 聞く、アート・コンテンツと地域振興シリーズ　vol.2 
 デザイナーたちの挑戦　～新潟・hickory03travelersの取り
 組み～
DTSTART;TZID=Asia/Tokyo:20240627T193000
DTEND;TZID=Asia/Tokyo:20240627T203000
DTSTAMP:20260420T123220Z
CREATED:20240530T013036Z
DESCRIPTION:イベント詳細はこちら\nhttps://techplay.jp/event/94631
 7?utm_medium=referral&utm_source=ics&utm_campaign=ics\n\nインディペ
 ンデント・ディレクター杉浦幹男氏が聞く、アート・
 コンテンツと地域振興シリーズ　vol.2 デザイナーたち
 の挑戦　～新潟・hickory03travelersの取り組み～\nクリー
 ク･アンド･リバー社（以下C&R社）は、アートやコン
 テンツを活用した地域振興に関心ある、地域企業や自
 治体職員の皆様、コンテンツクリエイター・コンテン
 ツ企業の皆様に向けた、受講無料のウェビナー「杉浦
 幹男氏が聞く、アート・コンテンツと地域振興シリー
 ズ」を開催します。\n全国の地域・自治体で文化政策
 やコンテンツを活用した地域振興施策が注目されてい
 ますが、「その成果が説明しにくい」「推進する自治
 体職員や地域の方々からの間で知識・理解の差が大き
 い」というお悩みをよく耳にすることがあります。\n
 そこで**「文化の部署は初めてで・・・」という自治
 体職員の方や、コンテンツ制作以前に地域の方々との
 コミュニケーション・共通言語に苦戦するコンテンツ
 クリエイター・企業の皆様**に向けたセミナーシリー
 ズを開催します。\n今回のシリーズでは、自治体職員
 の皆さま、行政に提案したいコンテンツクリエイター
 ・企業や芸術文化団体の皆さまに向けて、全国各地で
 地域アーツカウンシルを設立してきた杉浦氏が、芸術
 文化の第一線で活動している多様なゲストを迎え、地
 域振興の効果や行政との関係を踏まえた文化政策の立
 案、導入、評価などについて、ざっくばらんにお聞き
 します。\n第２回となる今回は、「デザイナーたちの
 挑戦」と題して、新潟市で商店街活動を中核としてデ
 ザインによる地域活性化に取り組む迫一成氏をゲスト
 に招き、インディペンデントディレクター杉浦氏との
 ディスカッションを通じて、多様な住民を巻き込み、
 日常の視点から地域を面白くしていくことについて一
 緒に考えてまいります。\nこんな方にオススメ！\n\n地
 方創生・地域振興・街づくりなどに興味のあるクリエ
 イターの方\n地方に拠点を移したいクリエイターの方\n
 行政の仕事をしてみたいクリエイターの方\n地域振興
 に関心ある地域企業の方\n地域振興に取り組んでいる
 自治体職員の方\n\nタイムスケジュール\n\n\n\n時間\n内
 容\nspeaker\n\n\n\n\n19：30～19：35\nオープニング\nC&R社\n\n\n
 19：35～20：20\n講演\nモデレーター：杉浦幹男氏ゲスト
 ：迫一成氏\n\n\n20：20～20：30\n質疑応答\n\n\n\n20：30～\n
 クロージング\n\n\n\n\n※ 当日予告なく時間配分・内容
 が変更になる可能性がございます。\nモデレーター\n杉
 浦　幹男（すぎうら・みきお）氏\nインディペンデン
 ト・ディレクター\n\n東京藝術大学美術学部芸術学科卒
 業、大阪市立大学大学院創造都市研究科修了（学術修
 士）。株式会社三和総合研究所（現、三菱UFJリサーチ
 ＆コンサルティング株式会社）主任研究員、コンテン
 ツ産業を支援するNPO法人等を経て、平成28年3月まで沖
 縄アーツカウンシル プログラム・ディレクターを務め
 る。アーツカウンシル新潟設立とともに、プログラム
 ・ディレクターに就任、令和5年3月退職。\n全国各地の
 アーツカウンシル設立および運営に関わり、文化芸術
 政策のほか、都市・地域における文化産業を含めた地
 方自治政策全般を専門としている。\n\nゲスト\n迫　一
 成（さこ・かずなり）氏\nhickory03travelers代表／合同会
 社アレコレ代表\n\n新潟大学人文学部卒業。2001年にク
 リエイト集団hickory03travelers結成。「日常を楽しもう」
 をコンセプトに上古町商店街にショップと複合施設と
 作業場の活動拠点を置き「地域に根差したデザイン活
 動」を実践。その活動はグッドデザイン賞2015を受賞。
 現場感覚と経験を大事にしイラスト、グラフィックデ
 ザイン、商品開発を軸にデザインと社会を結ぶ活動を
 継続。企画から制作、流通、販売まで行う。地域産業
 との連携、商店街の近隣店舗とのコラボ商品も多数。[
 浮き星][yaetoco]など。新潟の伝統菓子「浮き星」はブラ
 ンド化と販路開拓を実施。売り上げを10倍以上にし後
 継者問題までを解決し現在も進行形で伴走している。
 「そこだから出来ること」を「楽しみながら感謝」す
 る姿勢で、幅広くそして柔らかく活動中。他に、長岡
 造形大学デザイン学科非常勤講師、上古町商店街理事
 長。\n\n参加対象\n行政に提案したいコンテンツクリエ
 イター・企業や芸術文化団体の皆さま地域振興に関心
 ある地域企業や自治体職員の皆様　等\n参加費\n無料\n
 当ウェビナーについて\n\n\nこちらのサイトからもお申
 込みいただくことができます。\n\n\n▼C&R社で実施して
 いるオンライン講座・ウェビナー　一覧ページhttps://ww
 w.c-place.ne.jp/
LOCATION:
URL:https://techplay.jp/event/946317?utm_medium=referral&utm_source=ics&utm
 _campaign=ics
END:VEVENT
END:VCALENDAR
