BEGIN:VCALENDAR
VERSION:2.0
PRODID:-//https://techplay.jp//JP
CALSCALE:GREGORIAN
METHOD:PUBLISH
X-WR-CALDESC:データ活用からビジネスインサイト創出まで
 ！データ分析の力で未来を拓く！〜 BigQuery + TROCCO®で
 はんなり with primeNumber 〜
X-WR-CALNAME:データ活用からビジネスインサイト創出まで
 ！データ分析の力で未来を拓く！〜 BigQuery + TROCCO®で
 はんなり with primeNumber 〜
X-WR-TIMEZONE:Asia/Tokyo
BEGIN:VTIMEZONE
TZID:Asia/Tokyo
BEGIN:STANDARD
DTSTART:19700101T000000
TZOFFSETFROM:+0900
TZOFFSETTO:+0900
TZNAME:JST
END:STANDARD
END:VTIMEZONE
BEGIN:VEVENT
UID:946458@techplay.jp
SUMMARY:データ活用からビジネスインサイト創出まで！デ
 ータ分析の力で未来を拓く！〜 BigQuery + TROCCO®ではん
 なり with primeNumber 〜
DTSTART;TZID=Asia/Tokyo:20240628T160000
DTEND;TZID=Asia/Tokyo:20240628T170000
DTSTAMP:20260424T022706Z
CREATED:20240601T022341Z
DESCRIPTION:イベント詳細はこちら\nhttps://techplay.jp/event/94645
 8?utm_medium=referral&utm_source=ics&utm_campaign=ics\n\nデータ活用
 からビジネスインサイト創出まで！データ分析の力で
 未来を拓く！〜 BigQuery + TROCCO®ではんなり with primeNumber
  〜\n概要\n本セミナーでは、Google Cloud の最新データ分
 析ソリューションである BigQuery、BigQuery ML 、Looker Studio
  について紹介し、これらのツールを活用したデータ分
 析の成功事例を共有します。また、データ分析基盤の
 構築・運用に関するノウハウについても解説します。B
 igQuery ML 、TROCCO® についてはデモンストレーションも
 行います。現地は京都リサーチパークから、G-gen と pri
 meNumber の共同形式でご案内します。セミナーはオンラ
 インと会場のハイブリッド形式で開催し、全国どこか
 らでもご参加いただけます。当日はイメージを共有す
 るために、デモンストレーションを交えながら Google Cl
 oud が持つ世界観をお伝えできればと企画しております
 。\n現地参加特典：イベント終了後に無料相談会を実
 施します\nタイムスケジュール\n\n\n\n時間\n内容\n\n\n\n\n
 15:30〜\n受付開始\n\n\n16:00〜16:50\n◆講師株式会社G-gen営
 業1課 森本 健誉クラウドエンジニアリング課 道下 千
 晃株式会社 primeNumberカスタマーサクセス本部 Account Exec
 utive 塚本 翔太\n\n\n16:50-17:00\n質問コーナー、アンケー
 トのご案内\n\n\n\n※ 当日予告なく時間配分・内容が変
 更になる可能性がございます。\n参加対象\n\nデータの
 利活用に興味のある方\nデータ分析基盤の構築方法を
 知りたい方\n実際の導入事例を知りたい方\nデータ分析
 ツールの導入をご検討されている方\n\n参加費\n無料\n
 注意事項\n\nリクルーティング、勧誘など、採用目的で
 のイベント参加はお断りしております。\nキャンセル
 待ち・補欠・落選の方はご参加いただくことが出来ま
 せんのでご了承ください。\n欠席される場合は、お手
 数ですが速やかにキャンセル処理をお願い致します。\
 n無断キャンセルや欠席が続く場合、次回以降の参加を
 お断りさせていただく場合がございます。\n大変恐縮
 ではございますが、同業・競合他社の皆様につきまし
 ては、セミナーへの参加をご遠慮いただいております
 。\n
LOCATION:京都リサーチパーク 1号館４F・B会議室 〒600-8813
 　京都市下京区中堂寺南町134
URL:https://techplay.jp/event/946458?utm_medium=referral&utm_source=ics&utm
 _campaign=ics
END:VEVENT
END:VCALENDAR
