BEGIN:VCALENDAR
VERSION:2.0
PRODID:-//https://techplay.jp//JP
CALSCALE:GREGORIAN
METHOD:PUBLISH
X-WR-CALDESC:【参加特典あり・旅行観光業界必見！】観光
 サイトのフォロワーが1ヶ月で3\,860名増加！観光地の魅
 力を最大限引き出すSNSマーケティング
X-WR-CALNAME:【参加特典あり・旅行観光業界必見！】観光
 サイトのフォロワーが1ヶ月で3\,860名増加！観光地の魅
 力を最大限引き出すSNSマーケティング
X-WR-TIMEZONE:Asia/Tokyo
BEGIN:VTIMEZONE
TZID:Asia/Tokyo
BEGIN:STANDARD
DTSTART:19700101T000000
TZOFFSETFROM:+0900
TZOFFSETTO:+0900
TZNAME:JST
END:STANDARD
END:VTIMEZONE
BEGIN:VEVENT
UID:946675@techplay.jp
SUMMARY:【参加特典あり・旅行観光業界必見！】観光サイ
 トのフォロワーが1ヶ月で3\,860名増加！観光地の魅力を
 最大限引き出すSNSマーケティング
DTSTART;TZID=Asia/Tokyo:20240712T140000
DTEND;TZID=Asia/Tokyo:20240712T143000
DTSTAMP:20260422T184820Z
CREATED:20240605T061923Z
DESCRIPTION:イベント詳細はこちら\nhttps://techplay.jp/event/94667
 5?utm_medium=referral&utm_source=ics&utm_campaign=ics\n\n【旅行観光
 業界必見！】観光サイトのフォロワーが1ヶ月で3\,860名
 増加！観光地の魅力を最大限引き出すSNSマーケティン
 グ\n✳︎✳︎✳︎✳︎✳︎参加特典✳︎✳︎✳︎✳︎
 ✳︎ウェビナー参加者全員に「CPC・CTR・CPMのデータ大
 公開！Instagram広告パフォーマンスレポート」資料をプ
 レゼント！✳︎✳︎✳︎✳︎✳︎✳︎✳︎✳︎✳︎✳
 ︎✳︎✳︎✳︎✳︎✳︎\nSNSの普及により、いまやSNS
 マーケティングは認知拡大だけに留まらず、顧客獲得
 を目的とした非常に重要なマーケティング施策として
 注目される時代です。\n外出している人も増え、旅先
 の写真がSNSに流れてくることも増えてきている今こそ
 映えるお写真とともにプロモーションする絶好のチャ
 ンスです。\n弊社でもお問い合わせが増えてきている
 こともあり、本セミナーでは、旅行・観光業界に特化
 したSNSプロモーション全体のお話を事例を交えてご紹
 介いたします。\n\n＜本セミナーは以下の皆様におすす
 めです＞\n・旅行・観光業界の方・インフルエンサー
 マーケティングを検討中の方・SNSアカウント運用に自
 信のない方・SNSプロモーションについてお悩みのある
 方・集客に伸び悩んでいる方・コロナ禍で落ち込んだ
 集客を回復させたい方・過去に訪問型PR施策を実施し
 たけど成果が得られなかった方\n\n■内容\n１．SNS市場
 ・SNSの消費者行動について​２．旅行・観光業界のSNS
 アカウント運用について３．旅行・観光業界のSNSアカ
 ウント運用事例４．旅行・観光業界のインフルエンサ
 ー施策のポイント５．旅行・観光業界のインフルエン
 サー事例６．旅行・観光PR事例のご紹介※内容は予告
 なく変更することがございます。\n\n登壇者\n\n請井 佑
 香\nソーシャルワイヤー株式会社​　　インフルエン
 サーPR事業部　営業部​\nソーシャルワイヤーに入社後
 、インフルエンサーマーケティングを中心としたマー
 ケティングPR業務の企画立案から提案、運用、分析、
 レポーティングなどを行う。\n\n◆概要\n会　　場：オ
 ンライン日　　時：2024年7月12日(金) 14:00～14:30参 加 費
 ：無料参加特典：SNS個別相談(最大60分)備　　考：※参
 加は申込者本人に限ります。複数人での参加をご希望
 の場合もお一人ずつのご登録をお願いいたします。※
 同業他社の方は参加をご遠慮いただく場合がございま
 す。
LOCATION:
URL:https://techplay.jp/event/946675?utm_medium=referral&utm_source=ics&utm
 _campaign=ics
END:VEVENT
END:VCALENDAR
