BEGIN:VCALENDAR
VERSION:2.0
PRODID:-//https://techplay.jp//JP
CALSCALE:GREGORIAN
METHOD:PUBLISH
X-WR-CALDESC:【名古屋開催】生成AI ハンズオンセミナー
X-WR-CALNAME:【名古屋開催】生成AI ハンズオンセミナー
X-WR-TIMEZONE:Asia/Tokyo
BEGIN:VTIMEZONE
TZID:Asia/Tokyo
BEGIN:STANDARD
DTSTART:19700101T000000
TZOFFSETFROM:+0900
TZOFFSETTO:+0900
TZNAME:JST
END:STANDARD
END:VTIMEZONE
BEGIN:VEVENT
UID:946689@techplay.jp
SUMMARY:【名古屋開催】生成AI ハンズオンセミナー
DTSTART;TZID=Asia/Tokyo:20240625T182000
DTEND;TZID=Asia/Tokyo:20240625T210000
DTSTAMP:20260420T124713Z
CREATED:20240605T121550Z
DESCRIPTION:イベント詳細はこちら\nhttps://techplay.jp/event/94668
 9?utm_medium=referral&utm_source=ics&utm_campaign=ics\n\n生成AI ハン
 ズオンセミナー\n概要\n5/15に実施した生成AIセミナー（
 https://garage-nagoya.or.jp/event/p18871/）の第2弾です。プロン
 プトエンジニアリングや、生成AIを組み込んだノーコ
 ードでのアプリ開発のハンズオンなどを行う予定です
 。（内容は変更の可能性があります）ハンズオンを行
 いますのでPC持参をお勧めしますが、準備が難しい場
 合、聞くだけ参加も歓迎です！\nタイムスケジュール\n
 \n\n\n時間\n内容\n\n\n\n\n18:10～18:20\n開場・受付\n\n\n18:20
 ～18:30\nイントロダクション\n\n\n18:30～19:15\nハンズオン
 １　プロンプトエンジニアリング\n\n\n19:15～20:00\nハン
 ズオン２　Difyを使ったノーコードでの生成AI組み込み
 アプリ開発\n\n\n20:00～20:30\n生成AIのユースケース、業
 務活用事例の共有\n\n\n20:30～21:00\nクロージング・Q&A・
 交流会\n\n\n\n参加対象\n\n社会人、学生どなたでもご参
 加いただけます\n\n参加費\n無料\n注意事項\n\nリクルー
 ティング、勧誘など、採用目的でのイベント参加はお
 断りしております。\n欠席される場合は、お手数です
 が速やかにキャンセル処理をお願い致します。\n無断
 キャンセルや欠席が続く場合、次回以降の参加をお断
 りさせていただく場合がございます。\n
LOCATION:ナゴヤ イノベーターズ ガレージ 名古屋市中区栄
 3-18-1 ナディアパーク4F
URL:https://techplay.jp/event/946689?utm_medium=referral&utm_source=ics&utm
 _campaign=ics
END:VEVENT
END:VCALENDAR
