BEGIN:VCALENDAR
VERSION:2.0
PRODID:-//https://techplay.jp//JP
CALSCALE:GREGORIAN
METHOD:PUBLISH
X-WR-CALDESC:RPA導入効果のカギは長期運用にあり～Power Autom
 ateを活かす、インテリジェントオートメーションとは
 ～
X-WR-CALNAME:RPA導入効果のカギは長期運用にあり～Power Autom
 ateを活かす、インテリジェントオートメーションとは
 ～
X-WR-TIMEZONE:Asia/Tokyo
BEGIN:VTIMEZONE
TZID:Asia/Tokyo
BEGIN:STANDARD
DTSTART:19700101T000000
TZOFFSETFROM:+0900
TZOFFSETTO:+0900
TZNAME:JST
END:STANDARD
END:VTIMEZONE
BEGIN:VEVENT
UID:947104@techplay.jp
SUMMARY:RPA導入効果のカギは長期運用にあり～Power Automate
 を活かす、インテリジェントオートメーションとは～
DTSTART;TZID=Asia/Tokyo:20240626T150000
DTEND;TZID=Asia/Tokyo:20240626T160000
DTSTAMP:20260420T111228Z
CREATED:20240613T164007Z
DESCRIPTION:イベント詳細はこちら\nhttps://techplay.jp/event/94710
 4?utm_medium=referral&utm_source=ics&utm_campaign=ics\n\nRPA導入効果
 のカギは長期運用にあり～Power Automateを活かす、イン
 テリジェントオートメーションとは～\n概要\n「RPA導入
 効果を高めたい」、「現在利用しているRPAから他製品
 への乗り換えを検討している」、「RPA領域に限らず、A
 I活用や内製による業務効率化など、より広範囲でDX化
 を目指したい」といった課題等をお持ちの皆様、ぜひ
 ご参加ください。\nタイムスケジュール\n■タイトル：
 2024年6月26日(水) RPA導入効果のカギは長期運用にあり～
 Power Automateを活かす、インテリジェントオートメーシ
 ョンとは～\n■日程：2024年6月26日(水)　15:00～16:00（終
 了予定）■接続方法：オンライン(Zoom)\n※ 当日予告な
 く時間配分・内容が変更になる可能性がございます。\
 n登壇者\n◆ Blue Prism 株式会社　ソリューションコンサ
 ルティング本部　パートナーSC部 兼 コーポレートSC部
 　ソリューションコンサルタント　Ranesh Gunasekara (グナ
 セカラ ラネシュ)【講演内容】　エンタープライズグ
 レードでの業務自動化を実現するためには、アジリテ
 ィ・スピードとセキュリティや統合管理性を兼ね備え
 た自動化プラットフォームの選択が重要となります。
 　これを実現するプラットフォームの一例として、Micr
 osoft製品の自動化が容易なPower Automateと基幹システムの
 自動化に必要な統合管理性を備えたSS&C Blue Prismの連携
 例、特にPower AutomateからBlue Prismを呼び出す方法につい
 てご紹介いたします。\n◆株式会社ビッグツリーテク
 ノロジー＆コンサルティングRPA事業部　シニアマネー
 ジャ竹中　芳和【講演内容】　昨今、RPAの導入を検討
 または既に導入されているお客様においては、投資対
 効果の最大化など様々な観点から、RPAの長期的な運用
 を見据えてPower Automateの活用検討も視野にRPA製品を選
 定する傾向が見られます。SS&C Blue Prismに加えて、Power A
 utomateをはじめとした各種RPA製品を取扱う弊社の特徴を
 踏まえて、RPA市場の動向やRPA長期運用に向けた効果を
 実感いただくためのポイント等をご紹介いたします。\
 n\n参加費\n無料\n
LOCATION:
URL:https://techplay.jp/event/947104?utm_medium=referral&utm_source=ics&utm
 _campaign=ics
END:VEVENT
END:VCALENDAR
