BEGIN:VCALENDAR
VERSION:2.0
PRODID:-//https://techplay.jp//JP
CALSCALE:GREGORIAN
METHOD:PUBLISH
X-WR-CALDESC:【参加特典あり】アンバサダー施策で効果3倍
 ！​結果を出すインフルエンサー施策事例大公開​ 〜
 美容商材編〜
X-WR-CALNAME:【参加特典あり】アンバサダー施策で効果3倍
 ！​結果を出すインフルエンサー施策事例大公開​ 〜
 美容商材編〜
X-WR-TIMEZONE:Asia/Tokyo
BEGIN:VTIMEZONE
TZID:Asia/Tokyo
BEGIN:STANDARD
DTSTART:19700101T000000
TZOFFSETFROM:+0900
TZOFFSETTO:+0900
TZNAME:JST
END:STANDARD
END:VTIMEZONE
BEGIN:VEVENT
UID:947362@techplay.jp
SUMMARY:【参加特典あり】アンバサダー施策で効果3倍！​
 結果を出すインフルエンサー施策事例大公開​ 〜美容
 商材編〜
DTSTART;TZID=Asia/Tokyo:20240719T140000
DTEND;TZID=Asia/Tokyo:20240719T143000
DTSTAMP:20260420T094803Z
CREATED:20240619T061417Z
DESCRIPTION:イベント詳細はこちら\nhttps://techplay.jp/event/94736
 2?utm_medium=referral&utm_source=ics&utm_campaign=ics\n\n【参加特典
 あり】アンバサダー施策で効果3倍！​結果を出すイン
 フルエンサー施策事例大公開​ 〜美容商材編〜​\n✳
 ︎✳︎✳︎✳︎✳︎参加特典✳︎✳︎✳︎✳︎✳︎ウ
 ェビナー参加者全員に「Z世代に人気の美容・コスメ系
 インフルエンサー」資料をプレゼント！✳︎✳︎✳︎
 ✳︎✳︎✳︎✳︎✳︎✳︎✳︎✳︎✳︎✳︎✳︎✳︎\
 n近年のプロモーションにおいて、インフルエンサーと
 の取り組みは一般化しており、その中でも美容業界で
 は年々需要が高まっています\nコスメや家庭用美容機
 器等をSNSで知って、購買行動に移す方が増える今、「
 どのようなSNSプロモーションをしたら、より購買につ
 なげられるのか？」「ファン化させるにはどのような
 施策が良いのか」このように、顧客獲得の為のアプロ
 ーチ方法を模索されているご担当者様も多いのではな
 いでしょうか？\n単純に影響力のあるインフルエンサ
 ーに情報発信してもらう、レビューしてもらうだけだ
 と施策として成功しないケースも増加してきており、
 目的に応じて「どのSNS」「誰に」「どのタイミングで
 」PRするのかが重要になります。\n本セミナーでは、コ
 スメ・美容業界に特化したSNSプロモーション全体のお
 話を事例を交えてご紹介いたします。\n▶このような
 方におすすめなセミナーです\n・美容業界の方・イン
 フルエンサーマーケティングを検討中の方・SNSアカウ
 ント運用に自信のない方・SNSプロモーションについて
 お悩みのある方・ECサイトへの遷移数について伸び悩
 んでいる方\n▶アジェンダ\n１．SNS時代における消費行
 動について２．美容業界のSNSプロモーションについて
 ３．美容業界のSNSアカウント運用について４．美容商
 材PR事例のご紹介※内容は予告なく変更することがご
 ざいます\n\n登壇者\n\n松尾 翔太\nソーシャルワイヤー
 株式会社​　　インフルエンサーPR事業部　営業部​\n
 インフルエンサーマーケティングを中心とした​​マ
 ーケティングPR業務の企画立案から​\n提案、運用、分
 析、レポーティングなどを行う。​\n\n\n\n◆概要\n会　
 　場：オンライン日　　時：2024年7月19日(金) 14:00～14:3
 0参 加 費：無料参加特典：SNS個別相談(最大60分)備　　
 考：※参加は申込者本人に限ります。複数人での参加
 をご希望の場合もお一人ずつのご登録をお願いいたし
 ます。※同業他社の方は参加をご遠慮いただく場合が
 ございます。
LOCATION:
URL:https://techplay.jp/event/947362?utm_medium=referral&utm_source=ics&utm
 _campaign=ics
END:VEVENT
END:VCALENDAR
