BEGIN:VCALENDAR
VERSION:2.0
PRODID:-//https://techplay.jp//JP
CALSCALE:GREGORIAN
METHOD:PUBLISH
X-WR-CALDESC:【無料・ウェビナー】脱チラシ集客！アプリ
 を活用した新たな集客施策の全貌
X-WR-CALNAME:【無料・ウェビナー】脱チラシ集客！アプリ
 を活用した新たな集客施策の全貌
X-WR-TIMEZONE:Asia/Tokyo
BEGIN:VTIMEZONE
TZID:Asia/Tokyo
BEGIN:STANDARD
DTSTART:19700101T000000
TZOFFSETFROM:+0900
TZOFFSETTO:+0900
TZNAME:JST
END:STANDARD
END:VTIMEZONE
BEGIN:VEVENT
UID:947378@techplay.jp
SUMMARY:【無料・ウェビナー】脱チラシ集客！アプリを活
 用した新たな集客施策の全貌
DTSTART;TZID=Asia/Tokyo:20240709T140000
DTEND;TZID=Asia/Tokyo:20240709T150000
DTSTAMP:20260422T231435Z
CREATED:20240619T093029Z
DESCRIPTION:イベント詳細はこちら\nhttps://techplay.jp/event/94737
 8?utm_medium=referral&utm_source=ics&utm_campaign=ics\n\n2024年7月9日
 （火）開催！\n“脱チラシ集客！アプリを活用した新
 たな集客施策の全貌”\nとりあえず申し込む\nこんな方
 におススメです!!\n・アプリを活用した新しい集客方法
 に興味がある方\n・自社アプリのユーザーを増やした
 い方\n・他社のアプリ活用事例を知りたい方\n\n【セミ
 ナー概要】\n日時：2024年7月9日（火）14:00～15:00\n会場
 ：オンライン開催（Zoom） 参加費・無料（先着・事前
 登録制）\n内容：\nピープルソフトウェア株式会社\nプ
 ロダクト事業部 部長 中井 昌之\n・小売業界の売上や
 集客アップに直結する店舗アプリの効果的な活用方法\
 n・アプリ活用企業の成功事例！押さえておくべきポイ
 ント、運用の注意点\n株式会社オリコミサービス\nデジ
 タルソリューション部 部長 矢嶋 郁也\n・アプリを活
 用した新たな集客施策\n・アプリユーザーを増やす広
 告ソリューション\n\n【注意事項】\n※本セミナーはオ
 ンライン配信のみ（会場開催なし）で実施いたします
 。\n※お申込みいただいた後、開催1時間前までに視聴
 用URLとパスワードを別途ご案内メールをお送りします
 。\n※参加費は無料、先着事前登録制のため、お申込
 み多数の場合は抽選とさせていただきます。\n※弊社
 と同様のサービスを提供されている企業の関係者様か
 らのお申し込みは、ご遠慮いただいております。
LOCATION:
URL:https://techplay.jp/event/947378?utm_medium=referral&utm_source=ics&utm
 _campaign=ics
END:VEVENT
END:VCALENDAR
