BEGIN:VCALENDAR
VERSION:2.0
PRODID:-//https://techplay.jp//JP
CALSCALE:GREGORIAN
METHOD:PUBLISH
X-WR-CALDESC:見込み顧客獲得のための検索エンジン活用術
 〜Web集客率を高めるWeb広告・SEO・MEO〜
X-WR-CALNAME:見込み顧客獲得のための検索エンジン活用術
 〜Web集客率を高めるWeb広告・SEO・MEO〜
X-WR-TIMEZONE:Asia/Tokyo
BEGIN:VTIMEZONE
TZID:Asia/Tokyo
BEGIN:STANDARD
DTSTART:19700101T000000
TZOFFSETFROM:+0900
TZOFFSETTO:+0900
TZNAME:JST
END:STANDARD
END:VTIMEZONE
BEGIN:VEVENT
UID:947581@techplay.jp
SUMMARY:見込み顧客獲得のための検索エンジン活用術〜Web
 集客率を高めるWeb広告・SEO・MEO〜
DTSTART;TZID=Asia/Tokyo:20240710T120000
DTEND;TZID=Asia/Tokyo:20240710T130000
DTSTAMP:20260421T045819Z
CREATED:20240624T035719Z
DESCRIPTION:イベント詳細はこちら\nhttps://techplay.jp/event/94758
 1?utm_medium=referral&utm_source=ics&utm_campaign=ics\n\n\n\nセミナー
 概要\n\n\n短期〜中期的な営業戦略を考える上で、広告
 の考え方や、検索エンジンに対する施策は集客数や売
 上を増加させる上で非常に重要です。\nところが施策
 を実施しているものの想定している成果が感じられず
 、「検索エンジンでの上位に表示されたい」「自社の
 情報を目立たせたい」といった実現が難しいと感じる
 方が多いのではないでしょうか。\n本セミナーでは、We
 b広告、SEO、MEOの3つの検索エンジンマーケティング施
 策について、各領域を得意とする、株式会社キーワー
 ドマーケティング、株式会社CINC、株式会社トライハッ
 チより、実践的なヒントや最新トレンドをご紹介いた
 します。\n\n\n\nタイトル\n見込み顧客獲得のための検索
 エンジン活用術〜Web集客率を高めるWeb広告・SEO・MEO〜\
 n\n\n\n\n開催日程\n2024年7月10日（水）12:00～13:00\n\n\n開催
 方法\nオンライン開催　※Zoomを使用して配信いたしま
 す。\n\n\n参加料金\n無料\n\n\n注意事項\n参加申込みが多
 数となった場合は、予告なく申込受付を終了とさせて
 いただきます。登壇者・内容などは予告なく変更とな
 る場合がございますので、予めご了承ください。※競
 合企業にあたる方からのご視聴はお断りさせていただ
 いております。\n\n\n申込フォーム\nhttps://us02web.zoom.us/we
 binar/register/WN__KZtDABnQAKyKBSnQlXxkw\n\n\n\n\n\nこのような方に
 おすすめ\n\n\n・検索エンジンに関わる施策の幅広い知
 見を得たい方・広告運用・SEO・MEOのTipsを知りたい方・
 各施策を将来的に検討している方\n\n\nプログラム\n\n\n1
 3:00〜：顧客に選ばれやすいGoogleビジネスプロフィール
 の魅せ方（トライハッチ）地域ビジネスにとって、Goog
 le Maps上で検索された際のGoogleビジネスプロフィールの
 順位や見た目は、顧客の選択に大きく影響します。狙
 ったキーワードでヒットされるような関連性を高めた
 上位表示はできているでしょうか。また、限られたGoog
 le Mapsの項目の中で、検索ユーザーに対しフレンドリー
 かつ、自社の魅力を十二分に伝えきれているでしょう
 か。本セッションでは、Google Mapsで上位に表示される
 ための方法の一部や、魅力あるGoogleビジネスプロフィ
 ールの設定方法の一例をご紹介します。地域のお店や
 サービスが、より多くのお客様に選ばれるためのポイ
 ントをぜひご視聴下さい。\n13:20〜：【1年でCV数70倍！
 】オウンドメディアの流入・CV増加ノウハウ ～SEO調査
 からコンテンツ作成、運用まで～（CINC)Googleのアルゴ
 リズム変動の影響や、SEOに取り組む企業の増加により
 、メディアへの流入数・CV数増加の難易度が高まって
 います。そこで今回はKeywordmap Academyを運営するCINCより
 コンテンツマーケティングの支援実績から培った戦略
 的な運用体制と、CV数最大化に繋がるオウンドメディ
 ア運用のポイントについてお伝えします。\n13:37〜：リ
 スティング広告で見込み顧客のサイト流入を増やすポ
 イント（キーワードマーケティング）リスティング広
 告は、ニーズが顕在化しているユーザーをサイトに流
 入させるWeb集客手法として重宝されています。しかし
 、自社サイトのアクセス数は伸びるものの成果として
 見ているお問い合わせや来店予約などのコンバージョ
 ンが増えないとお悩みの方も多いのではないでしょう
 か。本パートでは、そのようなお悩みをお持ちの方が
 、コンバージョン見込みのあるサイト流入数を増やせ
 るようになるポイントをご紹介いたします。また、こ
 れからリスティング広告施策に注力したい方向けに、
 少ない予算で成果を上げるコツも解説します。\n\n\n登
 壇者\n\n\n株式会社トライハッチ　マーケティング本部
 コンサルティング課　主任　伊藤 輝一実店舗運営に欠
 かせない機器を扱うメーカーにて、決済端末や計量包
 装機の開発運用を経験。店舗に必要な機器を提供する
 だけではなく、集客を行ない売り上げに繋げるまでを
 サポートしたいという想いから、「STORE FIRST」を掲げ
 る株式会社トライハッチへジョイン。現在はMEOコンサ
 ルタントとして、多業界に渡る累計500店舗以上の集客
 ・販促を支援。\n株式会社CINC　マーケティングDX事業
 本部　マーケティングプロデュース部　アカウントセ
 ールスグループ　チーフ仲野 翔也早稲田大学商学部を
 卒業後、新卒でWebコンサルティング会社へ入社し、SEO
 を中心としたWebマーケティング支援に従事。2020年に株
 式会社CINCへ入社。現在はKeywordmapのアカウントセール
 スを担当し、データ分析に基づく施策立案のサポート
 も実施。\n株式会社キーワードマーケティング　広告
 事業部 セールスマネージャー秋林 怜奈2019年7月に入社
 。 前職での営業事務経験を経て、お客さまとより密な
 関係性を築きたいとの思いから営業職に転身。 「関わ
 る人に喜んでもらいたい！」という思いを大切に、日
 々奮闘中。\n\n\n会社概要\n\n\n社　名：株式会社CINC（シ
 ンク）（東証グロース 証券コード：4378）代表者：代
 表取締役社長 石松友典所在地：東京都港区虎ノ門一丁
 目21-19 東急虎ノ門ビル6F事業内容：主要サービス：（
 １）ソリューション事業（２）アナリティクス事業（
 ３）M&A仲介事業会社ホームページ： https://www.cinc-j.co.jp
 採用情報： https://www.cinc-j.co.jp/recruit/運営メディア「Mar
 keting Native」： https://marketingnative.jp/\n社　名：株式会社
 キーワードマーケティング代表者：滝井 秀典所在地：
 東京都港区赤坂4-15-1 赤坂ガーデンシティ13F資本⾦：11\
 ,000\,000円URL　：https://www.kwm.co.jp/事業内容：運用型広告
 の運用代行、検索エンジンマーケティングの研究・教
 育事業主要サービス：運用型広告の運用代行：https://ww
 w.kwm.co.jp/service/ad-agency/運用型広告コンサルティング：h
 ttps://www.kwm.co.jp/consulting/advertising/インハウス運用支援
 ・教育：https://www.kwm.co.jp/in-house/kenkyukai/認知獲得広告
 ：https://www.kwm.co.jp/service/promotion-ads/PR：https://www.kwm.co.jp
 /service/pr/\n社　名：株式会社トライハッチ代表者：代
 表取締役 武藤 尭行所在地：東京都新宿区新宿1-8-4 近
 鉄新宿御苑ビル7FURL　：https://tryhatch.co.jp事業内容：ロ
 ーカルテック事業、デジタルマーケティング事業主要
 サービス：https://meo.tryhatch.co.jp/meocheki/（MEOチェキ）http
 s://meo.tryhatch.co.jp/meochekilp2/（MEOチェキ for 複数店舗）htt
 ps://meo.tryhatch.co.jp/meochekihp/（MEOチェキ HP）https://meo.tryha
 tch.co.jp/hoshikakutokun（MEOチェキforレビュー）https://lp.insta
 -tools.com/（Insta Cheki）https://meo.tryhatch.co.jp/（MEOチェキBLO
 G）
LOCATION:
URL:https://techplay.jp/event/947581?utm_medium=referral&utm_source=ics&utm
 _campaign=ics
END:VEVENT
END:VCALENDAR
