BEGIN:VCALENDAR
VERSION:2.0
PRODID:-//https://techplay.jp//JP
CALSCALE:GREGORIAN
METHOD:PUBLISH
X-WR-CALDESC:〜Z世代を伸ばす、組織としての育成法とは？ 
 〜AIコミュニケーション分析で思考特性を掴めば、も
 う困らない！〜
X-WR-CALNAME:〜Z世代を伸ばす、組織としての育成法とは？ 
 〜AIコミュニケーション分析で思考特性を掴めば、も
 う困らない！〜
X-WR-TIMEZONE:Asia/Tokyo
BEGIN:VTIMEZONE
TZID:Asia/Tokyo
BEGIN:STANDARD
DTSTART:19700101T000000
TZOFFSETFROM:+0900
TZOFFSETTO:+0900
TZNAME:JST
END:STANDARD
END:VTIMEZONE
BEGIN:VEVENT
UID:947603@techplay.jp
SUMMARY:〜Z世代を伸ばす、組織としての育成法とは？ 〜AI
 コミュニケーション分析で思考特性を掴めば、もう困
 らない！〜
DTSTART;TZID=Asia/Tokyo:20240701T000000
DTEND;TZID=Asia/Tokyo:20240930T230000
DTSTAMP:20260424T170239Z
CREATED:20240624T051305Z
DESCRIPTION:イベント詳細はこちら\nhttps://techplay.jp/event/94760
 3?utm_medium=referral&utm_source=ics&utm_campaign=ics\n\n「Z世代をど
 う育てたら良いか分からない」\n「新人とのコミュニ
 ケーションがうまくいかない」\n・・・などZ世代を中
 心とした若手育成の悩みはありませんか？\n\nZ世代は
 、これからの社会を担う重要な人材です。しかし、い
 ざ育成となると、価値観や仕事観の違いに、大きな戸
 惑いも・・・。それもそのはず、Z世代は、中堅・ベテ
 ラン社員と受けている教育や、経験してきたことが大
 きく違うからです。そんな『Z世代育成のカギ』となる
 のが“AI技術”。教育や経験が違えば、もちろん「思
 考特性」が異なる・・・Z世代の「思考特性」を他の世
 代と比較し、育成における注意点やコツがわかるデー
 タを共有。限られた時間やコストの中で、Z世代をどう
 効果的に育成するのか！？大手企業における新人研修
 でAI分析を用い、柔軟な育成プログラムに繋がった事
 例もご紹介します。\n【こんな人にオススメ】・新卒
 採用したZ世代を効果的に育成したい・2024年度の新人
 教育プランを作成中・これまでの画一的な新人教育を
 見直したい----------------------------------------------------------
 ----------------------\n【プログラム】1. Z世代の特徴と時代
 背景2. AIを活用したZ世代の育成3. 活用事例のご紹介\n
 各回一時間を予定しております。----------------------------
 -----------------------------------------------------\n【日程】\nフ
 ォームより日程をお選びください。各回一時間を予定
 しております。\n【費用】\n無料\n【場所】\nZoom※お申
 し込み詳細メールにて、URLをご連絡します。\n【登壇
 者】\n＜登壇者＞・コグニティ株式会社　代表取締役
 　　河野理愛\n【お申し込み方法】\n当サイトよりお申
 込みいただけます。申込み完了メールに送付しており
 ますフォームより日程をお選びください。\n【注意事
 項】\n・企業向けのセミナーですので、なるべく会社
 でのメールアドレスでご登録ください。・ウェビナー
 前日にURLメールが届かない場合はメールアドレスが誤
 って登録されている可能性がございますので、お手数
 ですが、こちらのお問い合わせフォーム（https://cognitee
 .com/contact）よりご連絡お願いいたします。・メール指
 定受信を設定されている場合は、＜@cognitee.com＞のドメ
 イン設定を各自でお願いします。・ご登録いただいた
 個人情報は、Webinarに関するご連絡の他、製品資料の送
 付、新製品・サービス、イベントに関する情報提供の
 ために利用させていただく場合がございます。また、
 共同開催者への情報提供もございます。ご登録いただ
 いた時点でご同意いただく形になりますことをご了承
 ください。プライバシーポリシー：https://cognitee.com/abou
 t/5014------------------------------------------------\n★コグニテ
 ィは「ＨＲアワード2022」人材開発・育成部門にて最優
 秀賞受賞★\n詳細はこちら：https://cognitee.com/news/11236＝
 ＝＝＝＝＝＝\n日本の人事部「HRアワード2022」（後援
 ：厚生労働省）で、コグニティのAI分析サービス「COG-C
 OACH」が「人材開発・育成部門」にて最優秀賞を受賞し
 ました！「COG-COACH（コグ・コーチ）」は1on1スキルをAI
 分析で可視化、上司の指導力を強化します。受賞を記
 念して、コーチングに関するプロ企業3社とのコラボ回
 をまとめたウェビナーを配信いたします。反響が良か
 った過去回、4時間分の重要なトピックをぎゅっと1時
 間に凝縮しております。詳しくはこちらから\n10月13日
 （水）赤坂インターシティコンファレンスにて開催さ
 れた表彰式
LOCATION:
URL:https://techplay.jp/event/947603?utm_medium=referral&utm_source=ics&utm
 _campaign=ics
END:VEVENT
END:VCALENDAR
