BEGIN:VCALENDAR
VERSION:2.0
PRODID:-//https://techplay.jp//JP
CALSCALE:GREGORIAN
METHOD:PUBLISH
X-WR-CALDESC:【サイバーエージェントCHO曽山氏が登壇】 人
 事向け生成AI活用セミナー｜人事が生成AIを活用すべき
 3つの理由 〜テクノロジー活用で人と組織の力を活か
 す〜
X-WR-CALNAME:【サイバーエージェントCHO曽山氏が登壇】 人
 事向け生成AI活用セミナー｜人事が生成AIを活用すべき
 3つの理由 〜テクノロジー活用で人と組織の力を活か
 す〜
X-WR-TIMEZONE:Asia/Tokyo
BEGIN:VTIMEZONE
TZID:Asia/Tokyo
BEGIN:STANDARD
DTSTART:19700101T000000
TZOFFSETFROM:+0900
TZOFFSETTO:+0900
TZNAME:JST
END:STANDARD
END:VTIMEZONE
BEGIN:VEVENT
UID:947644@techplay.jp
SUMMARY:【サイバーエージェントCHO曽山氏が登壇】 人事向
 け生成AI活用セミナー｜人事が生成AIを活用すべき3つ
 の理由 〜テクノロジー活用で人と組織の力を活かす〜
DTSTART;TZID=Asia/Tokyo:20240705T140000
DTEND;TZID=Asia/Tokyo:20240705T150000
DTSTAMP:20260424T130945Z
CREATED:20240625T023648Z
DESCRIPTION:イベント詳細はこちら\nhttps://techplay.jp/event/94764
 4?utm_medium=referral&utm_source=ics&utm_campaign=ics\n\n人事が生成A
 Iを活用すべき3つの理由〜テクノロジー活用で人と組
 織の力を活かす〜\nイベント概要\nサイバーエージェン
 トでは、2023年11月より全社員を対象に、「生成AI徹底
 理解リスキリング講座」を実施し、約6\,300名の社員が
 講義動画の視聴完了・Webテストに合格するなど、生成A
 Iの人材育成に取り組んでまいりました。\n本セミナー
 では、同グループの株式会社AI Shiftが提供する職種別
 カリキュラム「生成AIリスキリング for 人事」の提供開
 始に先立ち、サイバーエージェントCHOの曽山氏より、
 サイバーエージェント人事での生成AI活用に向けた取
 り組みのご紹介から、なぜ人事が生成AIを活用すべき
 か、そしてどこに活用すべきか、解説いたします。\n\n
 日時：2024年7月5日14:00~15:00　※途中の入退出も問題ご
 ざいません。\n場所：オンライン開催（ZOOM・無料）\n
 内容：\n\nサイバーエージェント人事における生成AI活
 用の取り組み\n人事が生成AIを活用すべき3つの理由\n人
 事の業務で生成AIが効果を発揮する業務　など\n\n\nお
 申し込み方法：こちらよりご登録ください※記載のリ
 ンクより別途事前登録が必要となりますので、ご登録
 のほどよろしくお願いいたします\n\n登壇者\n曽山 哲人
 \n株式会社サイバーエージェント常務執行役員CHO\n上智
 大学文学部英文学科卒。高校時代はダンス甲子園で全
 国3位。 1998年に株式会社伊勢丹に入社し、紳士服の販
 売とECサイト立ち上げに従事。 1999年に当時社員数20名
 程度だった株式会社サイバーエージェントに入社。 イ
 ンターネット広告事業部門の営業統括を経て、2005年人
 事本部長に就任。 現在は常務執行役員CHOとして人事全
 般を統括。 キャリアアップ系YouTuber「ソヤマン」とし
 てSNSで情報発信しているほか、「若手育成の教科書」
 「クリエイティブ人事」「強みを活かす」などの著作
 がある。\n\n参加対象\n\n全職種の人事\n\nエンジニア\n
 デザイナー\nビジネス\n\n\n\n参加費\n無料\n注意事項\n\n
 リクルーティング、勧誘など、採用目的でのイベント
 参加はお断りしております。\nキャンセル待ち・補欠
 ・落選の方はご参加いただくことが出来ませんのでご
 了承ください。\n欠席される場合は、お手数ですが速
 やかにキャンセル処理をお願い致します。\n無断キャ
 ンセルや欠席が続く場合、次回以降の参加をお断りさ
 せていただく場合がございます。\n
LOCATION:
URL:https://techplay.jp/event/947644?utm_medium=referral&utm_source=ics&utm
 _campaign=ics
END:VEVENT
END:VCALENDAR
