BEGIN:VCALENDAR
VERSION:2.0
PRODID:-//https://techplay.jp//JP
CALSCALE:GREGORIAN
METHOD:PUBLISH
X-WR-CALDESC:7/24（水）実機デモも紹介！ ランサムウェア対
 策導入支援セミナー開催のお知らせ
X-WR-CALNAME:7/24（水）実機デモも紹介！ ランサムウェア対
 策導入支援セミナー開催のお知らせ
X-WR-TIMEZONE:Asia/Tokyo
BEGIN:VTIMEZONE
TZID:Asia/Tokyo
BEGIN:STANDARD
DTSTART:19700101T000000
TZOFFSETFROM:+0900
TZOFFSETTO:+0900
TZNAME:JST
END:STANDARD
END:VTIMEZONE
BEGIN:VEVENT
UID:949755@techplay.jp
SUMMARY:7/24（水）実機デモも紹介！ ランサムウェア対策
 導入支援セミナー開催のお知らせ
DTSTART;TZID=Asia/Tokyo:20240724T150000
DTEND;TZID=Asia/Tokyo:20240724T160500
DTSTAMP:20260423T081350Z
CREATED:20240627T065732Z
DESCRIPTION:イベント詳細はこちら\nhttps://techplay.jp/event/94975
 5?utm_medium=referral&utm_source=ics&utm_campaign=ics\n\n7/24（水）実
 機デモも紹介！ ランサムウェア対策導入支援セミナー
 \n概要\n株式会社TOKAIコミュニケーションズは、2024年7
 月24日（水）に、NetApp Cloud Insightsを使用したランサム
 ウェア対策導入支援セミナーを開催します。※本セミ
 ナーは、2023年3月に実施したウェビナーのアーカイブ
 配信となります。\n今年6月、大手出版社のグループ会
 社が大規模なサイバー攻撃を受け、同社が運営する動
 画サービスのみならず、関連企業のWebサイトや業務シ
 ステムが被害をこうむったことは皆様の記憶に新しい
 ことと思います。このサイバー攻撃の手口にはランサ
 ムウェアが使用されていたと発表されていることから
 、当社では緊急で、2023年3月に実施しましたランサム
 ウェア対策ウェビナーをアーカイブ配信いたします。\
 n本公演では、ランサムウェアに関する基礎知識とNetApp
  Cloud Insightsの概要と機能、そして実際にNetApp Cloud Insigh
 tsを使用したランサムウェア対策のデモンストレーシ
 ョンをご紹介します。ランサムウェア対策について知
 りたい方、ランサムウェア対策を導入検討している方
 、NetApp Cloud Insightsについて詳しく知りたいという方に
 、是非ご参加いただきたいセミナーです。\n\n\nこんな
 方にオススメです\n・ランサムウェアについての基礎
 知識を学びたい。・ランサムウェア対策について知り
 たい。・NetApp Cloud Insightsの機能を知りたい。・実際に
 ランサムウェア対策を行っているデモを見てみたい。\
 nセミナー名称\nランサムウェアの脅威は他人事ではな
 い！！今こそ知っておきたいNetApp Cloud Insightsとデモで
 学ぶランサムウェア対策\nタイムスケジュール\n\n\n\n時
 間\n内容\n\n\n\n\n14:45～15:00\n受付開始\n\n\n15:00～15:05\n講
 演開始のご案内\n\n\n15:05～15:35\nランサムウェアに備え
 る基礎知識とNetApp Cloud Insights紹介講師：ネットアップ
 合同会社\n\n\n15:35～16:00\nデモで徹底解説、NetApp Cloud Ins
 ightsを利用したランサムウェア対策講師：株式会社TOKAI
 コミュニケーションズ\n\n\n16:00～16:05\n講演終了のご案
 内\n\n\n\n参加費\n無料\n参加方法\n申込ページからお申
 込みをお願いします。※お申込み期限　開催日当日の1
 4:30までZoomウェビナーを使用し、開催します。事前にZo
 omウェビナーにアクセスできるブラウザ環境（Google Chro
 me、MozillFirefox）を準備いただき、環境チェックをお願
 いします。（環境チェックURL　 https://zoom.us/test）\n※
 同業他社の方のお申込み/ご参加はお断りしております
 。\n共催\n株式会社TOKAIコミュニケーションズネットア
 ップ合同会社\n注意事項\n\nリクルーティング、勧誘な
 ど、採用目的でのイベント参加はお断りしております
 。\nキャンセル待ち・補欠・落選の方はご参加いただ
 くことが出来ませんのでご了承ください。\n欠席され
 る場合は、お手数ですが速やかにキャンセル処理をお
 願い致します。\n無断キャンセルや欠席が続く場合、
 次回以降の参加をお断りさせていただく場合がござい
 ます。\n申込時アンケートを正確に回答頂けていない
 場合、個別にご連絡させていただく場合がございます
 。\n
LOCATION:
URL:https://techplay.jp/event/949755?utm_medium=referral&utm_source=ics&utm
 _campaign=ics
END:VEVENT
END:VCALENDAR
