BEGIN:VCALENDAR
VERSION:2.0
PRODID:-//https://techplay.jp//JP
CALSCALE:GREGORIAN
METHOD:PUBLISH
X-WR-CALDESC:Webサイトリニューアル 知っておきたい5つのポ
 イント
X-WR-CALNAME:Webサイトリニューアル 知っておきたい5つのポ
 イント
X-WR-TIMEZONE:Asia/Tokyo
BEGIN:VTIMEZONE
TZID:Asia/Tokyo
BEGIN:STANDARD
DTSTART:19700101T000000
TZOFFSETFROM:+0900
TZOFFSETTO:+0900
TZNAME:JST
END:STANDARD
END:VTIMEZONE
BEGIN:VEVENT
UID:949766@techplay.jp
SUMMARY:Webサイトリニューアル 知っておきたい5つのポイ
 ント
DTSTART;TZID=Asia/Tokyo:20240710T140000
DTEND;TZID=Asia/Tokyo:20240710T150000
DTSTAMP:20260420T111220Z
CREATED:20240627T091923Z
DESCRIPTION:イベント詳細はこちら\nhttps://techplay.jp/event/94976
 6?utm_medium=referral&utm_source=ics&utm_campaign=ics\n\n概要\nサイ
 トリニューアルのポイントとは？知っておきたい5つの
 ポイントを解説！\n企業や団体において、Webサイトは
 不可欠な存在です。情報発信やマーケティング活動を
 強化するために、Webサイトのリニューアルを検討して
 いる方も多いかと思います。しかし、具体的に何を始
 めればいいのかわからない、課題の整理が難しいとい
 う方も多いのではないでしょうか？サイトリニューア
 ルは、サイトの規模やリニューアル対象のサイトによ
 って、スケジュールや費用が大きく変わります。単に
 「デザインが古くなったから」「問い合わせを増やし
 たいから」といった漠然とした目的だけで進めてしま
 うと、多くの予算や時間を費やしたにも関わらず、リ
 ニューアルが失敗に終わったということになりかねま
 せん。リニューアルを成功するためには、ポイントを
 押さえながらプロジェクトを進めることが重要です。
 今回のセミナーでは、Webサイトリニューアルを始める
 前に知っておくべきポイントを、5つの視点からご紹介
 します。リニューアルや新規構築のプロジェクトがス
 タートした際に困らないようにするために、Webサイト
 を新たに制作する方やリニューアルを予定している方
 は、ぜひご参加ください。\n※本セミナーは以前当社
 にて開催したセミナーと内容が重複する部分がござい
 ます。\nタイムスケジュール\n\n\n\n時間\n内容\n\n\n\n\n14:
 00〜14:05\nオープニング\n\n\n14:05〜14:55\n株式会社インフ
 ォネット　事業推進部　堀 桃Webサイトリニューアル 
 知っておきたい5つのポイント1. 全体スケジュール2. 課
 題出し3. 目的の整理・コンテンツの精査4. リニューア
 ル後の目標・成果の設定5. 運用方法6.【おまけ】セキ
 ュリティについて\n\n\n14:55〜15:00\n質疑応答\n\n\n\n※ 当
 日予告なく時間配分・内容が変更になる可能性がござ
 います。\nこんな方におすすめ\n\nWebサイトのリニュー
 アルを予定している方\nWebサイトのニューアルの進め
 方が分からず、悩んでいる方\nWebサイトリニューアル
 時のポイントを知りたい方\n前回のリニューアルから
 時間が経っており、最近の情報を知りたい方\n\n参加費
 \n無料\n注意事項\n\n同業他社の方の参加はお断りする
 場合がございます。\nリクルーティング、勧誘など、
 採用目的でのイベント参加はお断りしております。\n
 キャンセル待ち・補欠・落選の方はご参加いただくこ
 とが出来ませんのでご了承ください。\n欠席される場
 合は、お手数ですが速やかにキャンセル処理をお願い
 致します。\n無断キャンセルや欠席が続く場合、次回
 以降の参加をお断りさせていただく場合がございます
 。\n
LOCATION:
URL:https://techplay.jp/event/949766?utm_medium=referral&utm_source=ics&utm
 _campaign=ics
END:VEVENT
END:VCALENDAR
