BEGIN:VCALENDAR
VERSION:2.0
PRODID:-//https://techplay.jp//JP
CALSCALE:GREGORIAN
METHOD:PUBLISH
X-WR-CALDESC:クリエイターのためのサーバー基礎 Vol.2 「サ
 ーバーの種類」ウェビナー
X-WR-CALNAME:クリエイターのためのサーバー基礎 Vol.2 「サ
 ーバーの種類」ウェビナー
X-WR-TIMEZONE:Asia/Tokyo
BEGIN:VTIMEZONE
TZID:Asia/Tokyo
BEGIN:STANDARD
DTSTART:19700101T000000
TZOFFSETFROM:+0900
TZOFFSETTO:+0900
TZNAME:JST
END:STANDARD
END:VTIMEZONE
BEGIN:VEVENT
UID:949825@techplay.jp
SUMMARY:クリエイターのためのサーバー基礎 Vol.2 「サーバ
 ーの種類」ウェビナー
DTSTART;TZID=Asia/Tokyo:20240826T190000
DTEND;TZID=Asia/Tokyo:20240826T200000
DTSTAMP:20260420T014304Z
CREATED:20240628T021447Z
DESCRIPTION:イベント詳細はこちら\nhttps://techplay.jp/event/94982
 5?utm_medium=referral&utm_source=ics&utm_campaign=ics\n\nクリエイタ
 ーのためのサーバー基礎 Vol.2 「サーバーの種類」\nク
 リーク･アンド･リバー社（C&R社）は8月26日（月） に
 、**サーバーにあまり詳しくないクリエイターの方を
 対象にした、「サーバーの基礎知識」**に関するウェ
 ビナーを実施します。\n各プロジェクトに最適なサー
 バーを選定することができれば、開発・運用の効率を
 大幅に向上させたり、コスト効率の良い運用を進める
 ことができる可能性があります。\nサーバーの種類や
 特性を理解することで、クリエイターとしての知識の
 幅を広げ、より多くのプロジェクトに参加できる機会
 を増やすなどのキャリアアップにもつなげていただき
 たい内容となっています。\nVol.1では、サーバーの全体
 像とLinux入門について、Vol.3では、サーバー周りのサー
 ビスやセキュリティについてお話をします。是非継続
 してご参加ください。\n▼こんなことをお話します\n\nV
 ol.1の振り返り\nサーバーの種類とその役割\n各サーバ
 ーの選び方と使い分け（クラウド、VPS、レンタルサー
 バーなど）\nサーバーソフトウェア同士の連携\n\n▼こ
 んな方にオススメ！\n\nウェブデザインや開発を行うク
 リエイター\nサーバー管理に興味がある初心者\nサーバ
 ー運用のスキルを身につけたい方\n\nタイムスケジュー
 ル\n\n\n\n時間\n内容\nspeaker\n\n\n\n\n19：00～19：05\nオープ
 ニング\nC&R社\n\n\n19：05～19：50\n講演\n関口和真 氏\n\n\n1
 9：50～20：00\n質疑応答\n\n\n\n20：00～\nクロージング\n\n\
 n\n\n※ 当日予告なく時間配分・内容が変更になる可能
 性がございます。\n登壇者\n関口和真（せきぐち・かず
 ま）氏\n株式会社コムセント取締役 CTO\n\nサイトデザイ
 ン、HTMLのコーディング、JavaScript・PHP等を利用したプ
 ログラム開発、iOS・Android向けアプリの作成、ウェブサ
 ーバーの実装、運用などトータルでウェブサイトの作
 成を行う。テクノロジーを理解し、デザインやコーデ
 ィング、サーバー運用やサービス運用のアドバイスを
 トータルで行える点が強み。\n株式会社コムセント(Web
 制作会社)のCTOとしてWebサイト作成、システム開発及び
 プログラム開発に従事。ECサイトのカスタマイズ、フ
 ルスクラッチによるWebシステム開発、映像配信システ
 ムや映像配信、配信用スマートフォンアプリ作成を主
 に手がける。\n大学・専門学校にて、Web制作の授業を
 担当（非常勤）。イベントやセミナーの登壇経験も豊
 富。 Dreamweaver等の著書も。\n\n参加対象\nサーバーにつ
 いて理解を深めたいクリエイターの方サーバーについ
 て学んだことのないクリエイターの方\n参加費\n無料\n
 当ウェビナーについて\nこちらのサイトからもお申込
 みいただけます。\n▼C&R社で実施しているオンライン
 講座・ウェビナー　一覧ページhttps://www.c-place.ne.jp/
LOCATION:
URL:https://techplay.jp/event/949825?utm_medium=referral&utm_source=ics&utm
 _campaign=ics
END:VEVENT
END:VCALENDAR
