BEGIN:VCALENDAR
VERSION:2.0
PRODID:-//https://techplay.jp//JP
CALSCALE:GREGORIAN
METHOD:PUBLISH
X-WR-CALDESC:7/12(金) 企業の未来をDXで推進～事例から学ぶAW
 S導入の成功アプローチ～　AWSセミナー in 札幌
X-WR-CALNAME:7/12(金) 企業の未来をDXで推進～事例から学ぶAW
 S導入の成功アプローチ～　AWSセミナー in 札幌
X-WR-TIMEZONE:Asia/Tokyo
BEGIN:VTIMEZONE
TZID:Asia/Tokyo
BEGIN:STANDARD
DTSTART:19700101T000000
TZOFFSETFROM:+0900
TZOFFSETTO:+0900
TZNAME:JST
END:STANDARD
END:VTIMEZONE
BEGIN:VEVENT
UID:949983@techplay.jp
SUMMARY:7/12(金) 企業の未来をDXで推進～事例から学ぶAWS導
 入の成功アプローチ～　AWSセミナー in 札幌
DTSTART;TZID=Asia/Tokyo:20240712T150000
DTEND;TZID=Asia/Tokyo:20240712T170000
DTSTAMP:20260419T123856Z
CREATED:20240630T080725Z
DESCRIPTION:イベント詳細はこちら\nhttps://techplay.jp/event/94998
 3?utm_medium=referral&utm_source=ics&utm_campaign=ics\n\n7/12(金) 「企
 業の未来をDXで推進～事例から学ぶAWS導入の成功アプ
 ローチ～」AWSセミナー in 札幌\n株式会社TOKAIコミュニ
 ケーションズは、2024年7月12日(金)に「企業の未来をDX
 で推進～事例から学ぶAWS導入の成功アプローチ～」と
 題しセミナーを開催いたします。クラウドについて知
 識を得たい方、AWSの導入を社内で検討したい方、オン
 プレミス環境からAWSへの移行をお考えの方に是非ご参
 加いただきたいセミナーです。業務システムをAWSへ移
 行することにより、これまでの物理サーバ保守や機器
 交換が不要となり、運用負荷の低減や利便性向上を図
 ることが可能です。また、同時にコスト削減も実現で
 きます。\n\nクラウドについて詳しく知りたい方\nAWS導
 入を検討している方\n会社としてAWSへの移行検討を進
 めることになったが、何から始めたら良いか分からな
 い方\n\n開催概要\nセミナー名称：企業の未来をDXで推
 進～事例から学ぶAWS導入の成功アプローチ～\n開催日
 ：2024年7月12日(金)15:00～（受付開始14:30）\n会　場：HOTn
 et共創空間Akallabo(赤れんがテラス)14階　　　　（札幌
 市中央区北2条西4丁目1-3）　　　　参加費：無料（要
 事前申込）\n共催：株式会社TOKAIコミュニケーションズ
 　　　アマゾン ウェブ サービス ジャパン合同会社　
 　　北海道総合通信網株式会社\n申込みURL　httpshttps://x
 .gd/VHhHV\nAGENDA\n※講演内容は変更になる場合があります
 。\n\n\n\n時間\n内容\n\n\n\n\n15:05-15:45\n札幌の未来を拓く
 ～AWSで広がるビジネスチャンス～講師：アマゾン ウェ
 ブ サービス ジャパン合同会社\n\n\n15:55-16:25\nオンプレ
 ミスからAWSクラウドへの移行実践ガイド ～具体的な
 移行手法や成功を導く重要ポイント～講師：株式会社T
 OKAIコミュニケーションズ\n\n\n16:25-16:45\nクラウド閉域
 接続ソリューションを活用したAWS Direct Connectの利用講
 師：北海道総合通信網株式会社\n\n\n
LOCATION:HOTnet共創空間Akallabo(赤れんがテラス)14階 札幌市
 中央区北2条西4丁目1-3
URL:https://techplay.jp/event/949983?utm_medium=referral&utm_source=ics&utm
 _campaign=ics
END:VEVENT
END:VCALENDAR
