BEGIN:VCALENDAR
VERSION:2.0
PRODID:-//https://techplay.jp//JP
CALSCALE:GREGORIAN
METHOD:PUBLISH
X-WR-CALDESC:SQLを使ったデータ分析事例紹介 〜2つの事例か
 ら学ぶSQLの活用方法〜【SQL勉強会 #4】
X-WR-CALNAME:SQLを使ったデータ分析事例紹介 〜2つの事例か
 ら学ぶSQLの活用方法〜【SQL勉強会 #4】
X-WR-TIMEZONE:Asia/Tokyo
BEGIN:VTIMEZONE
TZID:Asia/Tokyo
BEGIN:STANDARD
DTSTART:19700101T000000
TZOFFSETFROM:+0900
TZOFFSETTO:+0900
TZNAME:JST
END:STANDARD
END:VTIMEZONE
BEGIN:VEVENT
UID:950309@techplay.jp
SUMMARY:SQLを使ったデータ分析事例紹介 〜2つの事例から
 学ぶSQLの活用方法〜【SQL勉強会 #4】
DTSTART;TZID=Asia/Tokyo:20240731T190000
DTEND;TZID=Asia/Tokyo:20240731T200000
DTSTAMP:20260421T040628Z
CREATED:20240702T234752Z
DESCRIPTION:イベント詳細はこちら\nhttps://techplay.jp/event/95030
 9?utm_medium=referral&utm_source=ics&utm_campaign=ics\n\n概要\n【SQL
 を使ったデータ分析事例紹介！】データ分析が必須の
 時代においてSQLを活用したデータ分析は非常に便利で
 す。今回は基本的なSQLの理解と共に、実際にSQLを使っ
 たデータ分析の事例を2つご紹介します。SQLを使ってど
 のようなデータ分析ができるか具体的に知りたい方な
 どぜひご参加ください。\n本セミナーでは、データ分
 析で使うSQLがどんなものなのか基本的な内容から解説
 していきます。SQLを全く知らない方でも参加できる内
 容となっています。SQLの基礎から実例まで『データ分
 析力を高める ビジネスパーソンのためのSQL入門』の著
 書である高橋が詳しく説明します。\n質疑応答の時間
 もあるため、ぜひビジネスパーソンの皆様の抱える課
 題や疑問についても、ご質問いただけますと幸いです
 。\n【SQL Everyoneについて】この度、データ分析の内製
 化やDX推進を目指している企業向けにSQL研修サービス
 『SQL Everyone』を開始しました。SQLを学習することがデ
 ータ分析の内製化やDX推進のために最も重要なことだ
 と考えており、そのための研修を提供予定です。\n現
 代のビジネスシーンにおいてはデータ駆動型の意思決
 定が求められ、その中でSQL（Structured Query Language）は重
 要なスキルの1つです。SQLを使うことでビジネスにおけ
 るデータを効果的に管理・分析し、意思決定の質を向
 上させることができます。SQLを学習することでデータ
 の基礎を理解し、データを活用して意思決定をするた
 めに必要なスキルを学ぶことができます。\n本セミナ
 ーで話すこと\n\nデータ分析で使うSQLとは\nSQLを活用し
 たデータ分析事例（2つ）\nデータ分析力を高めるSQL研
 修サービス『SQL Everyone』の説明\n\nこんな方におすすめ
 \n\nビジネスパーソンの中でも現状データ分析に関わり
 がある方々\nビジネスパーソンとしてデータ分析に必
 要なSQLの知識を身につけたい方\nカンや経験だけでは
 ない根拠にもとづいた意思決定をしていきたい方\nSQL
 って聞いたことあるけどよくわからない方 / これからS
 QLを学びたい方\nデータ分析の内製化を目指す企業\nDX
 を推進する企業\nSQLを使ってどのようなデータ分析が
 できるか具体的に知りたい方\n\n登壇者\n高橋 光著書：
 データ分析力を高める ビジネスパーソンのためのSQL入
 門\n\n青山学院大学経営システム工学科卒業。2011年に
 新卒でヤフー株式会社に入社し、Webエンジニアとして
 サービスの開発、運用、企画、提案、など幅広くサー
 ビスに貢献。またHadoopやTeradataを利用したデータ分析
 や Tableauを使った可視化など、データを活用してサー
 ビスを成長させる仕組みを導入するなどデータ分析に
 関わる業務も担当。\n2016年からは株式会社イーブック
 イニシアティブジャパンに出向し、社内でデータサイ
 エンスグループを立ち上げグループマネジャー(部長)
 として社内のデータ活用を促進。マーケティング施策
 の効果検証、事業分析、プロダクトのABテストなどデ
 ータを活用した意思決定に貢献。チームメンバーのSQL
 スキルアップや社内全体でのSQL勉強会などのデータ活
 用スキルアップ活動なども行い、組織全体をデータド
 リブンにする活動を実施。\n2021年から外資系コンサル
 ティング企業に入社し、SQLを使ったデータ分析などデ
 ータを活用したマーケティング支援を実施。また複業
 としてプロバスケットボールリーグ(Bリーグ)のクラブ
 チームで、マーケティングストラテジストとしてデー
 タ分析のサポートを行ったり、その他複数社でSQLを活
 用したデータ分析のサポート経験あり。\nタイムスケ
 ジュール\n\n\n\n時間\n内容\n\n\n\n\n19:00 〜 19:05\n開始の挨
 拶\n\n\n19:05 〜 19:45\nSQLを使ったデータ分析事例紹介 〜2
 つの事例から学ぶSQLの活用方法〜\n\n\n19:45 〜 19:55\n質
 疑応答\n\n\n19:55 〜 20:00\n締めの挨拶\n\n\n\n参加方法\n\n
 本セミナーはオンラインセミナーのため、Zoom（ https://
 zoom.us/jp-jp/meetings.html ）を利用します。\n開催前に申込
 者宛に視聴URLをお送りしますので、Zoomの事前インスト
 ールをお願いいたします。\nビデオは映して頂いてもOK
 ですし、映さなくてもOKです。\n参加時は「ミュート」
 にして頂くようお願いいたします。\n
LOCATION:
URL:https://techplay.jp/event/950309?utm_medium=referral&utm_source=ics&utm
 _campaign=ics
END:VEVENT
END:VCALENDAR
