BEGIN:VCALENDAR
VERSION:2.0
PRODID:-//https://techplay.jp//JP
CALSCALE:GREGORIAN
METHOD:PUBLISH
X-WR-CALDESC:7/30（火）AWSを活用した、ネットワークセキュ
 リティ対策セミナー開催のお知らせ
X-WR-CALNAME:7/30（火）AWSを活用した、ネットワークセキュ
 リティ対策セミナー開催のお知らせ
X-WR-TIMEZONE:Asia/Tokyo
BEGIN:VTIMEZONE
TZID:Asia/Tokyo
BEGIN:STANDARD
DTSTART:19700101T000000
TZOFFSETFROM:+0900
TZOFFSETTO:+0900
TZNAME:JST
END:STANDARD
END:VTIMEZONE
BEGIN:VEVENT
UID:950327@techplay.jp
SUMMARY:7/30（火）AWSを活用した、ネットワークセキュリテ
 ィ対策セミナー開催のお知らせ
DTSTART;TZID=Asia/Tokyo:20240730T150000
DTEND;TZID=Asia/Tokyo:20240730T160000
DTSTAMP:20260423T170120Z
CREATED:20240703T040237Z
DESCRIPTION:イベント詳細はこちら\nhttps://techplay.jp/event/95032
 7?utm_medium=referral&utm_source=ics&utm_campaign=ics\n\n7/30（火）AWS
 を活用した、ネットワークセキュリティ対策セミナー\
 n概要\n株式会社TOKAIコミュニケーションズは、2024年7月
 30日（火）に、AWSを活用したネットワークセキュリテ
 ィ対策セミナーを開催します。※本セミナーは、2023年
 12月に実施したウェビナーのアーカイブ配信になりま
 す。\nサイバー攻撃の手口は日々巧妙となり、ウィル
 スだけではなく、ランサムウェアの被害も年々広がっ
 ています。先月、大手出版社のグループ会社がランサ
 ムウェアによる大規模なサイバー攻撃を受け多大な損
 害を被ったことは記憶に新しいことでしょう。これら
 の脅威に対する手段として、すでに多くの金融機関で
 も導入されている「インターネット分離」（ネットワ
 ーク分離とも言います）があります。\n講演では、イ
 ンターネット分離とは何か、AWSでインターネット分離
 を実現するにはどうすればいいのか。AWSのセキュリテ
 ィ、インターネット分離の現状と課題、インターネッ
 ト分離環境のお客様事例や実際のコスト試算をご紹介
 します。\n仮想デスクトップ環境を導入しているがセ
 キュリティ対策にお困りの方、これからセキュリティ
 対策の導入を検討されている方、インターネット分離
 について知りたい方にぜひご参加いただきたいセミナ
 ーです。\n\n\nこんな方にオススメです\n・業務端末と
 インターネット接続端末を分けており、業務効率が低
 下している・仮想デスクトップ環境のセキュリティ対
 策を検討している・短期間でサイバー攻撃対策を実施
 したい・AWSを利用したいが、セキュリティに懸念があ
 る・国や総務省、金融庁のガイドラインに沿ったセキ
 ュリティ対策を実現したい\nセミナー名称\n次にサイバ
 ー攻撃の被害に遭うのは、あなたかもしれない！そう
 なる前に知っておきたい、AWSではじめる内部ネットワ
 ークの防御法とは\nタイムスケジュール\n\n\n\n時間\n内
 容\n\n\n\n\n14:45～15:00\n受付開始\n\n\n15:00～15:05\n講演開始
 のご案内\n\n\n15:05～15:20\n金融・公共団体が備えるべき
 、サイバー攻撃対策とは講師：アマゾン ウェブ サー
 ビス ジャパン 合同会社\n\n\n15:20～15:35\nAWS EUCのご紹介
 とインターネット分離について講師：アマゾン ウェブ
  サービス ジャパン 合同会社\n\n\n15:35～15:50\nAWSを活用
 したネットワーク分離環境とは？講師：株式会社TOKAI
 コミュニケーションズ\n\n\n15:50～15:55\n講演終了のご案
 内\n\n\n\n参加費\n無料\n参加方法\n申込ページからお申
 込みをお願いします。※お申込み期限　開催日当日の1
 4:30までZoomウェビナーを使用し、開催します。事前にZo
 omウェビナーにアクセスできるブラウザ環境（Google Chro
 me、MozillFirefox）を準備いただき、環境チェックをお願
 いします。（環境チェックURL　 https://zoom.us/test）\n※
 同業他社の方のお申込み/ご参加はお断りしております
 。\n共催\n株式会社TOKAIコミュニケーションズアマゾン 
 ウェブ サービス ジャパン 合同会社\n注意事項\n\nリク
 ルーティング、勧誘など、採用目的でのイベント参加
 はお断りしております。\nキャンセル待ち・補欠・落
 選の方はご参加いただくことが出来ませんのでご了承
 ください。\n欠席される場合は、お手数ですが速やか
 にキャンセル処理をお願い致します。\n無断キャンセ
 ルや欠席が続く場合、次回以降の参加をお断りさせて
 いただく場合がございます。\n申込時アンケートを正
 確に回答頂けていない場合、個別にご連絡させていた
 だく場合がございます。\n
LOCATION:
URL:https://techplay.jp/event/950327?utm_medium=referral&utm_source=ics&utm
 _campaign=ics
END:VEVENT
END:VCALENDAR
