BEGIN:VCALENDAR
VERSION:2.0
PRODID:-//https://techplay.jp//JP
CALSCALE:GREGORIAN
METHOD:PUBLISH
X-WR-CALDESC:【U24】GPU争奪LT大会 with ローカルLLMに向き合う
 会
X-WR-CALNAME:【U24】GPU争奪LT大会 with ローカルLLMに向き合う
 会
X-WR-TIMEZONE:Asia/Tokyo
BEGIN:VTIMEZONE
TZID:Asia/Tokyo
BEGIN:STANDARD
DTSTART:19700101T000000
TZOFFSETFROM:+0900
TZOFFSETTO:+0900
TZNAME:JST
END:STANDARD
END:VTIMEZONE
BEGIN:VEVENT
UID:950444@techplay.jp
SUMMARY:【U24】GPU争奪LT大会 with ローカルLLMに向き合う会
DTSTART;TZID=Asia/Tokyo:20240730T190000
DTEND;TZID=Asia/Tokyo:20240730T220000
DTSTAMP:20260423T180203Z
CREATED:20240704T001520Z
DESCRIPTION:イベント詳細はこちら\nhttps://techplay.jp/event/95044
 4?utm_medium=referral&utm_source=ics&utm_campaign=ics\n\n【U24】GPU争
 奪LT大会 with ローカルLLMに向き合う会\n概要\nLT大会開
 いて登壇してくれた人にGPU渡します。\nテーマは「ロ
 ーカルLLM」であればなんでも良いです！それを使って
 アプリを作ってみたでも、ローカルLLMのチューニング
 してみたでも、ローカルLLMのアーキテクチャを考えて
 みたでもOK！既に自分用のH100を持っている方でも大丈
 夫！中古GPU不要枠もあります。\n登壇参加フォームは
 こちらです！登壇締め切り：7/20\n中古GPUは大体VRAM8GB ~ 
 16GBの間に収まるGPUが配られる予定です。GPU富豪がいた
 場合はその限りではありません。\nタイムスケジュー
 ル\n\n\n\n時間\n内容\n\n\n\n\n19:00〜\nオープニング\n\n\n19:1
 0～22:00\n発表\n\n\n\n※ 当日予告なく時間配分・内容が
 変更になる可能性がございます。\n登壇者\n未定\n参加
 対象\n\nローカルLLMが好きな人\nローカルLLMが気になる
 人\n\n参加費\n無料\n注意事項\n\nリクルーティング、勧
 誘など、採用目的でのイベント参加はお断りしており
 ます。\nキャンセル待ち・補欠・落選の方はご参加い
 ただくことが出来ませんのでご了承ください。\n欠席
 される場合は、お手数ですが速やかにキャンセル処理
 をお願い致します。\n無断キャンセルや欠席が続く場
 合、次回以降の参加をお断りさせていただく場合がご
 ざいます。\n
LOCATION:
URL:https://techplay.jp/event/950444?utm_medium=referral&utm_source=ics&utm
 _campaign=ics
END:VEVENT
END:VCALENDAR
