BEGIN:VCALENDAR
VERSION:2.0
PRODID:-//https://techplay.jp//JP
CALSCALE:GREGORIAN
METHOD:PUBLISH
X-WR-CALDESC:【有料級】LINE公式アカウントで新規獲得×リ
 ピート購入を生み出す戦略
X-WR-CALNAME:【有料級】LINE公式アカウントで新規獲得×リ
 ピート購入を生み出す戦略
X-WR-TIMEZONE:Asia/Tokyo
BEGIN:VTIMEZONE
TZID:Asia/Tokyo
BEGIN:STANDARD
DTSTART:19700101T000000
TZOFFSETFROM:+0900
TZOFFSETTO:+0900
TZNAME:JST
END:STANDARD
END:VTIMEZONE
BEGIN:VEVENT
UID:950515@techplay.jp
SUMMARY:【有料級】LINE公式アカウントで新規獲得×リピー
 ト購入を生み出す戦略
DTSTART;TZID=Asia/Tokyo:20240716T140000
DTEND;TZID=Asia/Tokyo:20240716T140000
DTSTAMP:20260419T193917Z
CREATED:20240704T085139Z
DESCRIPTION:イベント詳細はこちら\nhttps://techplay.jp/event/95051
 5?utm_medium=referral&utm_source=ics&utm_campaign=ics\n\n【有料級】L
 INE公式アカウントで新規獲得×リピート購入を生み出
 す戦略\nLINE公式アカウントの活用において、下記のよ
 うなお悩みをお持ちではないでしょうか？\n【このよ
 うなお悩みをお持ちの方に】\n\nLINE公式アカウントを
 登録したものの、どう活用したらいいかわからない\nLI
 NE公式アカウントで新規客やリピーターが増える施策
 を自動化させたい\nLINE公式アカウントをもっと使いこ
 なしたい\n\n今回のセミナーでは、新規顧客やリピータ
 ーの集客に成功する、エッコ式LINE公式アカウント運用
 戦略を徹底解説します。来店率爆上がりの成功事例も
 紹介するセミナーとなっておりますので、ぜひお気軽
 にご参加くださいませ！\nこのセミナーで学べること\n
 \nLINEを利用した集客方法\nLINEで集客するときに活用す
 る基本機能\n集客におけるLINE構築成功のポイント(エッ
 コ流)\nLINE公式アカウントで友だちを増やすためのエッ
 コ式3つのコツ\n\n※ 当日予告なく時間配分・内容が変
 更になる可能性がございます。\n登壇者\n九郎丸 大樹\n
 株式会社エッコ　代表取締役\n入社後7年間で100社以上
 のWebマーケティングに関与。中小企業〜上場企業まで
 売上や業績UPの実績を多数持ち、1年間で業績を10倍以
 上上げた実績も。現在はWebマーケティングに加え、生
 成AIの導入支援やコンサルティング、関連セミナーな
 どを各社にて実施。\n【株式会社エッコについて】名
 古屋　Webコンサルティング会社株式会社エッコは競合
 企業の多いWebマーケティング業界で、15年以上にわた
 り実績重ねる。マーケティングの最前線で結果を出し
 てきたノウハウと情熱を活用し、LINEコンサルティング
 サービス開始。\nセミナー詳細\n開催日時：2024年7月16
 日（火）14:00~15:00場所：オンライン（Zoom）※お申し込
 み登録後、視聴用URLが送付されます参加費：無料主催
 ：株式会社エッコ\n注意事項\n\nリクルーティング、勧
 誘など、採用目的でのイベント参加はお断りしており
 ます。\nキャンセル待ち・補欠・落選の方はご参加い
 ただくことが出来ませんのでご了承ください。\n欠席
 される場合は、お手数ですが速やかにキャンセル処理
 をお願い致します。\n無断キャンセルや欠席が続く場
 合、次回以降の参加をお断りさせていただく場合がご
 ざいます。\n
LOCATION:
URL:https://techplay.jp/event/950515?utm_medium=referral&utm_source=ics&utm
 _campaign=ics
END:VEVENT
END:VCALENDAR
