BEGIN:VCALENDAR
VERSION:2.0
PRODID:-//https://techplay.jp//JP
CALSCALE:GREGORIAN
METHOD:PUBLISH
X-WR-CALDESC:人材難・市場環境変化に立ち向かう中小製造
 業の挑戦【7月25日】
X-WR-CALNAME:人材難・市場環境変化に立ち向かう中小製造
 業の挑戦【7月25日】
X-WR-TIMEZONE:Asia/Tokyo
BEGIN:VTIMEZONE
TZID:Asia/Tokyo
BEGIN:STANDARD
DTSTART:19700101T000000
TZOFFSETFROM:+0900
TZOFFSETTO:+0900
TZNAME:JST
END:STANDARD
END:VTIMEZONE
BEGIN:VEVENT
UID:950974@techplay.jp
SUMMARY:人材難・市場環境変化に立ち向かう中小製造業の
 挑戦【7月25日】
DTSTART;TZID=Asia/Tokyo:20240725T110000
DTEND;TZID=Asia/Tokyo:20240725T120000
DTSTAMP:20260421T053336Z
CREATED:20240709T060428Z
DESCRIPTION:イベント詳細はこちら\nhttps://techplay.jp/event/95097
 4?utm_medium=referral&utm_source=ics&utm_campaign=ics\n\n概要\n今回
 は、中小製造業が新しい時代に適応するためのヒント
 や策略を、「生の声」としてお届けします。\n現代の
 中小製造業は、外部環境の劇的な変化により、人材難
 や受注品目の多角化などの課題に立ち向かっています
 。熟練工の減少、生産管理の複雑化…これらの問題に
 共感いただける企業は多いでしょう。そこで、本セミ
 ナーでは「最適ワークス」の活用によってこれらの変
 化に立ち向かう基盤を整えた、スザキ工業所の鷲崎圭
 一朗氏をゲストに迎えます。\n導入の契機、成功の秘
 訣、そして得られた結果を、弊社CEO内村との対談形式
 でご紹介します。\nこんな方におすすめ\n\n海外技能実
 習生など多様な人材を活用し、事業展開の未来を見据
 える製造業のリーダーの方\n30年後の事業展開を真剣に
 考える新世代の社長・経営者の皆様\n受注・製造品目
 の多角化への対処を模索している企業の皆様\nDXの推進
 に課題感を抱える中小製造業の皆様\n\nこんなことを話
 します\n\n「最適ワークス」導入によって具体的に何が
 変わったのか？\n人材育成・採用のヒントと経営戦略
 のポイント\n一見、難しそうに感じる「データ設定」
 はどのように進めたのか？\n\n※ 同業他社およびその
 関係者の方は、お断りさせていただく場合がございま
 す。※ お申込が多い場合は早期に受付終了、あるいは
 抽選をさせていただく場合がございます。
LOCATION:
URL:https://techplay.jp/event/950974?utm_medium=referral&utm_source=ics&utm
 _campaign=ics
END:VEVENT
END:VCALENDAR
