BEGIN:VCALENDAR
VERSION:2.0
PRODID:-//https://techplay.jp//JP
CALSCALE:GREGORIAN
METHOD:PUBLISH
X-WR-CALDESC:自社のCRM･ERP･SFAと連携したデータ分析基盤
 をHeatWaveで構築する方法
X-WR-CALNAME:自社のCRM･ERP･SFAと連携したデータ分析基盤
 をHeatWaveで構築する方法
X-WR-TIMEZONE:Asia/Tokyo
BEGIN:VTIMEZONE
TZID:Asia/Tokyo
BEGIN:STANDARD
DTSTART:19700101T000000
TZOFFSETFROM:+0900
TZOFFSETTO:+0900
TZNAME:JST
END:STANDARD
END:VTIMEZONE
BEGIN:VEVENT
UID:951348@techplay.jp
SUMMARY:自社のCRM･ERP･SFAと連携したデータ分析基盤をHeat
 Waveで構築する方法
DTSTART;TZID=Asia/Tokyo:20240730T110000
DTEND;TZID=Asia/Tokyo:20240730T123000
DTSTAMP:20260420T210000Z
CREATED:20240712T003418Z
DESCRIPTION:イベント詳細はこちら\nhttps://techplay.jp/event/95134
 8?utm_medium=referral&utm_source=ics&utm_campaign=ics\n\nCRM･ERP･SFA
 のデータをCData Syncを使ってHeatWaveに連携、データ分析
 基盤を構築する\n▽こちらからもお申込みできますhttps
 ://www.s-style.co.jp/press/24718\nデータ利活用において社内デ
 ータのサイロ化が課題\n多くの企業では、オンプレミ
 スの基幹システムやSaaS の業務アプリケーションを組
 み合わせて利用しています。業務活動の結果がデジタ
 ルデータとして保管されるなかでデータ量は膨大とな
 り、それぞれが連携されずサイロ化してしまうことが
 データを有効活用するうえでの課題となっています。\
 n顧客との接点で得た情報はSalesforce、Adobe Marketo Engage、
 Google Analytics 4 やSAPなどの複数のSaaSアプリケーション
 に分散しており、顧客管理における全容の把握が困難
 になっています。\nETL / ELT ツール『CData Sync』が大規模
 なデータ分析基盤に適するHeatWave に対応\nHeatWave は、
 オラクルが提供するMySQL ベースのクラウド提供のデー
 タベースサービスです。HeatWaveは超並列でインメモリ
 のハイブリッドな列指向のクエリ処理エンジンを搭載
 することで大規模なスケーリングとパフォーマンスを
 実現することが可能です。\nクラウド・DB データのETL /
  ELT ツールである『CData Sync』がデータの同期先としてH
 eatWave に対応したことで、400種類以上のSaaS・DB に格納
 されている業務データをHeatWave に収集し、企業データ
 を統合したデータ分析基盤をノーコード・低コストで
 利用することが可能となりました。\nCRM・ERP・SFAと連
 携したデータ分析基盤をHeatWave で構築する\n本セミナ
 ーでは、CData Sync とHeatWave を組み合わせてSAP・Dynamics 36
 5・Salesforce・NetSuite などニーズの高いデータソースと
 連携してデータ分析基盤を構築するためのポイントに
 ついて解説します。\nデータの利活用のために分析基
 盤構築をお考えの方は、ぜひご参加ください。\nセミ
 ナー対象者\n● 分析基盤を導入しようとしている方● 
 データが連携できずサイロ化してデータ活用ができず
 お悩みの方● 色々なデータ連携ツールがあるがどれが
 良いか迷っている方● データの民主化に取り組まれて
 いる方\n※SIer様、同業他社様、および 個人、個人事業
 主の方からのお申し込みはお断りさせて頂く場合がご
 ざいます。\n開催情報\n\n\n\n項目\n内容\n\n\n\n\n日時\n2024
 年7月30日（火）11:00-12:30\n\n\n会場\nオンライン配信　Zoo
 m※事前にzoomのテストをお願いします https://zoom.us/test\n
 \n\n定員\n50名\n\n\n参加費\n無料\n\n\n参加申込み締切り\n2
 024年7月29日（月）17:00\n\n\n主催\n株式会社スマートスタ
 イル\n\n\n共催\nCData Software Japan 合同会社日本オラクル
 株式会社\n\n\n\nプログラム\n\n\n\n時間\n内容\n\n\n\n\n11:00
 ～11:25\nCData Syncを使って自社システムとHeatWaveを連携さ
 せる方法CData Software Japan 合同会社 杉本 和也 氏\n\n\n11:2
 5～11:50\nデータ分析基盤としてのHeatWaveの強み日本オラ
 クル株式会社 林 永治 氏\n\n\n11:50～12:15\nHeatWave・CData Sy
 nc導入支援サービス・事例の紹介みスマートスタイル
 株式会社 内藤 達也 氏\n\n\n11:50～12:15\n質疑応答\n\n\n\n
 ▽こちらからもお申込みできますhttps://www.s-style.co.jp/pr
 ess/24718\n\n\n本セミナーはWebセミナーですZoomを利用しま
 すので、事前に以下のURLでテストをお願い致します。 
 https://zoom.us/test※視聴方法について：開催日前までに
 別途専用URLをお送りいたします。※メールが届かない
 などのお問合せ・ご不明点やキャンセルなどは、セミ
 ナー運営事務局へご連絡ください。\n\nお問合せ\nスマ
 ートスタイルセミナー運営事務局 marketing@s-style.co.jp
LOCATION:
URL:https://techplay.jp/event/951348?utm_medium=referral&utm_source=ics&utm
 _campaign=ics
END:VEVENT
END:VCALENDAR
