BEGIN:VCALENDAR
VERSION:2.0
PRODID:-//https://techplay.jp//JP
CALSCALE:GREGORIAN
METHOD:PUBLISH
X-WR-CALDESC:7/26 （金）アクセンチュアテクノロジー福岡中
 途採用セミナー　ITコンサル/エンジニア（現地＋オン
 ライン）
X-WR-CALNAME:7/26 （金）アクセンチュアテクノロジー福岡中
 途採用セミナー　ITコンサル/エンジニア（現地＋オン
 ライン）
X-WR-TIMEZONE:Asia/Tokyo
BEGIN:VTIMEZONE
TZID:Asia/Tokyo
BEGIN:STANDARD
DTSTART:19700101T000000
TZOFFSETFROM:+0900
TZOFFSETTO:+0900
TZNAME:JST
END:STANDARD
END:VTIMEZONE
BEGIN:VEVENT
UID:951402@techplay.jp
SUMMARY:7/26 （金）アクセンチュアテクノロジー福岡中途
 採用セミナー　ITコンサル/エンジニア（現地＋オンラ
 イン）
DTSTART;TZID=Asia/Tokyo:20240726T193000
DTEND;TZID=Asia/Tokyo:20240726T210000
DTSTAMP:20260423T200748Z
CREATED:20240712T070202Z
DESCRIPTION:イベント詳細はこちら\nhttps://techplay.jp/event/95140
 2?utm_medium=referral&utm_source=ics&utm_campaign=ics\n\n概要\nテク
 ノロジー コンサルティング本部CrossｰPlatform（福岡）
 グループによるITコンサルタントセミナーと座談会を
 開催します。仕事内容や魅力をご紹介します。現場で
 活躍中の社員と座談会も予定しています。応募意思不
 問です。\n応募ファーム\n7/26 （金）アクセンチュアテ
 クノロジー福岡中途採用セミナー　ITコンサル/エンジ
 ニア（現時＋オンライン） (office.com)\nタイムスケジュ
 ール\n\n\n\n時間\n詳細\n\n\n\n\n19:30～19:40\n1. オープニン
 グセッション　　イベント趣旨説明　　会社概要と今
 回の採用イベントの目的説明\n\n\n19:40～20:10\n2. パネル
 ディスカッション　　テーマ: 「ATCFの魅力と成長の機
 会」　　パネリスト: 現役社員　　各社員のキャリア
 パスや成功体験等をトーク予定\n\n\n20:10～20:50\n3. 4部署
  座談会セッション　　各テーマごとにグループ分け（
 現地参加者＋オンライン参加者）　　　テーマ例:　　
 　1. キャリアアップとスキルの磨き方　　　2. ワーク
 ライフバランスの取り方　　　3. チームマネジメント
 のコツ　　　4. 最先端テクノロジーとその応用\n\n\n20:5
 0～21:00\n4. クロージングセッション　　各グループか
 らの発表と質疑応答　　次回イベントの告知\n\n\n\n※ 
 当日予告なく時間配分・内容が変更になる可能性がご
 ざいます。\n参加対象\n・大学卒業以上・何らかのIT経
 験2年以上～・福岡で就業されたい方（UIターン歓迎で
 す！）・興味はあるけど応募するか悩み中、まずは話
 を聞いてみたいなどカジュアルでOK！\n場所\n現地会場
 （アクセンチュア福岡)\n◆現地会場◆　FD博多ビジネ
 スセンター所在地：〒812-0024　福岡県福岡市博多区綱
 場町2-9　FD博多ビジネスセンター（受付：8階 カフェス
 ペース）https://www.accenture.com/content/dam/accenture/final/a-com-m
 igration/pdf/accenture-aip-fukuoka-map-jp-20181106.pdf#zoom=50\n参加費
 \n無料\n注意事項\n\n欠席される場合は、お手数ですが
 速やかにキャンセル処理をお願い致します。\n無断キ
 ャンセルや欠席が続く場合、次回以降の参加をお断り
 させていただく場合がございます。\n
LOCATION:アクセンチュア・インテリジェント・オペレーシ
 ョンセンター福岡 福岡県福岡市博多区綱場町2-9　FD博
 多ビジネスセンター（受付：8階 カフェスペース）
URL:https://techplay.jp/event/951402?utm_medium=referral&utm_source=ics&utm
 _campaign=ics
END:VEVENT
END:VCALENDAR
