BEGIN:VCALENDAR
VERSION:2.0
PRODID:-//https://techplay.jp//JP
CALSCALE:GREGORIAN
METHOD:PUBLISH
X-WR-CALDESC:情報を伝える力を高める Webライティング入門
 オンライン講座Vol.4 〜取材力を鍛える〜
X-WR-CALNAME:情報を伝える力を高める Webライティング入門
 オンライン講座Vol.4 〜取材力を鍛える〜
X-WR-TIMEZONE:Asia/Tokyo
BEGIN:VTIMEZONE
TZID:Asia/Tokyo
BEGIN:STANDARD
DTSTART:19700101T000000
TZOFFSETFROM:+0900
TZOFFSETTO:+0900
TZNAME:JST
END:STANDARD
END:VTIMEZONE
BEGIN:VEVENT
UID:951609@techplay.jp
SUMMARY:情報を伝える力を高める Webライティング入門オン
 ライン講座Vol.4 〜取材力を鍛える〜
DTSTART;TZID=Asia/Tokyo:20240904T190000
DTEND;TZID=Asia/Tokyo:20240904T200000
DTSTAMP:20260420T083700Z
CREATED:20240716T005942Z
DESCRIPTION:イベント詳細はこちら\nhttps://techplay.jp/event/95160
 9?utm_medium=referral&utm_source=ics&utm_campaign=ics\n\n情報を伝え
 る力を高める Webライティング入門オンライン講座Vol.4 
 〜取材力を鍛える〜\nクリーク･アンド･リバー社（C&
 R社）は、9月4日（水）にWebライティングに関する無料
 ウェビナーを開催します。\n「Webライティング」とは
 、インターネット上で情報を伝えるために文章を書く
 ことで、具体的には、Webサイト・ブログ・ソーシャル
 メディア・オンライン広告・電子メールなどのデジタ
 ルメディアにおける文章の作成や編集も含まれていま
 す。\nWebライティングでは、読者の関心を引きつけ、
 情報を分かりやすく伝えるためのスキルが必要です。
 それには、適切なキーワードの選定、わかりやすい文
 章構造の作成、読み手のニーズや興味を考慮したコン
 テンツの提供などが重要です。\nまた、SEO（Search Engine 
 Optimization：検索エンジン最適化）の観点からも、検索
 エンジンのアルゴリズムに対応するために、適切なキ
 ーワードの使用やコンテンツの質の向上が求められま
 す。\n4回目の今回は、取材する際の事前準備や当日の
 注意点、いいエピソードを引き出す質問力について、
 講師が実践していることや注意点などを初心者の方に
 もわかりやすく具体的にお話いただきます。\nこんな
 ことをお話します！\n\n「良い取材」は「いい話が聞け
 た」だけじゃない\n事前準備はどこまで何をしたらい
 いのか\nいい話を引き出すために気をつけたいこと\n質
 問力はどうやったらつくのか\n「ダメな取材」でやり
 がち＆起きがちなこと\n\nこんな方にオススメ！\n\nラ
 イターを目指されている方\nWebライターの営業方法に
 ついて知りたい方\nフリーランスライターの方\n\nタイ
 ムスケジュール\n\n\n\n時間\n内容\nspeaker\n\n\n\n\n19：00～1
 9：05\nオープニング\nC&R社\n\n\n19：05～19：50\n講演\nおお
 しま　りえ 氏\n\n\n19：50～20：00\n質疑応答\n\n\n\n20：00
 ～\nクロージング\n\n\n\n\n※ 当日予告なく時間配分・内
 容が変更になる可能性がございます。\n登壇者\nおおし
 ま　りえ 氏\n株式会社フミニティ代表。フリーライタ
 ー・国家資格キャリアコンサルタント。\n2013年より恋
 愛や女性向けライフスタイルを主な専門ジャンルとし
 てライター活動を開始。そこから書籍や雑誌、Webなど
 、様々な媒体で執筆を行う。現在はanan、女性自身、日
 経クロスウーマン、現代ビジネスオンラインなど大手
 メデイアを中心に執筆する傍ら、国家資格キャリアコ
 ンサルタントを取得。クリエイターやフリーランスに
 特化したキャリア支援や情報発信も行っている。\n\n公
 式HP「コラムニストおおしまりえオフィシャルサイト
 」X：@utena0518\n参加対象\n・ライターをめざしている方
 ・Webライティングに必要なスキルを知りたい方・上手
 くライティングができなくて悩んでいる方・オンライ
 ン広告のご担当者・SNS運用のご担当者　など\n参加費\n
 無料\n当ウェビナーについて\n\n\nこちらのサイトから
 もお申込みいただくことができます。\n\n\n▼C&R社で実
 施しているオンライン講座・ウェビナー　一覧ページh
 ttps://www.c-place.ne.jp/
LOCATION:
URL:https://techplay.jp/event/951609?utm_medium=referral&utm_source=ics&utm
 _campaign=ics
END:VEVENT
END:VCALENDAR
