BEGIN:VCALENDAR
VERSION:2.0
PRODID:-//https://techplay.jp//JP
CALSCALE:GREGORIAN
METHOD:PUBLISH
X-WR-CALDESC:中部Tableauわいわい会 (オフライン)#18　CODE BASE 
 NAGOYAに集合！！　テーマ：Tableau Prep
X-WR-CALNAME:中部Tableauわいわい会 (オフライン)#18　CODE BASE 
 NAGOYAに集合！！　テーマ：Tableau Prep
X-WR-TIMEZONE:Asia/Tokyo
BEGIN:VTIMEZONE
TZID:Asia/Tokyo
BEGIN:STANDARD
DTSTART:19700101T000000
TZOFFSETFROM:+0900
TZOFFSETTO:+0900
TZNAME:JST
END:STANDARD
END:VTIMEZONE
BEGIN:VEVENT
UID:951897@techplay.jp
SUMMARY:中部Tableauわいわい会 (オフライン)#18　CODE BASE NAGOY
 Aに集合！！　テーマ：Tableau Prep
DTSTART;TZID=Asia/Tokyo:20240823T190000
DTEND;TZID=Asia/Tokyo:20240823T203000
DTSTAMP:20260421T045649Z
CREATED:20240718T070326Z
DESCRIPTION:イベント詳細はこちら\nhttps://techplay.jp/event/95189
 7?utm_medium=referral&utm_source=ics&utm_campaign=ics\n\n「中部Tableau
 わいわい会」を開催します！\nオフライン開催につい
 て\n今回はオフライン(現地開催)での開催とさせていた
 だきます。遠方のみなさま、今回は申し訳ございませ
 ん。\nテーマ\n今回は「Tableau Prep」に焦点を当てたわい
 わい会とします。当日は下記のテーマに分かれて会話
 しますので、申込時アンケートにご希望のテーマを選
 択してください。・Prep初めてのハンズオン(Prepインス
 トール済のPCを持参ください。ライセンスお持ちでな
 くてもインストール後2週間は体験版として活用できま
 す。)・Prepなんでも相談室\n開催日時\n2024年 8月 23日(金
 ) 19:00～20:30 予定 (18:45受付開始)※18時半まで同会場で
 別のイベントが開催されているため、受付開始時間以
 降でのご入場をお願いいたします\n会場CODE BASE NAGOYA  (
 名古屋市中区葵)最寄り駅：新栄町 (名古屋市営地下鉄 
 東山線)\nタイムスケジュール\n\n\n\n時間\n内容\n\n\n\n\n18
 :45～19:00\n受付\n\n\n19:00～19:05\nはじめに\n\n\n19:05～19:20\n
 自己紹介\n\n\n19:20～20:30\n自由にわいわい\n\n\n20:30\n解散
 有志の方で懇親会 (割り勘)\n\n\n\n参加対象\n\nTableauにつ
 いてみんなでワイワイしたい人\nTableauを触ってる人、
 触りたい人、興味がある人※中部エリア以外の方の参
 加も大歓迎です！\n\n参加費\n無料\n参加者のみなさま
 へのお願い\n\nTableauの特性上、社外秘データを取り扱
 っている場合もあるかと思いますので、社外の方に見
 せる場合にはテストデータを用意する等、ご注意願い
 ます。\nエントリー時にアンケートにご協力ください
 。※個人情報利用についてのお断り　申込時にご提供
 いただいた情報は、主催者・JTUG・サポート企業にて、
 イベント受付管理や各種ご案内　(サービス・イベント
 等)に利用させていただきます。\nイベント終了後にア
 ンケートへのご協力をお願いいたします。\nイベント
 当日の撮影・録画及び録音はご遠慮ください。\n
LOCATION:CODE BASE NAGOYA 愛知県名古屋市中区葵1-23-14 プロト
 葵ビル6F
URL:https://techplay.jp/event/951897?utm_medium=referral&utm_source=ics&utm
 _campaign=ics
END:VEVENT
END:VCALENDAR
