BEGIN:VCALENDAR
VERSION:2.0
PRODID:-//https://techplay.jp//JP
CALSCALE:GREGORIAN
METHOD:PUBLISH
X-WR-CALDESC:Google ドライブのデータを守る方法 7 選
X-WR-CALNAME:Google ドライブのデータを守る方法 7 選
X-WR-TIMEZONE:Asia/Tokyo
BEGIN:VTIMEZONE
TZID:Asia/Tokyo
BEGIN:STANDARD
DTSTART:19700101T000000
TZOFFSETFROM:+0900
TZOFFSETTO:+0900
TZNAME:JST
END:STANDARD
END:VTIMEZONE
BEGIN:VEVENT
UID:951906@techplay.jp
SUMMARY:Google ドライブのデータを守る方法 7 選
DTSTART;TZID=Asia/Tokyo:20240820T160000
DTEND;TZID=Asia/Tokyo:20240820T170000
DTSTAMP:20260425T003831Z
CREATED:20240718T105732Z
DESCRIPTION:イベント詳細はこちら\nhttps://techplay.jp/event/95190
 6?utm_medium=referral&utm_source=ics&utm_campaign=ics\n\nGoogle ドライ
 ブのデータを守る方法 7 選\n概要\nGoogle Workspace で利用
 できる Google ドライブはいつでもどこからでも社内デ
 ータにアクセスできるプロダクトであり、働き方改革
 を推進できるツールの1つです。さらに社外へデータの
 共有もかんたんにできる利点もありますが、その反面
 セキュリティ事故のリスクもあります。本セミナーで
 は、Google ドライブを安全に使用するためのセキュリテ
 ィ設定をご紹介します。\nタイムスケジュール\n\n\n\n時
 間\n内容\n\n\n\n\n15:50 -\n受付開始\n\n\n16:00 - 16:50\n◆講師
 株式会社G-genカスタマーサクセス課荒井 雄基\n\n\n16:50-1
 7:00\n質問コーナー、アンケートのご案内\n\n\n\n※ 当日
 予告なく時間配分・内容が変更になる可能性がござい
 ます。\n参加対象\n\nクラウドストレージを導入したい
 が、情報漏洩などセキュリティが不安な方\nGoogle ドラ
 イブを導入したが、どんなセキュリティ設定をしたら
 良いかわからない方\n重要情報（データ）を保護、セ
 キュリティ強化を検討している方\n\n参加費\n無料\n注
 意事項\n\nリクルーティング、勧誘など、採用目的での
 イベント参加はお断りしております。\nキャンセル待
 ち・補欠・落選の方はご参加いただくことが出来ませ
 んのでご了承ください。\n欠席される場合は、お手数
 ですが速やかにキャンセル処理をお願い致します。\n
 無断キャンセルや欠席が続く場合、次回以降の参加を
 お断りさせていただく場合がございます。\n大変恐縮
 ではございますが、同業・競合他社の皆様につきまし
 ては、セミナーへの参加をご遠慮いただいております
 。\n
LOCATION:
URL:https://techplay.jp/event/951906?utm_medium=referral&utm_source=ics&utm
 _campaign=ics
END:VEVENT
END:VCALENDAR
