BEGIN:VCALENDAR
VERSION:2.0
PRODID:-//https://techplay.jp//JP
CALSCALE:GREGORIAN
METHOD:PUBLISH
X-WR-CALDESC:CV50倍！知識ゼロから始められる「SEOコンサル
 タント養成講座」セミナー@渋谷
X-WR-CALNAME:CV50倍！知識ゼロから始められる「SEOコンサル
 タント養成講座」セミナー@渋谷
X-WR-TIMEZONE:Asia/Tokyo
BEGIN:VTIMEZONE
TZID:Asia/Tokyo
BEGIN:STANDARD
DTSTART:19700101T000000
TZOFFSETFROM:+0900
TZOFFSETTO:+0900
TZNAME:JST
END:STANDARD
END:VTIMEZONE
BEGIN:VEVENT
UID:952532@techplay.jp
SUMMARY:CV50倍！知識ゼロから始められる「SEOコンサルタン
 ト養成講座」セミナー@渋谷
DTSTART;TZID=Asia/Tokyo:20240807T160000
DTEND;TZID=Asia/Tokyo:20240807T170000
DTSTAMP:20260420T110542Z
CREATED:20240724T103900Z
DESCRIPTION:イベント詳細はこちら\nhttps://techplay.jp/event/95253
 2?utm_medium=referral&utm_source=ics&utm_campaign=ics\n\n資料請求50
 倍！アクセス300倍！医療KW１位！の3つの事例から学ぶ
 プロのSEOノウハウとは\n本セミナーはこのような方に
 最適です。\n\n短期間でプロレベルのSEOノウハウを習得
 されたい方\nWEB制作会社、SNS運用代行会社、動画制作
 会社、リスティング広告代行会社、医療系や専門職コ
 ンサルタント、Web集客のクライアントを抱えているがS
 EO相談にも対応したい方\n社内で集客メディア構築をご
 検討の方\nこれから自社でインハウスSEOをしていきた
 い方\nクライアントのSEO満足度をもっと高めたい方\n\n
 無料セミナーで手に入る物\n\nクライアントにSEO成果を
 届けるためにすべきこと\nSEOを成功させるための重要
 な6つのポイント\n資料請求50倍、アクセス300倍、医療KW
 １位の3つの事例から学ぶ成功事例\nChatGPT活用で成果を
 出しつつ効率化（初級編）\n\n初心者でも成果につなが
 るSEOコンサルタントとして活躍できる「SEOコンサルタ
 ント養成講座」のご紹介をお見逃しなく。\n中小企業
 からプライム上場企業までSEOコンサルティングを行い
 、最難関キーワード「FX」1位施策参画、SEO会社からのS
 EOコンサルティング依頼があるトップレベルのコンサ
 ルタントが講師を行います。\nSEOコンサルタントのノ
 ウハウを身に着けたい方、クライアントにSEOで満足し
 ていただきたい方、自社でSEO成果を出したい方にとっ
 て、成果を出し続けている現役SEOコンサルタントの最
 新ノウハウ手に入る唯一の機会になるかもしれません
 。\nお客様より強い要望があり再開催が決定しました
 が、まだ次回開催予定はありません。このチャンスを
 逃さないよう、ぜひ無料セミナーにご参加ください。\
 n開催日程\n\n\n\n日程\n開場時間\n\n\n\n\n8/7 （水）　16:00~
 17:00\n（開場15:40）\n\n\n\n登壇者\n\n立木　達也\n株式会
 社フリースクエア　ゼネラルマネジャー\nSEOコンサル
 ティング実績（一部）\n\n\n金融系の東証1部上場企業\n
 日本有数の東証プライム上場企業\n年商70億の流通系企
 業\n全国5000店鋪以上の大型FC企業\n全国展開中の教育企
 業\nSEO会社に対するSEOコンサルティング\n年商20億超え
 のアパレル会社\n日本有数の某広告代理店企業\n全国展
 開中の整体院\n国内有数のITクラウドサービス事業\n\n\n
 \n＜講師プロフィール＞\nWEBデザイナー時代にSEOを本格
 的に開始し、勤めた会社で400以上の地域ページを上位
 表示させる。\nSEO知識をベースにマーケティングコン
 サルティング会社へ転職し、マーケティングを身に着
 けながらSEOコンサルティング部署を立ち上げ、最難関
 キーワード「FX」1位施策に参画。\nGoogle特許解析を趣
 味にしながら、結果の出る「SEOライティングメゾット
 」を確立し、SEOコンサルティングで上位表示率90％超
 えメディアを連発する。\nSEO会社からも相談が来るSEO
 コンサルタントとして活躍。更にSEOで悩む多業種のク
 ライアントを求め現在の（株）フリースクエアへ転職
 し、中小企業からプライム上場企業まで幅広い企業で
 成果を出し続けている。\n\n\n参加費\n無料\n注意事項\n\
 n名刺を1枚お持ちください。\nセミナー会場はこちら：
 〒150-0041　東京都渋谷区神南1-9-2 大畠ビル 5F\n日程の指
 定が分からない場合、以下より再送いただいても対応
 いたします。\n
LOCATION:株式会社フリースクエア 〒150-0041　東京都渋谷区
 神南1-9-2 大畠ビル 5F
URL:https://techplay.jp/event/952532?utm_medium=referral&utm_source=ics&utm
 _campaign=ics
END:VEVENT
END:VCALENDAR
