BEGIN:VCALENDAR
VERSION:2.0
PRODID:-//https://techplay.jp//JP
CALSCALE:GREGORIAN
METHOD:PUBLISH
X-WR-CALDESC:ConfluentのシニアSEによるConnector活用術
X-WR-CALNAME:ConfluentのシニアSEによるConnector活用術
X-WR-TIMEZONE:Asia/Tokyo
BEGIN:VTIMEZONE
TZID:Asia/Tokyo
BEGIN:STANDARD
DTSTART:19700101T000000
TZOFFSETFROM:+0900
TZOFFSETTO:+0900
TZNAME:JST
END:STANDARD
END:VTIMEZONE
BEGIN:VEVENT
UID:952651@techplay.jp
SUMMARY:ConfluentのシニアSEによるConnector活用術
DTSTART;TZID=Asia/Tokyo:20240807T160000
DTEND;TZID=Asia/Tokyo:20240807T170000
DTSTAMP:20260421T115711Z
CREATED:20240725T081130Z
DESCRIPTION:イベント詳細はこちら\nhttps://techplay.jp/event/95265
 1?utm_medium=referral&utm_source=ics&utm_campaign=ics\n\nConfluentのテ
 クニカルウェビナー「実践！Connector活用」\nデータベ
 ースのCDCからSaaSへのデータ連携をノーコードで実現！
 \n今回は、Confluentが提供しているCDCコネクターを使っ
 たデータベースのCDC連携を、デモを交えてご紹介いた
 します。\nデータベース間データ連携や、データベー
 スのデータのSaaSサービス（GCP Bigqueryなど）への連携な
 ど、ほぼノーコードで実現する方法をご覧いただくと
 ともに、Connectorの動き方、内部挙動もご説明しますの
 で、これからConnectorを利用を利用される方へ、実践入
 門編として是非ご視聴ください！\n\nタイムスケジュー
 ル\n\n\n\n時間\n内容\n\n\n\n\n16:00〜\n受付開始\n\n\n16:40〜\n
 質疑応答\n\n\n\n\n\n\n\n※ 当日予告なく時間配分・内容
 が変更になる可能性がございます。\n登壇者\n\nくまが
 い　よしなお\nConfluent Japan合同会社　シニアソリュー
 ションエンジニア\n\n参加対象\n\nエンジニア\nデベロッ
 パー\n\n参加費\n無料
LOCATION:
URL:https://techplay.jp/event/952651?utm_medium=referral&utm_source=ics&utm
 _campaign=ics
END:VEVENT
END:VCALENDAR
