BEGIN:VCALENDAR
VERSION:2.0
PRODID:-//https://techplay.jp//JP
CALSCALE:GREGORIAN
METHOD:PUBLISH
X-WR-CALDESC:注目のSNSキャンペーン7事例：消費者巻き込み
 の極意
X-WR-CALNAME:注目のSNSキャンペーン7事例：消費者巻き込み
 の極意
X-WR-TIMEZONE:Asia/Tokyo
BEGIN:VTIMEZONE
TZID:Asia/Tokyo
BEGIN:STANDARD
DTSTART:19700101T000000
TZOFFSETFROM:+0900
TZOFFSETTO:+0900
TZNAME:JST
END:STANDARD
END:VTIMEZONE
BEGIN:VEVENT
UID:953618@techplay.jp
SUMMARY:注目のSNSキャンペーン7事例：消費者巻き込みの極
 意
DTSTART;TZID=Asia/Tokyo:20240808T120000
DTEND;TZID=Asia/Tokyo:20240808T130000
DTSTAMP:20260424T224902Z
CREATED:20240804T201426Z
DESCRIPTION:イベント詳細はこちら\nhttps://techplay.jp/event/95361
 8?utm_medium=referral&utm_source=ics&utm_campaign=ics\n\nYoutube LIVEで
 の配信となりますので、アーカイブ視聴が可能です。
 リアルタイムのご参加が難しい場合にもお申し込みく
 ださいませ！\n--お昼時間のお供に、最新のデジタルプ
 ロモーション知識を身につけませんか🙋‍♀️？キャ
 ンペーン提案や企画に欠かせない、トレンド事例をま
 るっと解説！今年の6-7月に行われたプロモーションを
 、キャンペーンづくりのプロが解説いたします！(2024
 年7月25日開催分と同内容となります。)\n✅イベント概
 要NONAME Produceは、SNS/WEBプロモーションに強い制作会社
 です。これまで200以上の企画・制作を行なって参りま
 した経験を活かし、世の中のプロモーション事例を日
 々研究することで常に最新の知識を発信し続けていま
 す。\n今回のYouTubeLIVEでは、今年行われた選りすぐりの
 キャンペーン事例をピックアップし、どこよりも詳し
 く解説いたします！配信中に、コメント欄からのご質
 問にお答えすることも予定しております。休憩時間の
 お供に、お気軽にご参加ください！\n✏️解説予定の
 事例・ギネス世界記録™達成記念 もっとコバラを満た
 したい！｜ニッスイ・ニベアマイレージキャンペーン2
 024SUMMER｜ニベア花王・胃にはLG21♪習慣 キャンペーン
 ｜株式会社明治・オムライス兄さん×吉野家コラボキ
 ャンペーン｜吉野家・豊岡鞄とつくる 夢のかばんProjec
 t｜豊岡鞄・ビフィズス菌ポーズチャレンジキャンペー
 ン ｜ 森永乳業株式会社・ロックアイスの日2024｜小久
 保製氷冷蔵株式会社\n👤こんな方におすすめ・Web&SNSキ
 ャンペーンのトレンドを知りたい方・Web&SNSキャンペー
 ン提案/企画をされている方・広告代理店勤務の方・自
 社のWeb&SNSキャンペーンに課題を感じている方\n📆日時
 2024年8月8日(木)12:00-\n🌍 会場当日はYouTube Liveでの配信
 を予定しております。お申し込みいただきますと、配
 信がご覧いただけるようになります。\n🎤 登壇者株式
 会社NONAME Produce代表　村上烈\n早稲田大学在学中デザイ
 ンやWEB・イベントに関して独学で学び、在学中に株式
 会社NONAME Produceを設立。デジタルプロモーション領域
 におけるクリエイティブおよび広告制作を行ってきま
 した。その中でもコミュニケーション戦略や、キャン
 ペーンシステムの設計を得意とし、 クリエイティブデ
 ィレクターとしてキャンペーンの企画・制作進行をお
 こなっています。「どうしたら伝わるのか」「説得力
 ある伝わり方」などを整理整頓と想像力を使いながら
 形にしております。お酒とマンガとプロレスが好き\n
 お気軽にご参加くださいませ！
LOCATION:
URL:https://techplay.jp/event/953618?utm_medium=referral&utm_source=ics&utm
 _campaign=ics
END:VEVENT
END:VCALENDAR
