BEGIN:VCALENDAR
VERSION:2.0
PRODID:-//https://techplay.jp//JP
CALSCALE:GREGORIAN
METHOD:PUBLISH
X-WR-CALDESC:基幹システムまで内製化したクレディセゾン -
  来る生成AI時代に向けて
X-WR-CALNAME:基幹システムまで内製化したクレディセゾン -
  来る生成AI時代に向けて
X-WR-TIMEZONE:Asia/Tokyo
BEGIN:VTIMEZONE
TZID:Asia/Tokyo
BEGIN:STANDARD
DTSTART:19700101T000000
TZOFFSETFROM:+0900
TZOFFSETTO:+0900
TZNAME:JST
END:STANDARD
END:VTIMEZONE
BEGIN:VEVENT
UID:954103@techplay.jp
SUMMARY:基幹システムまで内製化したクレディセゾン - 来
 る生成AI時代に向けて
DTSTART;TZID=Asia/Tokyo:20240903T120000
DTEND;TZID=Asia/Tokyo:20240903T130000
DTSTAMP:20260424T020412Z
CREATED:20240808T115528Z
DESCRIPTION:イベント詳細はこちら\nhttps://techplay.jp/event/95410
 3?utm_medium=referral&utm_source=ics&utm_campaign=ics\n\n✍️概要\n
 様々な企業で開発組織の内製化が進んでいるものの、
 基幹システムの内製化まで至っている事例は稀少です
 。本イベントでは、社内API基盤の内製化にとどまらず
 、生成AIを活用したツールの自社開発にも成功された
 クレディセゾン様をお招きします。デジタル人材ゼロ
 の状態から、いかにしてこれほどまでの成果を上げら
 れたのか、その過程で直面した課題や苦悩も交えなが
 ら、貴重なご経験をお話しいただきます。\n登壇者に
 聞いてみたいことを、申込み時のアンケートにご記入
 ください 🙋\nなお、すべてのご質問については触れら
 れない可能性がありますのでご了承ください☆質問はS
 lidoでも受付中！匿名投稿が可能です☆https://app.sli.do/ev
 ent/drWdNTqySTaDwrcnLvnWjw\n🕛タイムテーブル\n\n\n\n時間\nセ
 ッションタイトル\n\n\n\n\n12:00 ~ 12:05\nオープニング\n\n\n
 12:05 ~ 12:45\nクレディセゾンの5年間のDXを振り返る～ス
 マホアプリや社内API基盤の内製開発事例、生成AI系内
 製ツールを交えつつ～\n\n\n12:45 ~ 12:55\n質疑応答\n\n\n12:5
 5 ~ 13:00\nクロージング\n\n\n\n🧑‍💻こんな方におすす
 め\n\n社内のDX推進やデジタル化を進め、開発組織の生
 産性向上の取り組みに繋げたいと考えているマネージ
 ャー・CTO・VPoE、テックリード、リードクラスのエンジ
 ニア\n一部内製化はできているものの拡大がなかなか
 進まず悩んでいる方\n\n☑️イベントのゴール\n\n基幹
 システムの内製化プロセスと、それに伴う課題や解決
 策を理解し、自社での実現可能性を検討する\n生成AIの
 実際の開発事例や知見の獲得方法を学び、自社での応
 用可能性を探る\n内製化による定量的な成果について
 具体的な指標を得て、自社での推進の参考にする\n\n
 🗣️スピーカー\n\n小野 和俊 @lalha2\n株式会社クレディ
 セゾン 取締役（兼）専務執行役員CDO（兼）CTO1999年サ
 ン・マイクロシステムズ株式会社に入社。米国本社で
 の開発などを経て2000年に株式会社アプレッソを起業、
 データ連携ミドルウェアDataSpiderを開発し、SOFTICより年
 間最優秀ソフトウェア賞を受賞。2013年にセゾンテクノ
 ロジーとアプレッソが資本業務提携。2019年に株式会社
 クレディセゾンへ入社。取締役CTOなどを経て、2023年3
 月より現職。\n⚠️諸注意\n\n参加用リンクは開催当日
 までに、参加確定者にconnpass経由で通知します\nエージ
 ェントの方や営業目的でのイベントの参加はご遠慮く
 ださい\n性別/性的指向/障碍の有無/人種/宗教/年齢/容
 姿/体格/技術の選択に関わりなく、 誰もが気持ちよく
 参加できるようにご協力ください\n当イベントの内容
 およびスケジュールは、予告なく変更となる場合があ
 ります。予めご了承ください。\nイベント参加時に入
 力いただいた情報は、以下に基づき扱います。\n\n\nフ
 ァインディ株式会社 プライバシーポリシー\n\n\n\n\n📣
 主催・運営\nファインディ株式会社\n\n\n｢Findy Team+｣エ
 ンジニア組織のパフォーマンス最大化サービス :弊社
 独自の強みである「スキル偏差値」で培ってきたアル
 ゴリズム・ノウハウを活用して、GitHubを連携いただく
 だけで、その組織に属するエンジニアのパフォーマン
 スや活動状況を見える化します。\n\n｢Findy Tools｣：開
 発ツールに特化したレビューサイト。実際に利用して
 いる企業の声を元に、開発ツールの導入や検討に必要
 な情報が集約されており、企業の技術選定をサポート
 。\n
LOCATION:
URL:https://techplay.jp/event/954103?utm_medium=referral&utm_source=ics&utm
 _campaign=ics
END:VEVENT
END:VCALENDAR
