BEGIN:VCALENDAR
VERSION:2.0
PRODID:-//https://techplay.jp//JP
CALSCALE:GREGORIAN
METHOD:PUBLISH
X-WR-CALDESC:まだ遅くない！RPAとAIで業務改善
X-WR-CALNAME:まだ遅くない！RPAとAIで業務改善
X-WR-TIMEZONE:Asia/Tokyo
BEGIN:VTIMEZONE
TZID:Asia/Tokyo
BEGIN:STANDARD
DTSTART:19700101T000000
TZOFFSETFROM:+0900
TZOFFSETTO:+0900
TZNAME:JST
END:STANDARD
END:VTIMEZONE
BEGIN:VEVENT
UID:954215@techplay.jp
SUMMARY:まだ遅くない！RPAとAIで業務改善
DTSTART;TZID=Asia/Tokyo:20240829T130000
DTEND;TZID=Asia/Tokyo:20240829T140000
DTSTAMP:20260420T062823Z
CREATED:20240809T063231Z
DESCRIPTION:イベント詳細はこちら\nhttps://techplay.jp/event/95421
 5?utm_medium=referral&utm_source=ics&utm_campaign=ics\n\n無料セミナ
 ーお申込みはこちら 2024年7月に開催された「バックオ
 フィスDXPO RPA業務プロセス自動化展」では、当社の展
 示ブースにご来場いただいた方から、「生成AI×RPA」「
 RPA e-Learning」「プロセスマイニング」 の3点について、
 特に大きな反響をいただきました。当セミナーではこ
 れらを一挙に、各ソリューションに最も精通した当社
 のコンサルタント3名が、それぞれの魅力を詳しく解説
 いたします。RPA e-Learningのデモンストレーション、UiPat
 hプロセスマイニングの最新情報と導入効果、生成AIを
 用いたUiPathの最新製品「UiPath Autopilot」を活用した実践
 的な活用事例などをご紹介いたします。RPAとAIを駆使
 し、業務改善と効率化を飛躍的に進めるための実践的
 なノウハウをぜひお持ち帰りください。皆様のご参加
 を心よりお待ちしております。━━━━━━━━━━
 ━━━━━━━━━━　プログラム━━━━━━━━
 ━━━━━━━━━━━━第1部「手軽に学べてわかり
 やすい！e-Learningで始めるRPA」　株式会社クレスコ　北
 田 五月第2部「業務の見える化は身近になったUiPathプ
 ロセスマイニングで！その活用術を紹介」　株式会社
 クレスコ　御手洗 敏樹第3部「生成AI×RPA最前線！UiPath 
 Autopilotをデモを交えてより詳しく」　株式会社クレス
 コ　吉田 将明━━━━━━━━━━━━━━━━━━
 ━━　セミナー概要━━━━━━━━━━━━━━━
 ━━━━━日時： 2024年8月29日(木) 13:00 - 14:00場所：Zo
 omウェビナー主催：株式会社クレスコ費用：無料参加
 申込：無料セミナーお申込みはこちら\n※参加方法は
 、申込後にお送りするメールにてご案内いたします。
 ご案内メールに記載されたURLで当日までにウェビナー
 参加登録をお願いいたします。  無料セミナーお申込
 みはこちら
LOCATION:
URL:https://techplay.jp/event/954215?utm_medium=referral&utm_source=ics&utm
 _campaign=ics
END:VEVENT
END:VCALENDAR
