BEGIN:VCALENDAR
VERSION:2.0
PRODID:-//https://techplay.jp//JP
CALSCALE:GREGORIAN
METHOD:PUBLISH
X-WR-CALDESC:8/28 (水) 17:00- 最大75％助成！活用した企業事例
 を紹介！DX人材育成に使える助成金セミナー
X-WR-CALNAME:8/28 (水) 17:00- 最大75％助成！活用した企業事例
 を紹介！DX人材育成に使える助成金セミナー
X-WR-TIMEZONE:Asia/Tokyo
BEGIN:VTIMEZONE
TZID:Asia/Tokyo
BEGIN:STANDARD
DTSTART:19700101T000000
TZOFFSETFROM:+0900
TZOFFSETTO:+0900
TZNAME:JST
END:STANDARD
END:VTIMEZONE
BEGIN:VEVENT
UID:954225@techplay.jp
SUMMARY:8/28 (水) 17:00- 最大75％助成！活用した企業事例を
 紹介！DX人材育成に使える助成金セミナー
DTSTART;TZID=Asia/Tokyo:20240828T170000
DTEND;TZID=Asia/Tokyo:20240828T180000
DTSTAMP:20260420T172302Z
CREATED:20240809T074143Z
DESCRIPTION:イベント詳細はこちら\nhttps://techplay.jp/event/95422
 5?utm_medium=referral&utm_source=ics&utm_campaign=ics\n\n■ プログラ
 ム概要\n2022年11月に開催し大好評だったセミナーを、
 最新情報にバージョンアップさせた内容で、ライブ配
 信いたします。アンケートでは、「助成金活用を実際
 にされている方の事例を伺えたのが有意義でした」や
 「労働局への相談が先決というところが新しい発見で
 した。」など、大変好評いただきました。この機会に
 ぜひご参加ください。\n\n社会のデジタル化が急速に進
 む中、多くの企業が取り組んでいるDXですが、その成
 功のためには、DXを推進する人材の育成が不可欠です
 。しかし、人材育成には相応のコストがかかり、予算
 の確保が課題となりうまく進められていない企業も多
 くあります。\nそのような中で、2022年12月に新設され
 た厚生労働省の人材開発支援助成金制度(事業展開等リ
 スキリング支援コース)は、これまでの制度よりも幅広
 い人材育成に対応し、最大75％という高い助成率であ
 るため、活用が広がりつつあります。しかし、助成金
 制度活用を進めるための具体的な取り組みイメージが
 湧かないために、活用に足踏みをしてしまうケースも
 多くあります。\n本セミナーでは多くの企業が十分に
 活用できていない人材育成に関する人材開発助成金制
 度(事業展開等リスキリング支援コース)について、実
 際に本制度を活用された企業様の、具体的な取り組み
 の進め方や苦労した点等を紹介しながら、活用のため
 のポイントを解説いたします。\n\n■ このような方に
 おすすめ\nDX分野の人材育成を検討している人材育成担
 当者・経営企画部門担当者・事業部門責任者\n\n実際に
 助成金を活用した企業の話を聞きたい方\n予算消化で
 の人材育成を検討している方\n人材育成に活用できる
 助成金について知りたい方\nできる限りコストを下げ
 てDX人材人材育成に取り組みたい方\n\n\n■ タイムスケ
 ジュール\n17:00-17:05　冒頭ご挨拶17:05-17:35　助成金解説1
 7:35-17:45　人材育成の取り組みと助成金活用事例17:45-17:
 55　質疑応答17:55-18:00　告知・アンケート\n\n■ スピー
 カー\n株式会社スキルアップNeXt エクスペリエンス事業
 部 マーケティングユニット / 宮下 元春マーケティン
 グユニットとして、法人・個人を対象にした集客業務
 を担当。AI/DX・GX領域でのリスティング広告やSNS広告の
 企画・運用、メディア記事の執筆を行う。また、法人
 集客担当として、AI/DX人材育成に関する法人向けセミ
 ナーの企画立案、運営、登壇も担当。\n\n■ 日時\n8月28
 日(水)　17:00-18:00 ( 参加費：無料 )\n\n■ 開催場所\nZoom\n
 ※参加URLは、開催前日迄にお申し込みいただいたメー
 ルアドレスにご連絡いたします。メールが届かない方
 は、当日12時迄に info@skillupai.com へお問い合わせくだ
 さい。\n\n■ 注意事項\n※本セミナーは企業様限定のセ
 ミナーとなります。\n※本セミナーの途中入退室は自
 由です。\n※一部プログラムに変更が生じる場合がご
 ざいます。\n※AI/DXに関する人材育成事業を展開されて
 いる企業様からのお申込み、または所属する会社名や
 団体名が特定できない方・記載のない方（個人名のみ
 、フリーランスの方含む）のお申込みは、参加をお断
 りさせていただいております。予めご了承ください。
 　【ご協力のお願い】\n・申込後のキャンセルについ
 ては、前日までにご連絡ください。\n\n■ 個人情報の
 取扱いについて\n\n人材育成サービス利用規約\n\n株式
 会社スキルアップNeXt（旧:スキルアップAI株式会社）が
 実施するセミナーにご参加いただく際には、「人材育
 成サービス利用規約」を遵守いただくことへの同意を
 お願いしております。利用規約はこちらからご確認く
 ださい。\n\n\nプライバシーポリシー\n\n個人情報の取扱
 いについてご同意を頂いた上でお申し込みをお願いし
 ております。プライバシーポリシーはこちらからご確
 認ください。\n\n■ 運営団体\n株式会社スキルアップNeX
 t（旧:スキルアップAI株式会社）\nhttps://www.skillupai.com/
LOCATION:
URL:https://techplay.jp/event/954225?utm_medium=referral&utm_source=ics&utm
 _campaign=ics
END:VEVENT
END:VCALENDAR
