BEGIN:VCALENDAR
VERSION:2.0
PRODID:-//https://techplay.jp//JP
CALSCALE:GREGORIAN
METHOD:PUBLISH
X-WR-CALDESC:【配信終了｜アーカイブ動画公開中！】〜GA4
 よくある5つのギモン ～これだけ押さえればOK！Q＆A 形
 式で徹底解説～
X-WR-CALNAME:【配信終了｜アーカイブ動画公開中！】〜GA4
 よくある5つのギモン ～これだけ押さえればOK！Q＆A 形
 式で徹底解説～
X-WR-TIMEZONE:Asia/Tokyo
BEGIN:VTIMEZONE
TZID:Asia/Tokyo
BEGIN:STANDARD
DTSTART:19700101T000000
TZOFFSETFROM:+0900
TZOFFSETTO:+0900
TZNAME:JST
END:STANDARD
END:VTIMEZONE
BEGIN:VEVENT
UID:954239@techplay.jp
SUMMARY:【配信終了｜アーカイブ動画公開中！】〜GA4よく
 ある5つのギモン ～これだけ押さえればOK！Q＆A 形式で
 徹底解説～
DTSTART;TZID=Asia/Tokyo:20240828T090000
DTEND;TZID=Asia/Tokyo:20240909T180000
DTSTAMP:20260420T105719Z
CREATED:20240809T101759Z
DESCRIPTION:イベント詳細はこちら\nhttps://techplay.jp/event/95423
 9?utm_medium=referral&utm_source=ics&utm_campaign=ics\n\nGA4よくある5
 つのギモン ～これだけ押さえればOK！Q＆A 形式で徹底
 解説～\n※配信は終了いたしました※\n2024年3月12日に
 開催されたオンラインイベントのアーカイブ動画配信
 となります。\n\n\n\n\n公開期間\n2024年8月28日(水)9:00~9月9
 日(月)18:00\n\n\n\n\n実施形態\n8月28日(水)より、アーカイ
 ブ動画の配信を開始いたします。期間中は何度でもご
 視聴いただけます。\n\n\n\n※アンケートにご回答いた
 だいた方にはセミナー資料を無料プレゼントいたしま
 す！\n概要\n3/12に開催し、非常に好評をいただいた「GA
 4よくある5つのギモン ～これだけ押さえればOK！Q＆A形
 式で徹底解説～」のアーカイブを期間限定で全編無料
 公開いたします！GA4に関する疑問を徹底解説したこの
 貴重な機会を、ぜひお見逃しなくご視聴ください。\n
 さらに、9/10に開催予定のウェビナー「まだGA4を活用で
 きていない？今すぐ使えるデータ活用術 ～Looker Studio
 との連携で成果を出す～」も絶賛申込受付中です。\n
 アーカイブ視聴とウェビナー参加の両方で、GA4およびL
 ooker Studioへの理解を深める絶好のチャンスです！今す
 ぐお申し込みください。お申し込みはこちら\nユニバ
 ーサルアナリティクス（UA）のサポートが終了し、2024
 年1月にはデータも削除となって見られなくなりました
 。\nこれまでは移行期間でしたが、いよいよ本格的にGo
 ogleアナリティクス4（GA4）を使いこなしていく必要が
 あります。\n一方で、「急に導入したから設定に不備
 があるかもしれない」「どこをどう見たらいいかわか
 らない」「コンバージョンが少ないので改善したいが
 課題がわからない」といったGA4の利活用に関するお悩
 みの声もよくお聞きします。 そこで今回は、そもそ
 もGA4とは？というところから、ご担当者様が直面しや
 すい「5つのギモン」についてわかりやすく丁寧にお答
 えします。\nまた、実際にGA4を活用したサイトの課題
 を見つける方法や、具体的な改善施策まで実例も交え
 てご紹介いたします！\nぜひアーカイブ動画を視聴し
 て、アクセス解析に必要な考え方や、サイト改善のヒ
 ントを持ち帰ってください。\nChapter\n00:00:00 オープニ
 ング00:02:01 GA4とは？00:09:06 ギモン①GA4で必要な最初の
 設定は？00:11:56 ギモン②GA4はまず、どこをどう見るべ
 き？00:16:48 ギモン③サイトのコンバージョンを設定す
 るには？00:21:14 ギモン④コンバージョン率を上げるに
 はどうしたらいい？00:29:03 ギモン⑤GA4で定期的にレポ
 ートを作成するには？00:34:35 質疑応答00:46:00 エンディ
 ング・アンケート\n登壇者\n\n池嶋佑紀\n株式会社クリ
 ーク・アンド・リバー社　マーケティングプロデュー
 サー\n2016年にクリーク・アンド・リバー社に入社し、
 コンテンツディレクションに特化。食品、自動車、不
 動産、金融、服飾といった多様な業界でLP、インタビ
 ュー記事、動画制作、サイトリニューアルプロジェク
 トに参加。\n2018年からは官公庁のWebサイトの広報担当
 となり、コンテンツ作成、広報活動、イベント運営に4
 年間携わる。現在はデジタルマーケティング支援に焦
 点を当て、Webコンテンツの構築と運用指揮を担当して
 いる。\n専門領域はアクセス解析(GA4)、SEO対策、サイト
 ・コンテンツ設計、CMS運用(WordPress、Drupal)\n\n視聴対象
 者\n・Googleアナリティクス4について基本的なことを学
 びたい方・アナリティクスを用いたサイト改善にお悩
 みの方・Webサイトご担当者様・デジタルマーケティン
 グご担当者様\n視聴後特典\n終了後にアンケートにご回
 答いただいた方には投影資料を特典として無料プレゼ
 ントいたします！
LOCATION:
URL:https://techplay.jp/event/954239?utm_medium=referral&utm_source=ics&utm
 _campaign=ics
END:VEVENT
END:VCALENDAR
