BEGIN:VCALENDAR
VERSION:2.0
PRODID:-//https://techplay.jp//JP
CALSCALE:GREGORIAN
METHOD:PUBLISH
X-WR-CALDESC:【組織力最大化への実践】ワークフローと手
 順書で実現する早期育成と即戦力化
X-WR-CALNAME:【組織力最大化への実践】ワークフローと手
 順書で実現する早期育成と即戦力化
X-WR-TIMEZONE:Asia/Tokyo
BEGIN:VTIMEZONE
TZID:Asia/Tokyo
BEGIN:STANDARD
DTSTART:19700101T000000
TZOFFSETFROM:+0900
TZOFFSETTO:+0900
TZNAME:JST
END:STANDARD
END:VTIMEZONE
BEGIN:VEVENT
UID:954571@techplay.jp
SUMMARY:【組織力最大化への実践】ワークフローと手順書
 で実現する早期育成と即戦力化
DTSTART;TZID=Asia/Tokyo:20240912T110000
DTEND;TZID=Asia/Tokyo:20240912T120000
DTSTAMP:20260423T001240Z
CREATED:20240814T073016Z
DESCRIPTION:イベント詳細はこちら\nhttps://techplay.jp/event/95457
 1?utm_medium=referral&utm_source=ics&utm_campaign=ics\n\n【組織力最
 大化への実践】ワークフローと手順書で実現する早期
 育成と即戦力化\n\n企業の成長には迅速な人材育成と即
 戦力化が必要とされています。しかし実際には現場で
 の優れたオペレーションや情報を全社で素早く共有す
 ることは難しく、属人化してしまうことも。\n本セミ
 ナーでは組織全体のパフォーマンス最大化に向けて、
 ワークフローシステムベンダーのエイトレッドと、動
 画マニュアル作成支援ツールシェアNo.1のスタディスト
 が、業務の可視化や標準化を達成するための方法をお
 伝えします。\n離職防止や人材不足の課題解決にもつ
 ながる、組織力最大化へのアプローチを検討されてい
 る方はぜひご参加ください。 【 このような方におす
 すめ】・業務の属人化にリスクを感じている・社員の
 離職や人材不足に課題を感じている・有効なマニュア
 ル作成を効率的に行いたい・現場のオペレーションや
 情報共有を迅速化したい\n形式\n【会場】オンラインLIV
 E配信\n【参加費】無料※フリーメールアドレスでの参
 加申込は受付けておりませんので予めご了承ください
 。\n主催：株式会社エイトレッド、株式会社スタディ
 スト
LOCATION:
URL:https://techplay.jp/event/954571?utm_medium=referral&utm_source=ics&utm
 _campaign=ics
END:VEVENT
END:VCALENDAR
