BEGIN:VCALENDAR
VERSION:2.0
PRODID:-//https://techplay.jp//JP
CALSCALE:GREGORIAN
METHOD:PUBLISH
X-WR-CALDESC:8/29(木)開催【Facebook広告セミナー】中小企業の
 ための成果の出る Facebook・Instagram広告運用［大阪開催
 ・無料セミナー］
X-WR-CALNAME:8/29(木)開催【Facebook広告セミナー】中小企業の
 ための成果の出る Facebook・Instagram広告運用［大阪開催
 ・無料セミナー］
X-WR-TIMEZONE:Asia/Tokyo
BEGIN:VTIMEZONE
TZID:Asia/Tokyo
BEGIN:STANDARD
DTSTART:19700101T000000
TZOFFSETFROM:+0900
TZOFFSETTO:+0900
TZNAME:JST
END:STANDARD
END:VTIMEZONE
BEGIN:VEVENT
UID:954631@techplay.jp
SUMMARY:8/29(木)開催【Facebook広告セミナー】中小企業のた
 めの成果の出る Facebook・Instagram広告運用［大阪開催・
 無料セミナー］
DTSTART;TZID=Asia/Tokyo:20240829T140000
DTEND;TZID=Asia/Tokyo:20240829T150000
DTSTAMP:20260424T071630Z
CREATED:20240815T004325Z
DESCRIPTION:イベント詳細はこちら\nhttps://techplay.jp/event/95463
 1?utm_medium=referral&utm_source=ics&utm_campaign=ics\n\n【Facebook広
 告セミナー】中小企業のための成果の出る Facebook・Inst
 agram広告運用［大阪開催・無料セミナー］\nWEB集客する
 ならFacebook・Instagram広告！\n中小企業がWEB集客する場合
 に、様々な手法を検討すると思いますが、その中でも
 多くの分野で結果を残すことができる手法が、Facebook
 ・Instagram広告です。本セミナーでは、Facebook・Instagram
 の広告の特徴から、費用の目安、成果を出すためのポ
 イント、事例までお伝えするセミナーです。\n\n\n\n今
 回のFacebook広告・Instagram広告のセミナーは、こんな方
 にお勧めです\n\nこれから、WEB集客に力を入れていきた
 い\n問い合わせや資料請求を増やしたい\n今の広告代理
 店に不安がある\nFacebook・Instagram広告の成果を出す方法
 知りたい\n\n上記のような方は、ぜひセミナーにお越し
 ください。\nフェイスブック広告・インスタグラム広
 告運用セミナーにくれば分かること。\n\n\nFacebook・Insta
 gram広告を使った成果の出し方がわかる\n\n\nどんな場合
 にFacebook・Instagram広告が使えるのかがわかる\n\n\n費用
 の目安がわかる\n\n\nFacebook広告、Instagram広告に違いが
 わかる\n\n\nFacebook・Instagram広告は何が良いのかが分か
 る\n\n\nまた、質疑・応答を通してWebに関するあなたの
 課題に関するヒントが見つかるかもしれません。講師
 や参加者と共に学ぶことによって成長したあなたに出
 会えるでしょう。\nセミナー内容\n\nFacebook・Instagram広
 告の特徴\n費用の目安\n成果を出すためのポイント\n事
 例\n質疑応答\n\nバリューエージェントのセミナー参加
 者の声\n\nIT業界　T.K.様\n初心者にもわかりやすく基礎
 的なことを解説いただけたことが良かったです。あり
 がとうございました。\n\n\n\n鋼材販売業　東大阪市・
 専務取締役Ｈ様.U様\n当社の業種は商圏が狭く、お客様
 となる業種も限られているのでホームページは会社案
 内程度に考えておりましたが、セミナーに参加してま
 だまだ改善をすれば新規開拓に使えると感じました。 
 過去の実績の紹介も多く、まさに「本物のノウハウ」
 だと感じました。ありがとうございました。\n\n\n\n運
 輸倉庫業　貝塚市・専務取締役F様\n改善点はいくらで
 もあることを感じた。分析や運用に力を入れていると
 いう御社の強みに納得出来た。\n\n\nセミナー講師につ
 いて\n株式会社バリューエージェント　代表取締役\nWEB
 マーケッター/WEBコンサルタント\n\n大学卒業後、化粧
 品ECのベンチャー企業や広告代理店などに勤務。ネッ
 トで商品やサービスを販売する仕事を長年行ってきま
 した。個人で長年ブログやYoutubeも運営しており収益化
 も。\n\nセミナー概要・お申込み\nセミナー名【無料セ
 ミナー】中小企業のための成果の出る Facebook・Instagram
 広告運用（オンライン開催）\n対象\n\nFacebook広告、Insta
 gram広告について詳しく知りたい方\n\n\n日時2024年8月29
 日(木)　14:00～15:00（13:50受付開始）\n場所大阪府大阪市
 淀川区西中島3-9-1空研ビル5F　バリューエージェントセ
 ミナールーム※出席の確認もございますので、10分前
 にはご入室頂きますようお願いいたします。\n参加料
 無料\n定員10名
LOCATION:バリューエージェント セミナールーム 大阪市淀
 川区 西中島３丁目9-12  空研ビル5F
URL:https://techplay.jp/event/954631?utm_medium=referral&utm_source=ics&utm
 _campaign=ics
END:VEVENT
END:VCALENDAR
