BEGIN:VCALENDAR
VERSION:2.0
PRODID:-//https://techplay.jp//JP
CALSCALE:GREGORIAN
METHOD:PUBLISH
X-WR-CALDESC:プログラミング体験セミナー『ブラックボッ
 クス最適化を活用した材料探索』
X-WR-CALNAME:プログラミング体験セミナー『ブラックボッ
 クス最適化を活用した材料探索』
X-WR-TIMEZONE:Asia/Tokyo
BEGIN:VTIMEZONE
TZID:Asia/Tokyo
BEGIN:STANDARD
DTSTART:19700101T000000
TZOFFSETFROM:+0900
TZOFFSETTO:+0900
TZNAME:JST
END:STANDARD
END:VTIMEZONE
BEGIN:VEVENT
UID:955008@techplay.jp
SUMMARY:プログラミング体験セミナー『ブラックボックス
 最適化を活用した材料探索』
DTSTART;TZID=Asia/Tokyo:20240925T140000
DTEND;TZID=Asia/Tokyo:20240925T160000
DTSTAMP:20260423T144438Z
CREATED:20240820T022502Z
DESCRIPTION:イベント詳細はこちら\nhttps://techplay.jp/event/95500
 8?utm_medium=referral&utm_source=ics&utm_campaign=ics\n\n概要\n株式
 会社 Fixstars Amplify では、最適化クラウド「Fixstars Amplify
 」を活用した社会課題の解決と実業務への適用を進め
 ています。\n本セミナーでは、組合せ最適化問題の概
 要や、組合せ最適化問題を解くための専用マシンであ
 る量子アニーリング・イジングマシンをご紹介した後
 、最近多方面より注目を集めているブラックボックス
 最適化の概要や活用事例を紹介し、材料探索をテーマ
 としたブラックボックス最適化のワークショップを行
 います。\nワークショップでは、無料版のFixstars Amplify
 とサンプルプログラムを活用して、ご自身のPCより実
 際にブラックボックス最適化問題を解いていただきま
 す。\n量子アニーリング・イジングマシンの活用方法
 や、ブラックボックス最適化にご興味がある方、材料
 探索の実務をより効率的に行いたい企業の研究部門や
 アカデミアの研究者の方々におすすめの内容となって
 います。ぜひご参加ください。\nタイムスケジュール\n
 \n\n\n時間\n内容\n\n\n\n\n14:00-14:30\n第一部・フィックスタ
 ーズの紹介・組合せ最適化問題・イジングマシン・事
 例の紹介・Fixstars Amplifyの紹介\n\n\n14:35-16:00\n第二部・
 ブラックボックス最適化の概要・事例のご紹介（材料
 探索、翼形状の最適化、機械学習の特徴量抽出等）・
 ブラックボックス最適化を活用した材料探索のワーク
 ショップ・Amplify-BBOptの紹介と実装例・Q&A\n\n\n\n※ 途中
 休憩あり、途中入退室可※ 予告なく内容等が変更にな
 る場合があります※ Zoomの表示名は、申し込み時のお
 名前でお願いします\n登壇者\n源 勇気株式会社 Fixstars A
 mplify ディレクター\n轟 貴久株式会社Fixstars Amplify シニ
 アディレクター\n参加対象\n\n量子アニーリング・イジ
 ングマシンの活用方法や、ブラックボックス最適化に
 ご興味がある企業の研究部門やアカデミアの研究者\n
 実験やシミュレーションの回数を減らしながら材料探
 索をより効率的に行いたい方\n\n参加費\n\n無料\n\n注意
 事項\n\nご参加前に事前準備をお願いします。\n配信映
 像や音声は各自の通信環境に依存します。なるべく通
 信環境の良い状態で視聴ください。\n参加を辞退する
 場合は、詳細ページよりお申し込みのキャンセルをお
 願いします。\nリクルーティング、勧誘などのご参加
 はお断りしております。\n\n
LOCATION:
URL:https://techplay.jp/event/955008?utm_medium=referral&utm_source=ics&utm
 _campaign=ics
END:VEVENT
END:VCALENDAR
