BEGIN:VCALENDAR
VERSION:2.0
PRODID:-//https://techplay.jp//JP
CALSCALE:GREGORIAN
METHOD:PUBLISH
X-WR-CALDESC:メタバースで終活セミナー
X-WR-CALNAME:メタバースで終活セミナー
X-WR-TIMEZONE:Asia/Tokyo
BEGIN:VTIMEZONE
TZID:Asia/Tokyo
BEGIN:STANDARD
DTSTART:19700101T000000
TZOFFSETFROM:+0900
TZOFFSETTO:+0900
TZNAME:JST
END:STANDARD
END:VTIMEZONE
BEGIN:VEVENT
UID:955135@techplay.jp
SUMMARY:メタバースで終活セミナー
DTSTART;TZID=Asia/Tokyo:20240823T170000
DTEND;TZID=Asia/Tokyo:20240823T180000
DTSTAMP:20260426T041821Z
CREATED:20240820T152447Z
DESCRIPTION:イベント詳細はこちら\nhttps://techplay.jp/event/95513
 5?utm_medium=referral&utm_source=ics&utm_campaign=ics\n\nメタバース
 で終活セミナー\n「完結葬の事・終活の事・お葬式の
 事」\n概要\n「おまかせ完結葬」では、株式会社NTT QONOQ
 （以下、コノキュー）が、提供する仮想空間プラット
 フォーム「DOOR」で、2024年8月23・24日に開催するメタバ
 ース展示会&ライブイベント内で、オンラインセミナー
 を開催します。■お話仏教普及会　完結葬　代表僧侶
 　釈　清浄(シャク　ショウジョウ)が、お坊さんの立
 場からお話していただきます。おまかせ完結葬ルーム
 では、スタップが、終活に関するご相談にお答えしま
 す。■日時　2024年8月23日(金)15時00分～■場所　仮想空
 間プラットフォーム「DOOR」　　　　　DOOR URL https://door
 .ntt/LaGaDZ5/おまかせ完結葬ルーム◆おまかせ完結葬 　
 公式ホームページURL https://omakase-kanketsusou.com/ご相談・
 お見積りは全て無料です。Web受付・24時間OKお問合わせ
 ・資料請求・お申込みはこちら【URL】http://omakase-kankets
 usou.com/お電話での受付は、完結葬仏教普及会公認　取
 次ぎ窓口　アイン・おまかせ完結葬〒597-0073 大阪府貝
 塚市脇浜１丁目17-9-1営業時間　09:00から18:00【TEL】072-44
 7-5280◆「第2回メタバース展示会 & メタバース・クロス
 オーバーライブ～メタバースで、アピールしちゃいま
 す。～」　公式ホームページURL https://ds-field.com/metavarse
 2024/本空間は「DOOR」を用いて制作しています。※「DOOR
 」はNTTコノキューが提供する、WEBブラウザで使える仮
 想空間プラットフォームです。バーチャル空間で、イ
 ベントの開催、コンテンツの展示等に活用でき、法人
 ・個人問わず、様々な業界の方にご活用いただけるサ
 ービスです。https://door.ntt/\n
LOCATION:
URL:https://techplay.jp/event/955135?utm_medium=referral&utm_source=ics&utm
 _campaign=ics
END:VEVENT
END:VCALENDAR
