BEGIN:VCALENDAR
VERSION:2.0
PRODID:-//https://techplay.jp//JP
CALSCALE:GREGORIAN
METHOD:PUBLISH
X-WR-CALDESC:9/25（水）Amazon QuickSightを活用したデータ分析
 導入支援セミナー開催のお知らせ
X-WR-CALNAME:9/25（水）Amazon QuickSightを活用したデータ分析
 導入支援セミナー開催のお知らせ
X-WR-TIMEZONE:Asia/Tokyo
BEGIN:VTIMEZONE
TZID:Asia/Tokyo
BEGIN:STANDARD
DTSTART:19700101T000000
TZOFFSETFROM:+0900
TZOFFSETTO:+0900
TZNAME:JST
END:STANDARD
END:VTIMEZONE
BEGIN:VEVENT
UID:955447@techplay.jp
SUMMARY:9/25（水）Amazon QuickSightを活用したデータ分析導入
 支援セミナー開催のお知らせ
DTSTART;TZID=Asia/Tokyo:20240925T150000
DTEND;TZID=Asia/Tokyo:20240925T155000
DTSTAMP:20260425T010835Z
CREATED:20240823T050253Z
DESCRIPTION:イベント詳細はこちら\nhttps://techplay.jp/event/95544
 7?utm_medium=referral&utm_source=ics&utm_campaign=ics\n\n9/25（水）Ama
 zon QuickSightを活用したデータ分析導入支援ウェビナー
 開催のお知らせ\n概要\n株式会社TOKAIコミュニケーショ
 ンズは、2024年9月25日（水）に、Amazon QuickSightを活用し
 たデータ分析導入支援セミナーを開催します。\n皆様
 、社内で蓄積されたデータを活用したいと思ったこと
 はございませんでしょうか。\n「売上データから今後
 の需要を予測したい」「労働時間をもとに生産現場で
 の最適な人員配置を割り出したい」など、社内データ
 を分析・可視化することにより実現できることはたく
 さんあります。昨今ではBI（Business Intelligence）やBIツー
 ルなどという言葉も生まれているほどです。\nしかし
 、データ分析を行うためには専門的な知識を持った人
 材の確保や、分析に時間がかかるほか、「すでに分析
 はしているけどExcelでは限界がある」という課題を抱
 えている方もいらっしゃるのではないでしょうか。\n
 そこで、今回はAWSが提供するBIツールであるAmazon QuickSi
 ghtの利用デモを交えながら、データ分析が企業の成長
 に必要な理由、Amazon QuickSightの機能紹介、当社が導入
 時にサポートできる内容などをご紹介します。\nデモ
 では「売上の可視化」「生産管理業務の可視化」につ
 いて触れ、Amazon QuickSightの操作方法や利用イメージを
 持つことができます。\nBIツール導入に興味がある担当
 者の方・導入決定検討立場の方に、是非ご参加いただ
 きたいセミナーです。皆様のご参加、お待ちしており
 ます。\n<このような方におすすめのウェビナーです>・
 BIツールは難しそうだけど、業務効率化のために導入
 したい・売上分析を素早く実施し、意思決定に利用し
 たい・生産管理業務を効率化したい・Excelによるデー
 タ管理をやめたい・コストをかけずにBIツールを利用
 開始したい\nタイムスケジュール\n\n\n\n時間\n内容\n\n\n\
 n\n14:45〜15:00\n受付開始\n\n\n15:00〜15:05\n講演開始のご案
 内\n\n\n15:05〜15:15\nAmazon QuickSightによるデータのビジネ
 ス活用講演社名：アマゾン ウェブ サービス ジャパン 
 合同会社\n\n\n15:15〜15:30\nAmazon QuickSightスターターパッ
 クのご紹介講演社名：株式会社TOKAIコミュニケーショ
 ンズ\n\n\n15:30〜15:45\nDemoCentralで体験しよう！Amazon QuickSi
 ght講演社名：アマゾン ウェブ サービス ジャパン 合同
 会社\n\n\n15:45〜15:50\n講演終了のご案内\n\n\n\n※ 当日予
 告なく時間配分・内容が変更になる可能性がございま
 す。\n参加費\n無料\n注意事項\n\nリクルーティング、勧
 誘など、採用目的でのイベント参加はお断りしており
 ます。\nキャンセル待ち・補欠・落選の方はご参加い
 ただくことが出来ませんのでご了承ください。\n欠席
 される場合は、お手数ですが速やかにキャンセル処理
 をお願い致します。\n無断キャンセルや欠席が続く場
 合、次回以降の参加をお断りさせていただく場合がご
 ざいます。\n
LOCATION:
URL:https://techplay.jp/event/955447?utm_medium=referral&utm_source=ics&utm
 _campaign=ics
END:VEVENT
END:VCALENDAR
