BEGIN:VCALENDAR
VERSION:2.0
PRODID:-//https://techplay.jp//JP
CALSCALE:GREGORIAN
METHOD:PUBLISH
X-WR-CALDESC:【企業のためのChatGPT活用セミナー】業務効率
 化とROI向上のための実践ガイド
X-WR-CALNAME:【企業のためのChatGPT活用セミナー】業務効率
 化とROI向上のための実践ガイド
X-WR-TIMEZONE:Asia/Tokyo
BEGIN:VTIMEZONE
TZID:Asia/Tokyo
BEGIN:STANDARD
DTSTART:19700101T000000
TZOFFSETFROM:+0900
TZOFFSETTO:+0900
TZNAME:JST
END:STANDARD
END:VTIMEZONE
BEGIN:VEVENT
UID:955665@techplay.jp
SUMMARY:【企業のためのChatGPT活用セミナー】業務効率化と
 ROI向上のための実践ガイド
DTSTART;TZID=Asia/Tokyo:20240829T140000
DTEND;TZID=Asia/Tokyo:20240829T150000
DTSTAMP:20260420T202746Z
CREATED:20240826T051810Z
DESCRIPTION:イベント詳細はこちら\nhttps://techplay.jp/event/95566
 5?utm_medium=referral&utm_source=ics&utm_campaign=ics\n\nこんにちは
 ！このたび、弊社では「企業のためのChatGPT活用セミナ
 ー」を開催いたします。このウェビナーでは、ChatGPTを
 活用して業務効率化とROI（投資対効果）向上を目指す
 企業向けに、具体的な成功事例と導入ステップを中心
 とした実践ガイドを提供いたします。\n\n■ 日時2024年8
 月29日（木）14:00〜15:00■ 形式オンライン（Zoom）■ 定
 員30名（先着順）■ 参加費無料\n\n◆ ウェビナー概要\n
 ChatGPTを活用することで、業務の効率化とROIの向上をど
 のように実現できるかを、具体的な事例を交えて解説
 します。また、生成AIの最新動向や実際の応用方法に
 ついてもお話しします。セミナー内容：\n\n\nChatGPTの基
 本と活用法ChatGPTの基礎から、ビジネスにおける具体的
 な活用方法までを詳しく説明します。\n\n成功事例の紹
 介実際にChatGPTを導入した企業の成功事例を紹介し、そ
 の効果と導入プロセスを解説します。\n\nROI向上の戦略
 ChatGPTを活用してROIを向上させるための戦略をお伝えし
 ます。\n\n参加者限定特典のご案内\n\n\nチェックリスト
 100：業務効率化のための重要なポイントをまとめたチ
 ェックリストを提供します。\n\n活用事例61選：多様な
 企業の具体的な成功事例を収録した資料をプレゼント
 します。\n\nウェビナー資料の共有：ウェビナーで使用
 したスライドや資料を全て共有します。\n\nアーカイブ
 のプレゼント：ウェビナーにご参加いただいた方限定
 で、後日アーカイブを視聴いただけます。\n\n\n\n\n◆ 
 こんな方におすすめです\n\n事業にAI導入を検討中の企
 業担当者\n業務効率化を目指す経営者・管理職\n自力で
 AI導入を試みたがうまくいっていない経営者・管理職\n
 \nAIを導入したものの成果が出ない、またはこれから導
 入を検討している方には必見の内容です。皆様のご参
 加をお待ちしております！\n\n◆ 登壇者紹介\n\n平本 健
 祐\n株式会社コルモアナ　代表取締役 CEO早稲田大学卒
 業。 大手金融機関へ総合職入社。中堅・中小企業様へ
 の法人営業に従事。その後、大手メガベンチャーへエ
 ンジニアとして転職。金融機関向け通帳・家計簿アプ
 リ開発に携わる。その後人材系ベンチャー企業を経て
 、株式会社コルモアナを創業。現在は企業研修、AIコ
 ンサルティング事業、システム開発事業など様々な事
 業を展開している。\n\n◆ こんな方におすすめです\n\n
 事業にAI導入を検討中の企業担当者\n業務効率化を目指
 す経営者・管理職\n自力でAI導入を試みたがうまくいっ
 ていない経営者・管理職\n\nAIを導入したものの成果が
 出ない、またはこれから導入を検討している方には必
 見の内容です。\nそれでは、ウェビナーでお会いでき
 るのを楽しみにしております！
LOCATION:
URL:https://techplay.jp/event/955665?utm_medium=referral&utm_source=ics&utm
 _campaign=ics
END:VEVENT
END:VCALENDAR
