BEGIN:VCALENDAR
VERSION:2.0
PRODID:-//https://techplay.jp//JP
CALSCALE:GREGORIAN
METHOD:PUBLISH
X-WR-CALDESC:【オンライン・視聴無料】”手戻り削減”に
 効く！製品開発部門のための情報活用術
X-WR-CALNAME:【オンライン・視聴無料】”手戻り削減”に
 効く！製品開発部門のための情報活用術
X-WR-TIMEZONE:Asia/Tokyo
BEGIN:VTIMEZONE
TZID:Asia/Tokyo
BEGIN:STANDARD
DTSTART:19700101T000000
TZOFFSETFROM:+0900
TZOFFSETTO:+0900
TZNAME:JST
END:STANDARD
END:VTIMEZONE
BEGIN:VEVENT
UID:955719@techplay.jp
SUMMARY:【オンライン・視聴無料】”手戻り削減”に効く
 ！製品開発部門のための情報活用術
DTSTART;TZID=Asia/Tokyo:20240912T160000
DTEND;TZID=Asia/Tokyo:20240912T164500
DTSTAMP:20260421T123925Z
CREATED:20240826T072951Z
DESCRIPTION:イベント詳細はこちら\nhttps://techplay.jp/event/95571
 9?utm_medium=referral&utm_source=ics&utm_campaign=ics\n\n”手戻り削
 減”に効く！製品開発部門のための情報活用術概要\n
 現代の製品開発部門はかつてないほど厳しい環境に直
 面しており、開発スケジュールの短期化、新技術や競
 合製品の台頭、さらにはカーボンニュートラルなどの
 社会的な要請により、求められる基準がますます高く
 なっている状況です。このような中で、いかに手戻り
 を少なくし、効率的に製品開発を進めるかが重要な課
 題となっています。\n手戻りの少ない製品開発を実現
 するためのポイントの一つが「情報の活用」です。最
 新の技術情報や法規制、競合の動向、そして社内で蓄
 積された膨大な情報をいかに効率的に集め、開発プロ
 セスに反映させるかが成功の鍵となります。\n今回の
 セミナーでは、製品開発をスムーズに進めるための情
 報収集・活用のポイントを、ものづくりに必要な論文
 ・特許・ニュース・社内情報をワンストップで収集し
 、AIが皆様の関心に合わせてお届けする「Anews」ととも
 にご紹介します。\n参加対象\n\n製品開発における効率
 性にお悩みの方\n効率的かつ成果の出る開発を推進し
 たいとお考えの方\n新しい技術情報のキャッチアップ
 を積極的に進めたい方\n\n開催概要\n日　　　時：2024年
 9月12日(木) 16:00-16:45場　　　所：オンライン（Zoom）参
 　加　費：無料\n登壇者\n\n橋本 詩織\nストックマーク
 株式会社　Marketer\n2010年新卒として、BtoBに特化したマ
 ーケティング支援を行っている株式会社エムエム総研
 に入社。大企業向けの新規営業に従事したのち、自社
 の新規事業のマーケティング戦略立案からインサイド
 セールス、セミナー、クリエイティブのディレクショ
 ンなど広く担当。並行して自社の組織開発推進を行い
 、ミッション・ビジョンや自社の経営方針の組織への
 浸透、人事評価制度の改定などを推進。2021年1月スト
 ックマークに入社。\nストックマークとは\nストックマ
 ークは「価値創造の仕組みを再発明し、人類を前進さ
 せる」をミッションに掲げ、最先端の自然言語処理技
 術を活用し、多くの企業様の事業創造活動を支援して
 おります。\n自然言語処理技術を活用し、国内外約3万5
 千サイトの膨大なビジネスニュースを分類。業務に直
 結する情報をAIが届けることで、組織の情報感度を高
 め、事業アイディアの着想と組織内での発展を促す「A
 news」、AIが組織や業務に合わせて必要な情報を構造化
 し、示唆が得られる市場調査サービス「Astrategy」によ
 って企業様の新たな価値創造をサポートしています。\
 n■Anewshttps://stockmark.co.jp/product/anews■Astrategyhttps://stockma
 rk.co.jp/product/astrategy\n注意事項\n\n競合企業などのご参
 加をお断りする場合がございます。予めご了承くださ
 いませ。\n
LOCATION:
URL:https://techplay.jp/event/955719?utm_medium=referral&utm_source=ics&utm
 _campaign=ics
END:VEVENT
END:VCALENDAR
