BEGIN:VCALENDAR
VERSION:2.0
PRODID:-//https://techplay.jp//JP
CALSCALE:GREGORIAN
METHOD:PUBLISH
X-WR-CALDESC:IT部門のあるべき姿 企業を支えるIT基盤を強化
 する方法
X-WR-CALNAME:IT部門のあるべき姿 企業を支えるIT基盤を強化
 する方法
X-WR-TIMEZONE:Asia/Tokyo
BEGIN:VTIMEZONE
TZID:Asia/Tokyo
BEGIN:STANDARD
DTSTART:19700101T000000
TZOFFSETFROM:+0900
TZOFFSETTO:+0900
TZNAME:JST
END:STANDARD
END:VTIMEZONE
BEGIN:VEVENT
UID:955818@techplay.jp
SUMMARY:IT部門のあるべき姿 企業を支えるIT基盤を強化す
 る方法
DTSTART;TZID=Asia/Tokyo:20241017T140000
DTEND;TZID=Asia/Tokyo:20241017T160000
DTSTAMP:20260421T213509Z
CREATED:20240827T055811Z
DESCRIPTION:イベント詳細はこちら\nhttps://techplay.jp/event/95581
 8?utm_medium=referral&utm_source=ics&utm_campaign=ics\n\nIT部門のあ
 るべき姿 企業を支えるIT基盤を強化する方法\n概要\nIT
 部門の皆様は、既存システムのメンテナンスやITシス
 テム戦略の立案、導入プロジェクトの推進、デバイス
 管理、セキュリティ対策など、日々多岐にわたる業務
 に取り組んでおられることと思います。\nまた、最近
 ではセキュリティ被害の増加や円安によるAWSなどのイ
 ンフラコスト上昇、基幹システム導入時のトラブルと
 いったニュースが、皆様の業務にも大きな影響を与え
 ているのではないでしょうか。\nこのような状況下で
 、IT基盤を見直したり、具体的な対策を進めている企
 業も増えてきています。\n本ウェビナーでは、IT部門の
 皆様が直面しているこれらの課題に対し、「システム
 戦略の策定と実行」、「既存システムのメンテナンス
 効率化」、そして「セキュリティ対策強化」という3つ
 のテーマに基づいた解決策をご紹介します。\nぜひご
 参加いただき、日々の業務を効率化し、企業のIT基盤
 を強化するための具体的な知識と実践的なスキルを学
 んでください。\nタイムスケジュール\n\nシステム戦略
 の策定と実行\n\n14：00‐14：30\n目的を達成するための
 システム戦略と実行手順\nERP導入はいまや単なるシス
 テム導入ではなく、企業変革への手段となっています
 。本セッションではRFP作成前に押さえておきたい、「
 経営戦略」「プロジェクトデザイン」「業務プロセス
 の再設計」といった計画策定プロセスについて言及し
 ます。株式会社システムインテグレータ　執行役員 エ
 ンタープライズ開発本部長 小泉 智之\n\n既存システム
 のメンテナンス効率化\n\n14：30‐15：00\n情シスのため
 のRPA活用術を覗いてみた\n\nRPAは多くの企業で利用され
 ています。経理や総務などの自動化事例はweb等でもよ
 く出てきますが、情シスの業務効率化事例は中々出て
 きていない状態です。今回は、様々な観点から情シス
 のためのRPA活用術を集めてみました。株式会社NTTデー
 タ アセットビジネス担当 課長代理 山田 優樹 \n15：00
 ‐15：30\nローコードツールで既存システムを活かし、D
 X推進を加速！\nDX推進が求められる中、どのように進
 めるべきか迷う情報システム担当者の皆様へ。特に、
 大きな投資を伴わずに効果を実感したい方々に向けて
 、国内製ローコードツール「TALON（タロン）」を活用
 し、既存のシステムを最大限に活かしつつ、必要な仕
 組みを自社で構築する方法をご紹介します。システム
 部門と事業部門が協力し、共にDXを実現するための実
 践的なアプローチをお伝えします。株式会社HOIPOI 代表
 取締役 中小企業診断士 古関 雄介 \n\nセキュリティ対
 策強化\n\n15：30‐16：00　\nDXを加速させるゼロトラスト
 のセキュリティ戦略～そのアカウントの権限は正しい
 ですか？～\n個人情報流出の事故が多発する中、情シ
 ス部門担当者はその対策に頭を悩ませていると思いま
 す。全社員が「最小権限の法則」に則り、安全に運用
 していくためにはどのようにすべきでしょうか？ゼロ
 トラスト対策の中心となる、IDと利用システム毎の権
 限設定の自動化を進めるクラウド型のID管理サービス
 、その導入メリットについてお話します。\n登壇者\n\n
 山田 太郎\n株式会社山田 代表取締役\n登壇者略歴\n\n\n\
 n佐藤 一郎\n株式会社山田 開発事業部 主任\n登壇者略
 歴\n\n参加費\n無料
LOCATION:
URL:https://techplay.jp/event/955818?utm_medium=referral&utm_source=ics&utm
 _campaign=ics
END:VEVENT
END:VCALENDAR
