BEGIN:VCALENDAR
VERSION:2.0
PRODID:-//https://techplay.jp//JP
CALSCALE:GREGORIAN
METHOD:PUBLISH
X-WR-CALDESC:【初心者向け】SEOを簡単に始められる10のステ
 ップ
X-WR-CALNAME:【初心者向け】SEOを簡単に始められる10のステ
 ップ
X-WR-TIMEZONE:Asia/Tokyo
BEGIN:VTIMEZONE
TZID:Asia/Tokyo
BEGIN:STANDARD
DTSTART:19700101T000000
TZOFFSETFROM:+0900
TZOFFSETTO:+0900
TZNAME:JST
END:STANDARD
END:VTIMEZONE
BEGIN:VEVENT
UID:955932@techplay.jp
SUMMARY:【初心者向け】SEOを簡単に始められる10のステッ
 プ
DTSTART;TZID=Asia/Tokyo:20240906T120000
DTEND;TZID=Asia/Tokyo:20240906T130000
DTSTAMP:20260419T181213Z
CREATED:20240828T033224Z
DESCRIPTION:イベント詳細はこちら\nhttps://techplay.jp/event/95593
 2?utm_medium=referral&utm_source=ics&utm_campaign=ics\n\n【初心者向
 け】SEOを簡単に始められる10のステップ\n2024年9月6日(
 金)12:00~\n**「SEO対策…何から手をつければいい？」**と
 悩める人必見！SEO初心者の方にも分かりやすいように
 、弊社の事例も交えながらSEO対策の流れを紹介します\
 n【こんな方におすすめ！】・SEOを理解したい方・SEOの
 進め方がわからない方・SEO対策への取り組みが合って
 いるか不安な方\n「今すぐ実践すべき10ステップ」を1
 時間でわかりやすく解説！ウェビナー終了後、すぐに
 手を動かしたくなるウェビナーです。奮ってご参加く
 ださい！\nこのセミナーで学べること\n\n\n最新SEOの基
 礎と考え方\n\n\n売上を上げるためのSEOの方法\n\n\nSEO対
 策の始め方\n\n\nSEOのリアルな成功事例と失敗事例\n\n\nS
 EO対策におすすめのツール\n\n\nこんな方におすすめ\n\n\
 nSEOを理解したい方\n\n\nSEOの進め方がわからない方\n\n\n
 SEO対策への取り組みが合っているか不安な方\n\n\n登壇
 者\n太田 健吾\n株式会社エッコWebマーケティング事業
 部リーダー　太田 健吾\n名古屋大学大学院を卒業後、
 大阪大学にて企業との共同製品開発プロジェクトを担
 当。開発から販売戦略立案までを経験した後、独立し
 てWebコンサルタントとして活動することになる。個人
 事業から年商数百億規模の企業まで、多種多様な業種
 のWebサイトの業績UPを支援し現在は株式会社エッコの
 マーケティング責任者を務めている。Web集客手法だけ
 に留まらず、事業戦略や広報活動など多岐に渡る提案
 を得意とする。\nセミナー詳細\n開催日時：2024年9月6日
 （金）12:00~13:00場所：オンライン（Zoom）※お申し込み
 登録後、視聴用URLが送付されます参加費：無料主催：
 株式会社エッコ\n注意事項\n\nリクルーティング、勧誘
 など、採用目的でのイベント参加はお断りしておりま
 す。\nキャンセル待ち・補欠・落選の方はご参加いた
 だくことが出来ませんのでご了承ください。\n欠席さ
 れる場合は、お手数ですが速やかにキャンセル処理を
 お願い致します。\n無断キャンセルや欠席が続く場合
 、次回以降の参加をお断りさせていただく場合がござ
 います。\n
LOCATION:
URL:https://techplay.jp/event/955932?utm_medium=referral&utm_source=ics&utm
 _campaign=ics
END:VEVENT
END:VCALENDAR
