BEGIN:VCALENDAR
VERSION:2.0
PRODID:-//https://techplay.jp//JP
CALSCALE:GREGORIAN
METHOD:PUBLISH
X-WR-CALDESC:【使いやすいCMSの秘密】デモで体感する更新
 の簡単さ
X-WR-CALNAME:【使いやすいCMSの秘密】デモで体感する更新
 の簡単さ
X-WR-TIMEZONE:Asia/Tokyo
BEGIN:VTIMEZONE
TZID:Asia/Tokyo
BEGIN:STANDARD
DTSTART:19700101T000000
TZOFFSETFROM:+0900
TZOFFSETTO:+0900
TZNAME:JST
END:STANDARD
END:VTIMEZONE
BEGIN:VEVENT
UID:956062@techplay.jp
SUMMARY:【使いやすいCMSの秘密】デモで体感する更新の簡
 単さ
DTSTART;TZID=Asia/Tokyo:20240919T140000
DTEND;TZID=Asia/Tokyo:20240919T143000
DTSTAMP:20260424T105429Z
CREATED:20240829T034049Z
DESCRIPTION:イベント詳細はこちら\nhttps://techplay.jp/event/95606
 2?utm_medium=referral&utm_source=ics&utm_campaign=ics\n\n【使いやす
 いCMSの秘密】デモで体感する更新の簡単さ\n概要\nCMS選
 定にあたり担当者は、コストよりも「操作性の高さ」
 を重視*しており、サイトコンテンツの更新・運用の手
 軽さを課題として抱えています。\n直感的に操作がで
 きるサイト・パブリスのCMSは、この課題を解決。ペー
 ジ更新の様子や、その他運用に役立つ各種機能を、デ
 モ形式でお伝えします。*2023年12月当社実施の実態調査
 より \nこんな方におすすめ\n\nCMSの導入・リプレイス
 を検討している\n現在のCMSが操作面・運用面で使いづ
 らさを感じている\nCMSを使った実作業内容をイメージ
 したい\n\n\n登壇者\n株式会社サイト・パブリス\n営業部
 　セクションリーダー 中田 匡俊CADベンダー会社にて
 、東日本の営業部門リーダーを経験。 サイト・パブリ
 ス入社後は大手様のCMS導入、サイト構築の営業を担当
 。 現在は、営業リーダーとして提案活動に従事してい
 ます。\n開催日時／場所\n開催日時：9月19日（木）14:00-
 14:30開催場所：オンライン\n参加費\n無料\nアーカイブ
 動画\n期間限定で申込者向けに公開\n参加特典\nセミナ
 ー資料データ（聴講後アンケートの回答者限定）\n注
 意事項\n\n聴講URLの共有はできかねますため、同一企業
 様から複数名でご参加の場合、お手数ですがお一人様
 ずつ申込フォームをお送りください。\nリクルーティ
 ング、勧誘など、採用目的でのイベント参加はお断り
 しております。\nキャンセル待ち・補欠・落選の方は
 ご参加いただくことが出来ませんのでご了承ください
 。\n欠席される場合は、お手数ですが速やかにキャン
 セル処理をお願い致します。\n無断キャンセルや欠席
 が続く場合、次回以降の参加をお断りさせていただく
 場合がございます。\n
LOCATION:
URL:https://techplay.jp/event/956062?utm_medium=referral&utm_source=ics&utm
 _campaign=ics
END:VEVENT
END:VCALENDAR
