BEGIN:VCALENDAR
VERSION:2.0
PRODID:-//https://techplay.jp//JP
CALSCALE:GREGORIAN
METHOD:PUBLISH
X-WR-CALDESC:初学者向けハンズオン ワークショップ！はじ
 めて動かす Docker コンテナー
X-WR-CALNAME:初学者向けハンズオン ワークショップ！はじ
 めて動かす Docker コンテナー
X-WR-TIMEZONE:Asia/Tokyo
BEGIN:VTIMEZONE
TZID:Asia/Tokyo
BEGIN:STANDARD
DTSTART:19700101T000000
TZOFFSETFROM:+0900
TZOFFSETTO:+0900
TZNAME:JST
END:STANDARD
END:VTIMEZONE
BEGIN:VEVENT
UID:956188@techplay.jp
SUMMARY:初学者向けハンズオン ワークショップ！はじめて
 動かす Docker コンテナー
DTSTART;TZID=Asia/Tokyo:20240919T140000
DTEND;TZID=Asia/Tokyo:20240919T170000
DTSTAMP:20260423T013915Z
CREATED:20240829T174550Z
DESCRIPTION:イベント詳細はこちら\nhttps://techplay.jp/event/95618
 8?utm_medium=referral&utm_source=ics&utm_campaign=ics\n\n初学者向け
 ハンズオン ワークショップ！はじめて動かす Docker コ
 ンテナー\n概要\nこのハンズオン ワークショップでは
 、Docker の基礎から始め、さまざまなコンテナーの操作
 、Docker イメージの作成や管理方法を学びます。 本ワ
 ークショップは Docker Desktop を触ってみたい、もっと活
 用したいという方を対象としています。2024 年 5 月 23 
 日に開催したハンズオン ワークショップとベースの内
 容は同じですが、今回はハイブリッド開催いたします
 。講師は、Docker キャプテンである前佛氏が務めます。
 この機会をお見逃しなく！\nアジェンダ\n\nDocker の概要
 \nセットアップ\nDocker コンテナーの実行\nDocker イメー
 ジの作成\nDocker Hub\nDocker Compose\nコマンドのまとめ\nQ&A\n
 \n事前準備\nお使いのマシンにあらかじめ Docker Desktop 
 をインストールしておいてください。 Docker Desktop のイ
 ンストール方法は以下よりご確認下さい。\n\n\nDocker Des
 ktop for Windows\n\n\nDocker Desktop for Mac\n\n\nDocker Desktop for Linu
 x\n\n\n今まで一切 Docker に触れたことがない方は、以下
 の資料に目を通していただいてから、本トレーニング
 に参加することを推奨いたします。Docker ユーザー ガ
 イド※ Docker Desktop をインストールする環境をご用意で
 きない方は、別途、仮想マシン (さくらのクラウド) 上
 の Docker Desktop をご提供 (トレーニング時間のみ) しま
 すので、お申し込みフォームの「仮想環境の利用を希
 望する」をチェックしてください (また、その場合は L
 inux 環境にログインできる SSH クライアントをご用意く
 ださい)。\n参加対象\n\nDocker 初心者 (使い始めて半年以
 内の方)\nDocker 中級者 (より Docker を活用していきたい
 方)\n\n参加費\n無料\n講師\nDocker キャプテン 前佛 雅人 (
 @zembutsu)さくらインターネット株式会社 | ES 本部教育企
 画部 | Technical Communicatorデータセンターで物理サーバー
 運用保守に従事した経験を活かし、クラウド技術に関
 連するオープンソース活動等に携わる。Docker のドキュ
 メント翻訳や技術情報の発信を行い、2023年、日本人で
 初めて Docker キャプテンとして活動中。近年は技術の
 バックグラウンドを活かし、社内外の教育や人事部門
 の業務に携わる。\n田淵 義人 (@ytabuchi)エクセルソフト
 株式会社 | ソフトウェア事業部 | 新規事業開発室室長
 エクセルソフトのセールスエンジニア。DevOps、API、コ
 ンテナーなどのツール、サービスを主に担当していま
 す。\n備考\n\n本トレーニングは Zoom を利用して開催い
 たします。参加申請頂いた方には随時 Zoom への登録を
 行います。\n\n注意事項\n\nリクルーティング、勧誘な
 ど、採用目的でのイベント参加はお断りしております
 。\nキャンセル待ち・補欠・落選の方はご参加いただ
 くことが出来ませんのでご了承ください。\n欠席され
 る場合は、お手数ですが速やかにキャンセル処理をお
 願い致します。\n無断キャンセルや欠席が続く場合、
 次回以降の参加をお断りさせていただく場合がござい
 ます。\n
LOCATION:エクセルソフト株式会社セミナー ルーム 東京都
 港区三田 3-9-9 森伝ビル 6F
URL:https://techplay.jp/event/956188?utm_medium=referral&utm_source=ics&utm
 _campaign=ics
END:VEVENT
END:VCALENDAR
